BEGIN:VCALENDAR
VERSION:2.0
PRODID:-//ChamberMaster//Event Calendar 2.0//EN
METHOD:PUBLISH
X-PUBLISHED-TTL:P3D
REFRESH-INTERVAL:P3D
CALSCALE:GREGORIAN
BEGIN:VEVENT
DTSTART:20140312T133000Z
DTEND:20140312T170000Z
X-MICROSOFT-CDO-ALLDAYEVENT:FALSE
SUMMARY:2014 Capitol Consulting Day
DESCRIPTION:ACEC/MN members are invited to St. Paul on Wednesday\, March 12\, 2014 from 8:30 AM to 12:00 PM to participate in the 16th annual Capitol Consulting Day. \n\n \n\nOnce again\, we are offering two tracks. One for those members familiar with the legislative process who plan to meet with legislators and a second for those less familiar with the process who are interested in learning more about how the legislature works
X-ALT-DESC;FMTTYPE=text/html:<span style="font-size:12px\;"><span style="font-family: arial\;">ACEC/MN members are invited to St. Paul on Wednesday\, March 12\, 2014 from 8:30 AM to 12:00 PM to participate in the 16<sup>th</sup> annual Capitol Consulting Day. </span></span><br />\n&nbsp\;<br />\n<span style="font-family:arial\,sans-serif\;"><span style="font-size:10.0pt\;">Once again\, we are offering two tracks. One for those members familiar with the legislative process who plan to meet with legislators and a second for those less familiar with the process who are interested in learning more about how the legislature works</span></span>
LOCATION:Room 500 South State Office Building (Southwest of the Capitol) 100 Dr. Rev. Martin Luther King Jr. Blvd.
UID:e.9128.847
SEQUENCE:3
DTSTAMP:20260424T231254Z
URL:http://cecm.memberzone.com/events/details/2014-capitol-consulting-day-03-12-2014-847
END:VEVENT

END:VCALENDAR
