BEGIN:VCALENDAR
VERSION:2.0
PRODID:-//ChamberMaster//Event Calendar 2.0//EN
METHOD:PUBLISH
X-PUBLISHED-TTL:P3D
REFRESH-INTERVAL:P3D
CALSCALE:GREGORIAN
BEGIN:VEVENT
DTSTART:20151005T160000Z
DTEND:20151005T190000Z
X-MICROSOFT-CDO-ALLDAYEVENT:FALSE
SUMMARY:2015 Fall Welcome and Expo
DESCRIPTION:Simon Anderson Acclaimed Global Futurist and Award-Winning Author to Address Members at Fall Welcome Reception & Expo\n\nHow to Future-Proof Your Business Against Tomorrow's Transformational Trends\, Today\n\n\n\nIn the near future\, one of the greatest changes for the engineering field will be the accelerating rate of change itself. In this enlightening\, entertaining and educational session\, Simon will outline how the internet of things and other technological trends will transform the business and engineering world. Simon also identifies concrete actions we all can take today to future-proof ourselves against the "tides of tomorrow."\n\nIf you are a new\, current or former ACEC/MN member\, or if you're interested in learning more about ACEC/MN\, come to our Monthly Meeting/Fall Welcome Reception Luncheon! The affiliate member expo is back so you can learn more about the services and benefits affiliate members offer. Contact Melissa at Melissa@acecmn.org to learn more about the expo opportunity.\n \n\nWhy should you attend? \n\n\n	Multiple chances to win fabulous door prizes\n	Learn about ACEC/MN committees and events (expo before and after presentation)\n	Meet the ACEC/MN Board of Directors & Staff \n	Socialize with your colleagues \n\nPresenter: Simon Anderson is a professional futurist and emerging technology and trends consultant. As a keynote speaker\, he has shared his compelling message with thousands from coast to coast in the United States\, as well as internationally. Simon is dedicated to helping leaders and organizations recognize opportunities in emerging technologies and trends. Having traveled to more than 25 countries\, Simon brings a global perspective to his work\, which has been featured in numerous publications.\n\n\n\nYou can download the Monthly Meeting notice here
X-ALT-DESC;FMTTYPE=text/html:<strong><span style="color:black\;"><span style="font-family:arial\,sans-serif\;"><span style="font-size:10.5pt\;">Simon Anderson Acclaimed Global Futurist and Award-Winning Author </span></span></span></strong><strong><span style="font-family:arial\,sans-serif\;"><span style="font-size:10.5pt\;">to Address Members at Fall Welcome Reception &amp\; Expo</span></span></strong><br />\n<strong><span style="font-family:arial\,sans-serif\;"><span style="font-size:10.5pt\;">How to Future-Proof Your Business Against Tomorrow&#39\;s Transformational Trends\, Today</span></span></strong><br />\n<br />\n<span style="font-family:arial\,sans-serif\;">In the near future\, one of the greatest changes for the engineering field will be the accelerating rate of change itself. In this enlightening\, entertaining and educational session\, Simon will outline how the internet of things and other technological trends will transform the business and engineering world. Simon also identifies concrete actions we all can take today to future-proof ourselves against the &quot\;tides of&nbsp\;tomorrow.&quot\;</span>\n\n<p><span style="font-family:arial\;"><span style="font-size: 12pt\;"><span style="font-size:12px\;">If you are a new\, current or former ACEC/MN member\, or if you&#39\;re interested in learning more about ACEC/MN\, come to our Monthly Meeting/Fall Welcome Reception Luncheon! The affiliate member expo is back so you can learn more about the services and benefits affiliate members offer. Contac<span style="color: rgb(31\, 73\, 125)\;">t </span><span style="color: black\;">Melissa at <a href="mailto:Melissa@acecmn.org"><span style="color: blue\;">Melissa@acecmn.org</span></a> to learn more about the expo opportunity.</span></span></span></span></p>\n<span style="font-family:arial\;"><span style="font-size: 12pt\;">&nbsp\;<br />\n<span style="color: black\;">Why should you attend?&nbsp\;</span></span></span>\n\n<ul>\n	<li style="line-height:normal\;"><span style="font-family:arial\,sans-serif\;"><span style="font-size:10.0pt\;">Multiple chances to win fabulous door prizes</span></span></li>\n	<li style="line-height:normal\;"><span style="color:black\;"><span style="font-family:arial\,sans-serif\;"><span style="font-size:10.0pt\;">Learn about ACEC/MN committees and events (expo before and after presentation)</span></span></span></li>\n	<li style="line-height:normal\;"><span style="color:black\;"><span style="font-family:arial\,sans-serif\;"><span style="font-size:10.0pt\;">Meet the ACEC/MN Board of Directors &amp\; Staff </span></span></span></li>\n	<li style="line-height:normal\;"><span style="color:black\;"><span style="font-family:arial\,sans-serif\;"><span style="font-size:10.0pt\;">Socialize with your colleagues </span></span></span></li>\n</ul>\n<strong><span style="font-family:arial\,sans-serif\;"><span style="font-size:10.0pt\;">Presenter</span></span></strong><span style="font-family:arial\,sans-serif\;"><span style="font-size:10.0pt\;">: Simon Anderson is a professional futurist and emerging technology and trends consultant. As a keynote speaker\, he has shared his compelling message with thousands from coast to coast in the United States\, as well as internationally. Simon is dedicated to helping leaders and organizations recognize opportunities in emerging technologies and trends. Having traveled to more than 25 countries\, Simon brings a global perspective to his work\, which has been featured in numerous publications.<br />\n<br />\nYou can download the Monthly Meeting notice <a href="http://cloud.chambermaster.com/userfiles/UserFiles/chambers/9128/File/Monthly_Meetings_2015/FallWelcome15.pdf"><span style="color:blue\;">here</span></a></span></span>
LOCATION:Location: Marriott Minneapolis West 9960 Wayzata Blvd\, MN Minnetonka (952/544-4000) (Located on the north frontage road of I-394 between Hwy 169 & Hopkins Crossroad ? directly across from the ACEC/MN office)
UID:e.9128.944
SEQUENCE:3
DTSTAMP:20260423T124418Z
URL:http://cecm.memberzone.com/events/details/2015-fall-welcome-and-expo-10-05-2015-944
END:VEVENT

END:VCALENDAR
