BEGIN:VCALENDAR
VERSION:2.0
PRODID:-//ChamberMaster//Event Calendar 2.0//EN
METHOD:PUBLISH
X-PUBLISHED-TTL:P3D
REFRESH-INTERVAL:P3D
CALSCALE:GREGORIAN
BEGIN:VEVENT
DTSTART:20161005T200000Z
DTEND:20161005T230000Z
X-MICROSOFT-CDO-ALLDAYEVENT:FALSE
SUMMARY:5th Annual ACEC/MN "Shoot for the PAC" Competition
DESCRIPTION:ACEC/MN is pleased to announce the fifth annual Clay Shoot Competition at the Minnesota Horse & Hunt Club in Prior Lake\, Minnesota (2920 East 220th Street Prior Lake\, MN 55372). Mark your calendars and plan on joining your colleagues for a fun afternoon of clay shooting with proceeds supporting the ACEC/MN PAC. Plan your teams now!\n\n \n\nAll skill levels are invited. Shooters are limited\, so register early. Awards will be distributed at dinner immediately following the competition.\n\n \n\nSCHEDULE:\n\n3:00 PM - Sign-In\n\n3:30 PM - Sporting Clay Competition\n\n5:30 PM - Social - Drinks & Pulled Pork dinner buffet\n\n \n\nPRICING: Includes 75 clays\, keg beer and/or lemonade (cash bar on other beverages)\, and pulled pork dinner.\n\n\n\nTeam of 4 Shooters - $500.00\n\nIndividual Adults - $150.00\n\nIndividual Youth* - $100.00\n\n\n\n*Youth shooters must be between the ages of 12 & 17 years old with a Fire Arms Safety certificate. Two youth shooters may be on a team at the discount rate. A maximum of four (4) shooters are allowed on a team including youth shooters.\n\n\n\nComplete this form to participate. Personal checks are required. Registration deadline is September 16\, 2016
X-ALT-DESC;FMTTYPE=text/html:<span style="color:#221E1F\;"><span style="font-size:10.0pt\;">&#8203\;<br />\nACEC/MN is pleased to announce the fifth annual Clay Shoot Competition at the Minnesota Horse &amp\; Hunt Club in Prior Lake\, Minnesota (</span></span><span style="color:black\;"><span style="font-size:10pt\;">2920 East 220th Street Prior Lake\, MN 55372). </span></span><span style="color:black\;"><span style="font-size:10.0pt\;">Mark your calendars and plan on joining your colleagues for a fun afternoon of clay shooting with proceeds supporting the ACEC/MN PAC. Plan your teams now!</span></span><br />\n&nbsp\;<br />\n<span style="color:#221E1F\;"><span style="font-family:arial\,sans-serif\;"><span style="font-size:10.0pt\;">All skill levels are invited. Shooters are limited\, so register early. Awards will be distributed at dinner immediately following the competition.</span></span></span><br />\n&nbsp\;<br />\n<strong><span style="color:#221E1F\;"><span style="font-family:arial\,sans-serif\;"><span style="font-size:10.0pt\;">SCHEDULE:</span></span></span></strong><br />\n<span style="color:#221E1F\;"><span style="font-family:arial\,sans-serif\;"><span style="font-size:10.0pt\;">3:00 PM - Sign-In</span></span></span><br />\n<span style="color:#221E1F\;"><span style="font-family:arial\,sans-serif\;"><span style="font-size:10.0pt\;">3:30 PM - Sporting Clay Competition</span></span></span><br />\n<span style="color:#221E1F\;"><span style="font-family:arial\,sans-serif\;"><span style="font-size:10.0pt\;">5:30 PM - Social - Drinks &amp\; Pulled Pork dinner buffet</span></span></span><br />\n&nbsp\;<br />\n<strong><span style="color:#221E1F\;"><span style="font-family:arial\,sans-serif\;"><span style="font-size:10.0pt\;">PRICING:</span></span></span></strong><span style="color:#221E1F\;"><span style="font-family:arial\,sans-serif\;"><span style="font-size:10.0pt\;"> Includes 75 clays\, keg beer and/or lemonade (cash bar on other beverages)\, and pulled pork dinner</span></span></span><span style="color:#1F497D\;"><span style="font-family:arial\,sans-serif\;"><span style="font-size:10.0pt\;">.</span></span></span><br />\n<br clear="all" />\n<strong><span style="color:#221E1F\;"><span style="font-family:arial\,sans-serif\;"><span style="font-size:10.0pt\;">Team of 4 Shooters</span></span></span></strong><span style="color:#221E1F\;"><span style="font-family:arial\,sans-serif\;"><span style="font-size:10.0pt\;"> - $500.00</span></span></span><br />\n<strong><span style="color:#221E1F\;"><span style="font-family:arial\,sans-serif\;"><span style="font-size:10.0pt\;">Individual Adults</span></span></span></strong><span style="color:#221E1F\;"><span style="font-family:arial\,sans-serif\;"><span style="font-size:10.0pt\;"> - $150.00</span></span></span><br />\n<strong><span style="font-family:arial\,sans-serif\;"><span style="font-size:10.0pt\;">Individual Youth*</span></span></strong><span style="font-family:arial\,sans-serif\;"><span style="font-size:10.0pt\;"> <span style="color:#221E1F\;">- $100.00</span></span></span><br />\n<br clear="all" />\n<span style="font-family:arial\,sans-serif\;"><span style="font-size:10.0pt\;">*Youth shooters must be between the ages of 12 &amp\; 17 years old with a Fire Arms Safety certificate. Two youth shooters may be on a team at the discount rate.&nbsp\;A maximum of four (4) shooters are allowed on a team including youth shooters.<br />\n<br />\nComplete this <u><strong><a href="https://chambermaster.blob.core.windows.net/userfiles/UserFiles/chambers/9128/File/ShootforthePACFlyer20161.pdf">form</a></strong></u>&nbsp\;to participate. Personal checks are required.<strong>&nbsp\;Registration deadline is September 16\, 2016</strong></span></span><br />\n&nbsp\;
LOCATION:Minnesota Horse & Hunt Club in Prior Lake 2920 East 220th Street Prior Lake\, MN 55372
UID:e.9128.1093
SEQUENCE:3
DTSTAMP:20260422T100146Z
URL:http://cecm.memberzone.com/events/details/5th-annual-acec-mn-shoot-for-the-pac-competition-10-05-2016-1093
END:VEVENT

END:VCALENDAR
