BEGIN:VCALENDAR
VERSION:2.0
PRODID:-//ChamberMaster//Event Calendar 2.0//EN
METHOD:PUBLISH
X-PUBLISHED-TTL:P3D
REFRESH-INTERVAL:P3D
CALSCALE:GREGORIAN
BEGIN:VEVENT
DTSTART:20181003T200000Z
DTEND:20181004T000000Z
X-MICROSOFT-CDO-ALLDAYEVENT:FALSE
SUMMARY:7th Annual "Shoot for the PAC" Clay Shoot Competition
DESCRIPTION:The 7th annual clay shoot will be on Wednesday\, October 3\, 2018 at the Minnesota Horse & Hunt Club located at 2920 East 220th Street Prior Lake\, MN 55372.\n\n\n\nMark your calendars now and plan on joining your colleagues for a fun afternoon of clay shooting with proceeds supporting the ACEC/MN PAC. Plan your teams early!\n\n\n\nDownload the registration form here.
X-ALT-DESC;FMTTYPE=text/html:<span style="font-size:14px\;"><span style="font-family:arial\;"><span style="color:black\;">The 7<sup>th</sup> annual clay shoot will be on Wednesday\, October 3\, 2018 at the Minnesota Horse &amp\; Hunt Club located at 2920 East 220th Street Prior Lake\, MN 55372.<br />\n<br />\nMark your calendars now and plan on joining your colleagues for a fun afternoon of clay shooting with proceeds supporting the ACEC/MN PAC. Plan your teams early!<br />\n<br />\n<a href="https://wordpressstorageaccount.blob.core.windows.net/wp-media/wp-content/uploads/sites/649/2018/08/Shoot-for-the-PAC-Flyer-2018.pdf"><strong>Download the registration form here</strong>.</a></span></span></span>
LOCATION:Minnesota Horse & Hunt Club 2920 East 220th Street Prior Lake\, MN 55372
UID:e.9128.1289
SEQUENCE:3
DTSTAMP:20260420T073504Z
URL:http://cecm.memberzone.com/events/details/7th-annual-shoot-for-the-pac-clay-shoot-competition-1289
END:VEVENT

END:VCALENDAR
