BEGIN:VCALENDAR
VERSION:2.0
PRODID:-//ChamberMaster//Event Calendar 2.0//EN
METHOD:PUBLISH
X-PUBLISHED-TTL:P3D
REFRESH-INTERVAL:P3D
CALSCALE:GREGORIAN
BEGIN:VEVENT
DTSTART;VALUE=DATE:20190330
DTEND;VALUE=DATE:20190331
TRANSP:TRANSPARENT
X-MICROSOFT-CDO-ALLDAYEVENT:TRUE
SUMMARY:ACEC/MN Basketball Tournament
DESCRIPTION:The annual ACEC/MN basketball tournament will take place on Saturday\, March 30 at Bloomington Kennedy High School. We are expecting another great turnout this year! Trophies will be awarded to the top teams and profits from the tournament go to the ACEC/MN scholarship fund. Help make a difference in our future engineers by participating!\n\n\n\nIf your firm is interested in participating\, please contact Justin Schmidt at justinsc@bolton-menk.com.
X-ALT-DESC;FMTTYPE=text/html:<span style="font-size:14px\;"><span style="font-family:arial\,sans-serif\;">The annual ACEC/MN basketball tournament will take place on Saturday\, March 30 at Bloomington Kennedy High School. We are expecting another great turnout this year!&nbsp\;Trophies will be awarded to the top teams and profits from the tournament go to the ACEC/MN scholarship fund. Help make a difference in our future engineers by participating!<br />\n<br />\nIf your firm is interested in participating\, please contact Justin Schmidt at <strong><a href="mailto:justinsc@bolton-menk.com"><span style="font-weight:normal\;">justinsc@bolton-menk.com</span></a></strong>.&nbsp\;</span></span>
LOCATION:Bloomington Kennedy High School 9701 Nicollet Avenue Bloomington\, MN 55420
UID:e.9128.1322
SEQUENCE:3
DTSTAMP:20260419T222529Z
URL:http://cecm.memberzone.com/events/details/acec-mn-basketball-tournament-1322
END:VEVENT

END:VCALENDAR
