BEGIN:VCALENDAR
VERSION:2.0
PRODID:-//ChamberMaster//Event Calendar 2.0//EN
METHOD:PUBLISH
X-PUBLISHED-TTL:P3D
REFRESH-INTERVAL:P3D
CALSCALE:GREGORIAN
BEGIN:VEVENT
DTSTART:20141023T123000Z
DTEND:20141023T150000Z
X-MICROSOFT-CDO-ALLDAYEVENT:FALSE
SUMMARY:ACEC/MN partnered with SMPS: The New Leadership: Four Styles to Grow
DESCRIPTION:Leaders offer different strengths. In truth\, a style that comes naturally to you may feel like torture to another leader. Forcing accountability on the wrong activities results in less efficiency and inconsistent client service. Ingenuity Marketing Group principal and author\, Wendy Nemitz\, has identified four primary leadership styles found in every professional services firm. What will you learn from attending this presentation?\n\n\n	Determine your personal leadership style\n	Identify how your style can make you a more valuable asset at your firm\n	Learn how your leadership style helps you retain and gain additional clients \n\nWendy's approach can help management\, strategic planners and marketing professionals at your firm (from principals to staff) assign goals to the "right" people! This is your opportunity to identify and improve your leadership skills. Make sure you and your firm are the best lead and the most efficient!\n\n \n\nWho should attend: Anyone currently in a leadership role\, looking to become a leader or just wanting to discover more about their leadership styles should attend this seminar. \n\n***Wendy's book\, "Leadership: A New Conversation\," will be available for purchase at the event.)***\n\n                                                                                                                                \n\nPresenter: Wendy Nemitz has an M.A. in leadership and founded Ingenuity Marketing Group in 1992\, which has grown to 12 staff and a national market for professional service firm consulting and implementation. As a marketer\, business development trainer and leadership coach since 1987\, Wendy travels extensively in the United States and abroad\, working with executives\, marketing and sales teams and other professionals to help them create a whole-firm marketing and business development process that significantly improves results. She facilitates strategic planning retreats\, high potential young professionals training\, and other programs to help leaders get on the same page and gain a premium market position.
X-ALT-DESC;FMTTYPE=text/html:<span style="font-family:arial\,sans-serif\;"><span style="font-size:11.0pt\;">Leaders offer different strengths. </span></span><span style="color:#252526\;"><span style="font-family:arial\,sans-serif\;"><span style="font-size:11.0pt\;">In truth\, a style that comes naturally to you may feel like torture to another leader. Forcing accountability on the wrong activities results in less efficiency and inconsistent client service. Ingenuity Marketing Group principal and author\, Wendy Nemitz\, has identified four primary leadership styles found in every professional services firm. What will you learn from attending this presentation?</span></span></span>\n\n<ul>\n	<li><span style="font-size:14px\;"><span style="color: rgb(37\, 37\, 38)\;"><span style="font-family: arial\,sans-serif\;">Determine your personal leadership style</span></span></span></li>\n	<li><span style="font-size:14px\;"><span style="color: rgb(37\, 37\, 38)\;"><span style="font-family: arial\,sans-serif\;">Identify how your style can make you a more valuable asset at your firm</span></span></span></li>\n	<li><span style="font-size:14px\;"><span style="color: rgb(37\, 37\, 38)\;"><span style="font-family: arial\,sans-serif\;">Learn how your leadership style helps you retain and gain additional clients </span></span></span></li>\n</ul>\n<span style="color:#252526\;"><span style="font-family:arial\,sans-serif\;"><span style="font-size:11.0pt\;">Wendy&rsquo\;s approach can help management\, strategic planners and marketing professionals at your firm (from principals to staff) assign goals to the &ldquo\;right&rdquo\; people! This is your opportunity to identify and improve your leadership skills. Make sure you and your firm are the best lead and the most efficient!</span></span></span><br />\n&nbsp\;<br />\n<span style="color:#252526\;"><span style="font-family:arial\,sans-serif\;"><span style="font-size:11.0pt\;">Who should attend: Anyone currently in a leadership role\, looking to become a leader or just wanting to discover more about their leadership styles should attend this seminar. </span></span></span><br />\n<strong><span style="color:#252526\;"><span style="font-family:arial\,sans-serif\;"><span style="font-size:11.0pt\;">***Wendy&rsquo\;s book\, &ldquo\;Leadership: A New Conversation\,&rdquo\; will be available for purchase at the event.)***</span></span></span></strong><br />\n&nbsp\;&nbsp\;&nbsp\;&nbsp\;&nbsp\;&nbsp\;&nbsp\;&nbsp\;&nbsp\;&nbsp\;&nbsp\;&nbsp\;&nbsp\;&nbsp\;&nbsp\;&nbsp\;&nbsp\;&nbsp\;&nbsp\;&nbsp\;&nbsp\;&nbsp\;&nbsp\;&nbsp\;&nbsp\;&nbsp\;&nbsp\;&nbsp\;&nbsp\;&nbsp\;&nbsp\;&nbsp\;&nbsp\;&nbsp\;&nbsp\;&nbsp\;&nbsp\;&nbsp\;&nbsp\;&nbsp\;&nbsp\;&nbsp\;&nbsp\;&nbsp\;&nbsp\;&nbsp\;&nbsp\;&nbsp\;&nbsp\;&nbsp\;&nbsp\;&nbsp\;&nbsp\;&nbsp\;&nbsp\;&nbsp\;&nbsp\;&nbsp\;&nbsp\;&nbsp\;&nbsp\;&nbsp\;&nbsp\;&nbsp\;&nbsp\;&nbsp\;&nbsp\;&nbsp\;&nbsp\;&nbsp\;&nbsp\;&nbsp\;&nbsp\;&nbsp\;&nbsp\;&nbsp\;&nbsp\;&nbsp\;&nbsp\;&nbsp\;&nbsp\;&nbsp\;&nbsp\;&nbsp\;&nbsp\;&nbsp\;&nbsp\;&nbsp\;&nbsp\;&nbsp\;&nbsp\;&nbsp\;&nbsp\;&nbsp\;&nbsp\;&nbsp\;&nbsp\;&nbsp\;&nbsp\;&nbsp\;&nbsp\;&nbsp\;&nbsp\;&nbsp\;&nbsp\;&nbsp\;&nbsp\;&nbsp\;&nbsp\;&nbsp\;&nbsp\;&nbsp\;&nbsp\;&nbsp\;&nbsp\;&nbsp\;&nbsp\;&nbsp\;&nbsp\;&nbsp\;&nbsp\;&nbsp\;&nbsp\;&nbsp\;&nbsp\;&nbsp\;&nbsp\;&nbsp\;<br />\n<strong><span style="color:black\;"><span style="font-family:arial\,sans-serif\;"><span style="font-size:11.0pt\;">Presenter</span></span></span></strong>: <strong><span style="font-family:arial\,sans-serif\;"><span style="font-size:11.0pt\;">Wendy Nemitz</span></span></strong><span style="font-family:arial\,sans-serif\;"><span style="font-size:11.0pt\;"> has an M.A. in leadership and founded Ingenuity Marketing Group in 1992\, which has grown to 12 staff and a national market for professional service firm consulting and implementation. As a marketer\, business development trainer and leadership coach since 1987\, Wendy travels extensively in the United States and abroad\, working with executives\, marketing and sales teams and other professionals to help them create a whole-firm marketing and business development process that significantly improves results. She facilitates strategic planning retreats\, high potential young professionals training\, and other programs to help leaders get on the same page and gain a premium market position.&nbsp\; </span></span>&nbsp\;
LOCATION:Sheraton Minneapolis West\, Minnetonka (12201 Ridgedale Drive\, 952-593-0000) Located across the street from Ridgedale Shopping Center (on the southeast side) www.sheraton.com/minneapolis
UID:e.9128.878
SEQUENCE:3
DTSTAMP:20260424T102107Z
URL:http://cecm.memberzone.com/events/details/acec-mn-partnered-with-smps-the-new-leadership-four-styles-to-grow-10-23-2014-878
END:VEVENT

END:VCALENDAR
