BEGIN:VCALENDAR
VERSION:2.0
PRODID:-//ChamberMaster//Event Calendar 2.0//EN
METHOD:PUBLISH
X-PUBLISHED-TTL:P3D
REFRESH-INTERVAL:P3D
CALSCALE:GREGORIAN
BEGIN:VEVENT
DTSTART;VALUE=DATE:20130419
DTEND;VALUE=DATE:20130420
TRANSP:TRANSPARENT
X-MICROSOFT-CDO-ALLDAYEVENT:TRUE
SUMMARY:Acrow Bridge: The Evolution of the Bailey Modular Thru Truss
DESCRIPTION:Jeff Simkins\, Acrow Corporation
X-ALT-DESC;FMTTYPE=text/html:Jeff Simkins\, Acrow Corporation
LOCATION:Minneapolis Marriott West Minnetonka
UID:e.9128.200
SEQUENCE:3
DTSTAMP:20260426T042415Z
URL:http://cecm.memberzone.com/events/details/acrow-bridge-the-evolution-of-the-bailey-modular-thru-truss-04-19-2013-200
END:VEVENT

END:VCALENDAR
