BEGIN:VCALENDAR
VERSION:2.0
PRODID:-//ChamberMaster//Event Calendar 2.0//EN
METHOD:PUBLISH
X-PUBLISHED-TTL:P3D
REFRESH-INTERVAL:P3D
CALSCALE:GREGORIAN
BEGIN:VEVENT
DTSTART:20140909T200000Z
DTEND:20140909T230000Z
X-MICROSOFT-CDO-ALLDAYEVENT:FALSE
SUMMARY:Annual PAC Educational Event
DESCRIPTION:The ACEC/MN Political Action Committee (PAC) has set up a unique member forum that brings the Minnesota House Democratic and Republican leaders together. They have secured Speaker of the House Paul Thissen and House Minority Leader  Kurt Daudt to give us their vision for the House if their party is in the majority after this year's election. We have enlisted TPT political report Mary Lahammer as the moderator. This free annual PAC sponsored Educational Event is your opportunity to learn more about the issues and the political process. We strongly encourage you to attend this event.
X-ALT-DESC;FMTTYPE=text/html:The ACEC/MN Political Action Committee (PAC) has set up a unique member forum that brings the Minnesota House Democratic and Republican leaders together. They have secured Speaker of the House Paul Thissen and House Minority Leader &nbsp\;Kurt Daudt to give us their vision for the House if their party is in the majority after this year&rsquo\;s election. We have enlisted TPT political report Mary Lahammer as the moderator. This free annual PAC sponsored Educational Event is your opportunity to learn more about the issues and the political process. We strongly encourage you to attend this event.
LOCATION:Where: Marriott Minneapolis West\, 9960 Wayzata Blvd.\, Minnetonka\, MN (952/544-4400) (Located on the north frontage road of I-394 between Hwy 169 and Hopkins Crossroads Directly across from the ACEC/MN office)
UID:e.9128.876
SEQUENCE:3
DTSTAMP:20260424T143647Z
URL:http://cecm.memberzone.com/events/details/annual-pac-educational-event-09-09-2014-876
END:VEVENT

END:VCALENDAR
