BEGIN:VCALENDAR
VERSION:2.0
PRODID:-//ChamberMaster//Event Calendar 2.0//EN
METHOD:PUBLISH
X-PUBLISHED-TTL:P3D
REFRESH-INTERVAL:P3D
CALSCALE:GREGORIAN
BEGIN:VEVENT
DTSTART;VALUE=DATE:20180217
DTEND;VALUE=DATE:20180218
TRANSP:TRANSPARENT
X-MICROSOFT-CDO-ALLDAYEVENT:TRUE
SUMMARY:Annual Scholarship Basketball Tournament
DESCRIPTION:The annual ACEC/MN basketball tournament will take place on Saturday\, February 17 at Bloomington Kennedy High School. We are expecting another great turnout this year! Trophies will be awarded to the top teams and profits from the tournament go to the ACEC/MN scholarship fund. \n\n\n\nProceeds of this event goes toward the ACEC/MN scholarship fund. If your firm is interested in participating\, please contact Justin Schmidt at justinsc@bolton-menk.com. \n\n\n\nThe deadline to sign up is February 5\, 2018.
X-ALT-DESC;FMTTYPE=text/html:<span style="font-family:arial\,sans-serif\;"><span style="font-size:10.0pt\;">The annual ACEC/MN basketball tournament will take place on Saturday\, February 17 at Bloomington Kennedy High School. We are expecting another great turnout this year!&nbsp\;Trophies will be awarded to the top teams and profits from the tournament go to the ACEC/MN scholarship fund.&nbsp\;<br />\n<br />\nProceeds of this event goes toward the ACEC/MN scholarship fund. If your firm is interested in participating\, please contact Justin Schmidt at <strong><a href="mailto:justinsc@bolton-menk.com"><span style="font-weight:normal\;">justinsc@bolton-menk.com</span></a></strong>.&nbsp\;<br />\n<br />\n<strong>The deadline to sign up is February 5\, 2018.</strong></span></span>
LOCATION:Bloomington Kennedy High School 9701 Nicollet Avenue Bloomington\, MN 55420 952/681-5000
UID:e.9128.1254
SEQUENCE:3
DTSTAMP:20260421T023046Z
URL:http://cecm.memberzone.com/events/details/annual-scholarship-basketball-tournament-1254
END:VEVENT

END:VCALENDAR
