BEGIN:VCALENDAR
VERSION:2.0
PRODID:-//ChamberMaster//Event Calendar 2.0//EN
METHOD:PUBLISH
X-PUBLISHED-TTL:P3D
REFRESH-INTERVAL:P3D
CALSCALE:GREGORIAN
BEGIN:VEVENT
DTSTART:20161021T163000Z
DTEND:20161021T180000Z
X-MICROSOFT-CDO-ALLDAYEVENT:FALSE
SUMMARY:Brown Bag: Final Adjustments for Sanitary Manholes
DESCRIPTION:Eull's Manhole Shield is a turnkey system for final manhole adjustments that combines all structural elements in one package for an incomparable fit and finish. The system is designed to remove the guesswork from the manhole adjustment process (www.eullsmfg.com). Four components   one maintenance free structure.\n\n \n\nIn this session attendees will learn the following: Sanitary manhole final adjustment process\, preventing infiltration and inflow\, correctly meeting MNDOT standards\, and minimizing maintenance for the life of the\n\nstreet.\n\n \n\nSpeaker:  Paul Scheid CSI CDT LEED BD + C \n\nPaul has over 20 Years of experience working with the architectural and engineering communities on construction product specifications. Paul's field experience includes both the masonry and water works trades.
X-ALT-DESC;FMTTYPE=text/html:<p><span style="font-size:14px\;"><span style="color:#222222\;">Eull&rsquo\;s Manhole Shield&nbsp\;is a turnkey system for final manhole adjustments that combines all structural elements in </span></span><span style="font-size:14px\;"><span style="color:#222222\;">one package for an incomparable fit and finish. The system is designed to remove the guesswork from the&nbsp\;manhole adjustment process (<a href="http://www.eullsmfg.com/">www.eullsmfg.com</a>). Four components &ndash\; one maintenance free structure.</span><br />\n&nbsp\;<br />\n<span style="font-family:arial\,sans-serif\;">In this session attendees will learn the following: Sanitary manhole final adjustment process\, preventing </span><span style="font-family:arial\,sans-serif\;">infiltration and inflow\, correctly meeting MNDOT standards\, and minimizing maintenance for the life of the</span><br />\n<span style="font-family:arial\,sans-serif\;">street.</span><br />\n&nbsp\;<br />\n<strong><span style="font-family:arial\,sans-serif\;">Speaker:</span></strong><span style="font-family:arial\,sans-serif\;">&nbsp\; Paul Scheid CSI CDT LEED BD + C </span><br />\n<span style="font-family:arial\,sans-serif\;">Paul has over 20 Years of experience working with the architectural and engineering communities on&nbsp\;construction product specifications. Paul&rsquo\;s field experience includes both the masonry and water works trades.</span></span></p>\n
LOCATION:Marriott Minneapolis West 9960 Wayzata Blvd\, MN Minnetonka (952/544-4400) (Located on the north frontage road of I-394 between Hwy 169 & Hopkins Crossroad directly across from the ACEC/MN office)
UID:e.9128.1097
SEQUENCE:3
DTSTAMP:20260422T083639Z
URL:http://cecm.memberzone.com/events/details/brown-bag-final-adjustments-for-sanitary-manholes-1097
END:VEVENT

END:VCALENDAR
