BEGIN:VCALENDAR
VERSION:2.0
PRODID:-//ChamberMaster//Event Calendar 2.0//EN
METHOD:PUBLISH
X-PUBLISHED-TTL:P3D
REFRESH-INTERVAL:P3D
CALSCALE:GREGORIAN
BEGIN:VEVENT
DTSTART:20141208T173000Z
DTEND:20141208T193000Z
X-MICROSOFT-CDO-ALLDAYEVENT:FALSE
SUMMARY:Build it or Buy it!
DESCRIPTION:In this session\, you'll learn several methods of successfully expanding your bottom line. You will explore the pros and cons of building your business organically\, as well as discover the merits and drawbacks of buying a competitor or purchasing a complementary business. We'll pinpoint your individual business's growth objectives and thoroughly examine the costs of growth. Learn ideal ways to grow your business\, including:\n\n\n	Expanding territory\n	Increasing market share\n	Adding new services/products/expertise\n\n	 \n\nJohn will close the presentation with time allowed for Q&A.\n\n\n\nPresenter:\n\nJohn Edson\, CPA/ABV/CFF\, CMA\, CVA has been with BPKZ for over 30 years\, becoming the firm's president in 2014. He advises clients on accounting\, auditing and tax services that help them reap the benefits and rewards of their work. As a CPA accredited in business valuation (ABV) and a Certified Valuation Analyst (CVA)\, John leads the firm's Business Valuation department and prepares business valuations for purposes of buying or selling a business\, gift and estate purposes\, buy/sell agreements\, purchase price allocations and intangible asset impairment testing or shareholder disputes. John also consults in the area of merger and acquisitions and provides due diligence services.
X-ALT-DESC;FMTTYPE=text/html:<span style="color:black\;"><span style="font-family:arial\,sans-serif\;">In this session\, you&rsquo\;ll learn several methods of successfully expanding your bottom line. You will explore the pros and cons of building your business organically\, as well as discover the merits and drawbacks of buying a competitor or purchasing a complementary business. We&rsquo\;ll pinpoint your individual business&rsquo\;s growth objectives and thoroughly examine the costs of growth. Learn ideal ways to grow your business\, including:</span></span>\n\n<ul>\n	<li style="color:black\;margin-bottom:0in\;margin-bottom:.0001pt\;line-height:normal\;"><span style="font-family:arial\,sans-serif\;">Expanding territory</span></li>\n	<li style="color:black\;margin-bottom:0in\;margin-bottom:.0001pt\;line-height:normal\;"><span style="font-family:arial\,sans-serif\;">Increasing market share</span></li>\n	<li style="color:black\;margin-bottom:0in\;margin-bottom:.0001pt\;line-height:normal\;"><span style="font-family:arial\,sans-serif\;">Adding new services/products/expertise</span><br />\n	&nbsp\;</li>\n</ul>\n<span style="color:black\;"><span style="font-family:arial\,sans-serif\;">John will close the presentation with time allowed for Q&amp\;A.</span></span><br />\n<br />\n<strong><span style="color:black\;"><span style="font-family:arial\,sans-serif\;"><span style="font-size:10.0pt\;">Presenter:</span></span></span></strong><br />\n<em><span style="font-family:arial\,sans-serif\;">John Edson\, CPA/ABV/CFF\, CMA\, CVA has been with BPKZ for over 30 years\, becoming the firm&rsquo\;s president in 2014. He advises clients on accounting\, auditing and tax services that help them reap the benefits and rewards of their work. As a CPA accredited in business valuation (ABV) and a Certified Valuation Analyst (CVA)\, John leads the firm&rsquo\;s Business Valuation department and prepares business valuations for purposes of buying or selling a business\, gift and estate purposes\, buy/sell agreements\, purchase price allocations and intangible asset impairment testing or shareholder disputes. John also consults in the area of merger and acquisitions and provides due diligence services.</span></em><br />\n&nbsp\;
LOCATION:Marriott Minneapolis West 9960 Wayzata Blvd\, Minnetonka\, MN (952/544-4400) (Located on the north frontage road of I-394 between Hwy 169 & Hopkins Crossroad directly across from the ACEC/MN office)
UID:e.9128.880
SEQUENCE:3
DTSTAMP:20260424T054954Z
URL:http://cecm.memberzone.com/events/details/build-it-or-buy-it-12-08-2014-880
END:VEVENT

END:VCALENDAR
