BEGIN:VCALENDAR
VERSION:2.0
PRODID:-//ChamberMaster//Event Calendar 2.0//EN
METHOD:PUBLISH
X-PUBLISHED-TTL:P3D
REFRESH-INTERVAL:P3D
CALSCALE:GREGORIAN
BEGIN:VEVENT
DTSTART:20161018T123000Z
DTEND:20161018T200000Z
X-MICROSOFT-CDO-ALLDAYEVENT:FALSE
SUMMARY:Building Engineering and Construction Conference
DESCRIPTION:ACEC/MN is holding its 2nd Annual BEC conference on October 18 at the Earle Brown Heritage Center.\n\nThis event is intended for individuals in the vertical construction field including engineers\, architects\, construction managers\, project managers\, contractors and building owners.  If you look at the  PROGRAM\, you'll find sessions that will be of value to every level of experience and responsibility. We've even added an Innovation Alley this year\, which is your opportunity to learn about the latest in emerging technologies such as laser scanning\, thermal imaging\, drones\, virtual reality\, Microsoft devices\, high-efficiency systems\, 3D printing and more. There is something for everyone! Follow this link for the program at a glance.\n\n\n\n	Opportunity to network with peers\, clients and vendors in vertical construction!\n	Up to four hours of CEU's offered.\n	National and local presenters.\n	Great food! Breakfast and lunch included with conference registration.\n\nThank you to our sponsors:\n\n\n	\n		\n			Thank you to our sponsors! \n\n			Interested in being a sponsor? Explore levels here.\n\n			 \n\n			Sky Scraper Sponsor\n		\n		\n			DUNHAM\n\n			MEYER BORGMAN JOHNSON \n		\n		\n			 \n\n			Stadium Sponsor\n		\n		\n			American Engineering Testing\n\n			Hallberg Engineering\, Inc. \n		\n		\n			Mulcahy Company\n\n			\n\n			Tower Sponsor\n\n			Belimo\n		\n		\n			\n\n			Monument Sponsor\n\n			HUB International Mountain States LTD.\n		\n		\n			\n\n			Signage Sponsor\n\n			ARC Document Solutions\n\n			\n\n			Design Sponsor\n\n			NTI
X-ALT-DESC;FMTTYPE=text/html:<pre>\n<span style="font-family:arial\;">ACEC/MN is holding its 2nd Annual BEC conference on October 18 at the Earle Brown Heritage Center.\n\n</span><span style="font-family:arial\,sans-serif\;"><span style="font-size:10.0pt\;">This event is intended for individuals in the vertical construction field including engineers\, architects\, construction managers\, project managers\, contractors and building owners. &nbsp\;If you look at the <strong> <a href="https://chambermaster.blob.core.windows.net/userfiles/UserFiles/chambers/9128/File/Building_Engineering_Conf_2016/ACECMNBldgEngineeringConstructionConferenceProgram_092716.pdf">PROGRAM</a></strong>\, you&rsquo\;ll find sessions that will be of value to every level of experience and responsibility<span style="color:#1F497D\;">. </span>We&rsquo\;ve even added an <strong><em>Innovation Alley</em></strong> this year\, which is your opportunity to learn about the latest in emerging technologies such as laser scanning\, thermal imaging\, drones\, virtual reality\, Microsoft devices\, high-efficiency systems\, 3D printing and more. There is something for everyone! Follow this <a href="https://chambermaster.blob.core.windows.net/userfiles/UserFiles/chambers/9128/File/Building_Engineering_Conf_2016/ACECMNBldgEngineeringConstructionConferenceProgram_092716.pdf">link</a> for the program at a glance.</span></span>\n</pre>\n\n<ul>\n	<li><span style="font-family:arial\;">Opportunity to network with peers\, clients and vendors in vertical construction!</span></li>\n	<li><span style="font-family:arial\;">Up to four hours of CEU&rsquo\;s offered.</span></li>\n	<li><span style="font-family:arial\;">National and local presenters.</span></li>\n	<li><span style="font-family:arial\;">Great food! Breakfast and lunch included with conference registration.</span></li>\n</ul>\n<span style="font-family:arial\;">Thank you to our sponsors:</span>\n\n<table border="0" cellpadding="0" cellspacing="0" style="width:439px\;border-collapse:collapse\;" width="439">\n	<tbody>\n		<tr style="height:21px\;">\n			<td nowrap="nowrap" style="width:394px\;padding:0in 5.4pt 0in 5.4pt\;height:21px\;vertical-align:bottom\;"><strong><em><span style="font-family:arial\,sans-serif\;"><span style="font-size:10pt\;">Thank you to our sponsors! </span></span></em></strong><br />\n			<span style="color:#1F497D\;"><span style="font-family:arial\,sans-serif\;"><span style="font-size:10.0pt\;"><a href="http://business.acecmn.org/events/details/vertical-construction-conference-934?_ga=1.180282660.180490456.1430228481"><strong><span style="color:black\;">Interested in being a sponsor?</span></strong> </a><a href="http://96bda424cfcc34d9dd1a-0a7f10f87519dba22d2dbc6233a731e5.r41.cf2.rackcdn.com/acecmn/pdf-s/Sponsorship_breakdown_2016.pdf">Explore levels here.</a></span></span></span><br />\n			&nbsp\;<br />\n			<strong><em><span style="font-family:arial\,sans-serif\;"><span style="font-size:10pt\;">Sky Scraper Sponsor</span></span></em></strong></td>\n		</tr>\n		<tr style="height:30px\;">\n			<td nowrap="nowrap" style="width:394px\;padding:0in 5.4pt 0in 5.4pt\;height:30px\;"><u><span style="color:#0563C1\;"><span style="font-family:arial\,sans-serif\;"><span style="font-size:9.0pt\;"><a href="http://www.dunhamassociates.com/">DUNHAM</a></span></span></span></u><br />\n			<u><span style="color:#0563C1\;"><span style="font-family:arial\,sans-serif\;"><span style="font-size:9.0pt\;"><a href="http://www.mbjeng.com/">MEYER BORGMAN JOHNSON </a></span></span></span></u></td>\n		</tr>\n		<tr style="height:20px\;">\n			<td nowrap="nowrap" style="width:394px\;padding:0in 5.4pt 0in 5.4pt\;height:20px\;">&nbsp\;<br />\n			<strong><em><span style="font-family:arial\,sans-serif\;"><span style="font-size:10pt\;">Stadium Sponsor</span></span></em></strong></td>\n		</tr>\n		<tr style="height:20px\;">\n			<td nowrap="nowrap" style="width:394px\;padding:0in 5.4pt 0in 5.4pt\;height:20px\;vertical-align:bottom\;"><span style="font-family:arial\,sans-serif\;"><span style="font-size:10.0pt\;"><a href="http://www.amengtest.com/">American Engineering Testing</a></span></span><br />\n			<u><span style="color:#0563C1\;"><span style="font-family:arial\,sans-serif\;"><span style="font-size:10.0pt\;"><a href="http://www.hallbergengineering.com/">Hallberg Engineering\, Inc. </a></span></span></span></u></td>\n		</tr>\n		<tr style="height:20px\;">\n			<td nowrap="nowrap" style="width:394px\;padding:0in 5.4pt 0in 5.4pt\;height:20px\;vertical-align:bottom\;"><a href="http://mulcahyco.com/"><u>Mulcahy Company</u></a><br />\n			<br />\n			<strong><em><span style="font-family:arial\,sans-serif\;"><span style="font-size:10pt\;">Tower Sponsor</span></span></em></strong><br />\n			<u><span style="color:#0563C1\;"><span style="font-family:arial\,sans-serif\;"><span style="font-size:10.0pt\;"><a href="http://www.belimo.com/english/index.cfm">Belimo</a></span></span></span></u></td>\n		</tr>\n		<tr style="height:20px\;">\n			<td nowrap="nowrap" style="width:394px\;padding:0in 5.4pt 0in 5.4pt\;height:20px\;"><br />\n			<strong><em><span style="font-family:arial\,sans-serif\;"><span style="font-size:10pt\;">Monument Sponsor</span></span></em></strong><br />\n			<u><span style="color:#0563C1\;"><span style="font-family:arial\,sans-serif\;"><span style="font-size:10.0pt\;"><a href="http://www.hubinternational.com/mountain/">HUB International Mountain States LTD.</a></span></span></span></u></td>\n		</tr>\n		<tr style="height:20px\;">\n			<td nowrap="nowrap" style="width:394px\;padding:0in 5.4pt 0in 5.4pt\;height:20px\;vertical-align:bottom\;"><br />\n			<strong><em><span style="font-family:arial\,sans-serif\;"><span style="font-size:10pt\;">Signage Sponsor</span></span></em></strong><br />\n			<u><span style="color:#0563C1\;"><span style="font-family:arial\,sans-serif\;"><span style="font-size:10.0pt\;"><a href="http://www.e-arc.com/mn/stlouispark">ARC Document Solutions</a></span></span></span></u><br />\n			<br />\n			<strong><em><span style="font-family:arial\,sans-serif\;"><span style="font-size:10pt\;">Design Sponsor</span></span></em></strong><br />\n			<u><span style="color:#0563C1\;"><a href="http://www.ntigeo.com/">NTI</a></span></u></td>\n		</tr>\n	</tbody>\n</table>\n
LOCATION:Earle Brown Heritage Center 6155 Earle Brown Drive Brooklyn Center\, Minnesota
UID:e.9128.1086
SEQUENCE:3
DTSTAMP:20260422T094517Z
URL:http://cecm.memberzone.com/events/details/building-engineering-and-construction-conference-10-18-2016-1086
END:VEVENT

END:VCALENDAR
