BEGIN:VCALENDAR
VERSION:2.0
PRODID:-//ChamberMaster//Event Calendar 2.0//EN
METHOD:PUBLISH
X-PUBLISHED-TTL:P3D
REFRESH-INTERVAL:P3D
CALSCALE:GREGORIAN
BEGIN:VEVENT
DTSTART:20170215T133000Z
DTEND:20170215T193000Z
X-MICROSOFT-CDO-ALLDAYEVENT:FALSE
SUMMARY:Business Practices Summit
DESCRIPTION:The ACEC/MN Business Practices Committee has put together a Business Practices Summit\, "Designing the Workforce of Tomorrow"\,  geared toward human resource\, finance and managers of engineering firms. This program includes two tracks\, one focusing on human resources and the other on financial. \n\n\n	\n		\n			7:30   8:00am\n			Registration and Continental Breakfast\n		\n		\n			8:00   8:15am\n			Opening Remarks and Welcome   Jon Wacker\, HGA\, Workforce Development Co-Chair\n		\n		\n			8:15   8:50am\n			\n			\n			Keynote: First Order of Business: Work Should Be FUN: The Fun Dept.\, Gayle Cartier\n			Are you curious... how companies like Google\, Zappos\, Southwest and others develop those winning workplace cultures\, with such high productivity and profitability? Regardless of the industry\, the highest performing companies have this in common: A culture of FUN!  There is a REVOLUTION occurring in the workforce\, and FUN has become the competitive edge.  Why? Productivity goes up\, retention goes up\, and sales go up AND 75% of our future workforce\, who are the Millennials\, EXPECT a fun and social work environment. In this interactive presentation you will discover why fun is serious business and learn the #1 strategy to easily fit FUN into any organization.\n			\n		\n		\n			8:50   9:00am\n			Break \n		\n		\n			 \n			HR Track 1   \n			Finance Track 2   \n		\n		\n			9:00-9:50am\n			Benefits Update: Dealing with Trends: Michael Hyatt\, MRA-The Management Association: Hiring & Talent Strategies. During this session we will discuss supply and demand in the talent amrket and the impact on your business in today's candidate-driven economy.\n			Accounting Updates: We are offering an Accounting Update for those that want to stay current on some of the accounting changes that will need to be implemented in the next couple of years.  Tom Losey and Matt Crane\, Partners with the Boulay Accounting firm\, will present and discuss these new pronouncements and/or changes\, and how they will affect you.  Topics will include:\n			\n				The New Revenue Recognition Standards\n				The New Lease Accounting Rules\n				R&D and Section 179D Tax Credits \n			\n			\n		\n		\n			10:00-10:50am\n			Effective Onboarding: Hope is not a Strategy Companies select and hire people but then underinvest in the required onboarding and training that leads to desired behaviors and success on the job. Companies simply hope employees will demonstrate the desired behaviors once on the job. Hope is not a business strategy. During this session\, we'll discuss how to create an effective onboarding program that translates into more successful hires. Presented By: Jana Cinnamon\, Abdo\, Eick & Meyers\n			Designing & Negotiating Workplaces for the Future Workforce presented by: Melissa Jancourt\, HGA Steve Dorgan\, Cresa.\n\n			Organizations must navigate an increasingly diverse competitive talent market at a time where many struggle with record levels of disengagement and rising healthcare costs. This has prompted an expanded real estate conversation to include value as we continue to draw correlations between employee health and happiness to organizational performance. During this session we will explore current and future real estate market\, design trends and the role of the built environment in responding to the needs of tomorrow's workforce.\n		\n		\n			11:00-11:50am\n			Employment Law Update\, Jim Kramer\, Dewitt\, Mackall Crounse & Moore: Paid Leave initiatives\, the Status of DOL Exemption Regulations\, New I-9 Requirements and Pitfalls\, Developments in the Courts and NLRB\, the Fate of Obama Care and other possibilities in the Employment World According to Trump\n\n			 \n			"Professional Liability Insurance Trends 2017   What Insurance Issues is Your Firm most likely to experience in 2017?" Topics covered include:\n			\n				Current rates and marketplace\n				Increased need for higher limits\n				Cyber Liability\n				Duty to Defend and recent case law status.\n			\n			Presented by: Johnna Wangensteen\, Dennis J. Linder & Associates\n		\n		\n			12:00   12:30\n			Lunch and Presentation: ACEC/MN Benefit Update   National Benchmarking\, Doug Luick of Arthur J. Gallagher & Co. \n		\n		\n			12:30   1:30\n			HR & Finance Facilitated Roundtables: Discuss best practices\, business management concerns and other industry issues. Many of our panelist will stay for these open forum sessions.
X-ALT-DESC;FMTTYPE=text/html:<span style="font-family:calibri\,sans-serif\;"><span style="font-size:11.0pt\;">The ACEC/MN Business Practices Committee has put together a Business Practices Summit\, &quot\;Designing the Workforce of Tomorrow&quot\;\,&nbsp\; geared toward human resource\, finance and managers of engineering firms. This program includes two tracks\, one focusing on human resources and the other on financial. </span></span>\n\n<table align="left" border="1" cellpadding="0" cellspacing="0" style="border-collapse:collapse\;border:none\;margin-left:7.1pt\;margin-right:7.1pt\;" width="786">\n	<tbody>\n		<tr style="height:24px\;">\n			<td style="width:102px\;border:solid black 1.0pt\;padding:0in 5.4pt 0in 5.4pt\;height:24px\;">7:30 &ndash\; 8:00am</td>\n			<td colspan="2" style="width:684px\;border:solid black 1.0pt\;border-left:none\;padding:0in 5.4pt 0in 5.4pt\;height:24px\;"><em>Registration and Continental Breakfast</em></td>\n		</tr>\n		<tr style="height:5px\;">\n			<td style="width:102px\;border:solid black 1.0pt\;border-top:none\;padding:0in 5.4pt 0in 5.4pt\;height:5px\;">8:00 &ndash\; 8:15am</td>\n			<td colspan="2" style="width:684px\;border-top:none\;border-left:none\;border-bottom:solid black 1.0pt\;border-right:solid black 1.0pt\;padding:0in 5.4pt 0in 5.4pt\;height:5px\;"><em>Opening Remarks and Welcome &ndash\; Jon Wacker\, HGA\, Workforce Development Co-Chair</em></td>\n		</tr>\n		<tr style="height:166px\;">\n			<td style="width:102px\;border:solid black 1.0pt\;border-top:none\;padding:0in 5.4pt 0in 5.4pt\;height:166px\;vertical-align:top\;">8:15 &ndash\; 8:50am</td>\n			<td colspan="2" style="width:684px\;border-top:none\;border-left:none\;border-bottom:solid black 1.0pt\;border-right:solid black 1.0pt\;padding:0in 5.4pt 0in 5.4pt\;height:166px\;vertical-align:top\;">\n			<div style="clear:both\;">\n			<div style="clear:both\;"><em><strong>Keynote: First Order of Business: Work Should Be FUN: The Fun Dept.\, Gayle Cartier</strong></em></div>\n			<em><span style="font-family:calibri\,sans-serif\;"><span style="font-size:10.5pt\;">Are you curious... how companies like Google\, Zappos\, Southwest and&nbsp\;</span></span></em><em><span style="font-family:calibri\,sans-serif\;"><span style="font-size:10.5pt\;">others develop those winning workplace cultures\, with such high productivity and profitability? Regardless of the industry\, the highest performing companies have this in common: A culture of FUN!&nbsp\; There is a REVOLUTION occurring in the workforce\, and FUN has become the competitive edge.&nbsp\; Why? Productivity goes up\, retention goes up\, and sales go up AND&nbsp\;75% of our future workforce\, who are the Millennials\, EXPECT a&nbsp\;fun and social work environment. In this interactive presentation you will discover why fun is serious business and learn the #1 strategy to easily fit FUN into any organization</span>.</span></em></div>\n			</td>\n		</tr>\n		<tr style="height:24px\;">\n			<td style="width:102px\;border:solid black 1.0pt\;border-top:none\;padding:0in 5.4pt 0in 5.4pt\;height:24px\;">8:50 &ndash\; 9:00am</td>\n			<td colspan="2" style="width:684px\;border-top:none\;border-left:none\;border-bottom:solid black 1.0pt\;border-right:solid black 1.0pt\;padding:0in 5.4pt 0in 5.4pt\;height:24px\;"><strong><em>Break </em></strong></td>\n		</tr>\n		<tr style="height:25px\;">\n			<td style="width:102px\;border:solid black 1.0pt\;border-top:none\;background:#D9D9D9\;padding:0in 5.4pt 0in 5.4pt\;height:25px\;">&nbsp\;</td>\n			<td style="width:342px\;border-top:none\;border-left:none\;border-bottom:solid black 1.0pt\;border-right:solid black 1.0pt\;background:#D9D9D9\;padding:0in 5.4pt 0in 5.4pt\;height:25px\;"><strong><em>HR Track 1 &ndash\; </em></strong></td>\n			<td style="width:342px\;border-top:none\;border-left:none\;border-bottom:solid black 1.0pt\;border-right:solid black 1.0pt\;background:#D9D9D9\;padding:0in 5.4pt 0in 5.4pt\;height:25px\;"><strong><em>Finance Track 2 &ndash\; </em></strong></td>\n		</tr>\n		<tr style="height:25px\;">\n			<td style="width:102px\;border:solid black 1.0pt\;border-top:none\;padding:0in 5.4pt 0in 5.4pt\;height:25px\;vertical-align:top\;">9:00-9:50am</td>\n			<td style="width:342px\;border-top:none\;border-left:none\;border-bottom:solid black 1.0pt\;border-right:solid black 1.0pt\;padding:0in 5.4pt 0in 5.4pt\;height:25px\;vertical-align:top\;"><strong><em>Benefits Update: Dealing with Trends: Michael Hyatt\, MRA-The Management Association:<font color="#000000">&nbsp\;</font></em></strong><em><font color="#000000">Hiring &amp\; Talent Strategies. During this session we will discuss supply and demand in the talent amrket and the impact on your business in today&#39\;s candidate-driven economy.</font></em></td>\n			<td style="width:342px\;border-top:none\;border-left:none\;border-bottom:solid black 1.0pt\;border-right:solid black 1.0pt\;padding:0in 5.4pt 0in 5.4pt\;height:25px\;vertical-align:top\;"><strong><em>Accounting Updates: </em></strong><em><span style="color:black\;">We are offering an Accounting Update for those that want to stay current on some of the accounting changes that will need to be implemented in the next couple of years. &nbsp\;<strong>Tom Losey and Matt Crane\,&nbsp\;Partners with the Boulay Accounting firm\,</strong> will present and discuss these new pronouncements and/or changes\, and how they will affect you. &nbsp\;Topics will include:</span></em>\n			<ul>\n				<li style="margin-top:0in\;margin-right:0in\;margin-bottom:0in\;margin-bottom:.0001pt\;"><em><span style="color:black\;">The New Revenue Recognition Standards</span></em></li>\n				<li style="margin-top:0in\;margin-right:0in\;margin-bottom:0in\;margin-bottom:.0001pt\;"><em><span style="color:black\;">The New Lease Accounting Rules</span></em></li>\n				<li style="margin-top:0in\;margin-right:0in\;margin-bottom:0in\;margin-bottom:.0001pt\;"><em><span style="color:black\;"><em><span style="color:black\;">R&amp\;D and Section 179D Tax Credits </span></em></span></em></li>\n			</ul>\n			</td>\n		</tr>\n		<tr style="height:212px\;">\n			<td style="width:102px\;border:solid black 1.0pt\;border-top:none\;padding:0in 5.4pt 0in 5.4pt\;height:212px\;vertical-align:top\;">10:00-10:50am</td>\n			<td style="width:342px\;border-top:none\;border-left:none\;border-bottom:solid black 1.0pt\;border-right:solid black 1.0pt\;padding:0in 5.4pt 0in 5.4pt\;height:212px\;vertical-align:top\;"><strong><em><span style="color:black\;">Effective Onboarding: Hope is not a Strategy </span></em></strong><em><span style="color:black\;">Companies select and hire people but then underinvest in the required onboarding and training that leads to desired behaviors and success on the job. Companies simply hope employees will demonstrate the desired behaviors once on the job. Hope</span> is not a business strategy. During this session\, we&rsquo\;ll discuss how to create an effective onboarding program that translates into more successful hires. </em><em>Presented By: Jana Cinnamon\, Abdo\, Eick &amp\; Meyers</em></td>\n			<td style="width:342px\;border-top:none\;border-left:none\;border-bottom:solid black 1.0pt\;border-right:solid black 1.0pt\;padding:0in 5.4pt 0in 5.4pt\;height:212px\;vertical-align:top\;"><strong><em>Designing &amp\; Negotiating Workplaces for the Future Workforce presented by: </em></strong><em><strong>Melissa Jancourt\, HGA Steve Dorgan\, Cresa.</strong><br />\n			Organizations&nbsp\;must navigate an increasingly diverse competitive talent market at a time where many struggle with record levels of disengagement and rising healthcare costs. This has prompted an expanded real estate conversation to include value as we continue to draw correlations between employee health and happiness to organizational performance. During this session we will explore current and future real estate market\, design trends and the role of the built environment in responding to the needs of tomorrow&#39\;s workforce.</em></td>\n		</tr>\n		<tr style="height:25px\;">\n			<td style="width:102px\;border:solid black 1.0pt\;border-top:none\;padding:0in 5.4pt 0in 5.4pt\;height:25px\;vertical-align:top\;">11:00-11:50am</td>\n			<td style="width:342px\;border-top:none\;border-left:none\;border-bottom:solid black 1.0pt\;border-right:solid black 1.0pt\;padding:0in 5.4pt 0in 5.4pt\;height:25px\;vertical-align:top\;"><strong><em>Employment Law Update\, </em></strong><em><strong>Jim Kramer\, Dewitt\, Mackall Crounse &amp\; Moore:</strong> Paid Leave initiatives\, the Status of DOL Exemption Regulations\, New I-9 Requirements and Pitfalls\, Developments in the Courts and NLRB\, the Fate of Obama Care and other possibilities in the Employment World According to Trump</em><br />\n			&nbsp\;</td>\n			<td style="width:342px\;border-top:none\;border-left:none\;border-bottom:solid black 1.0pt\;border-right:solid black 1.0pt\;padding:0in 5.4pt 0in 5.4pt\;height:25px\;vertical-align:top\;"><strong><em>&ldquo\;Professional Liability Insurance Trends 2017 &ndash\; What Insurance Issues is Your Firm most likely to experience in 2017?&rdquo\; </em></strong><em>Topics covered include:</em>\n			<ul>\n				<li style="margin-bottom:0in\;margin-bottom:.0001pt\;"><em>Current rates and marketplace</em></li>\n				<li style="margin-bottom:0in\;margin-bottom:.0001pt\;line-height:normal\;"><em>Increased need for higher limits</em></li>\n				<li style="margin-bottom:0in\;margin-bottom:.0001pt\;line-height:normal\;"><em>Cyber Liability</em></li>\n				<li style="margin-bottom:0in\;margin-bottom:.0001pt\;line-height:normal\;"><em>Duty to Defend and recent case law status.</em></li>\n			</ul>\n			<strong><em>Presented by: Johnna Wangensteen\, Dennis J. Linder &amp\; Associates</em></strong></td>\n		</tr>\n		<tr style="height:42px\;">\n			<td style="width:102px\;border:solid black 1.0pt\;border-top:none\;padding:0in 5.4pt 0in 5.4pt\;height:42px\;vertical-align:top\;">12:00 &ndash\; 12:30</td>\n			<td colspan="2" style="width:684px\;border-top:none\;border-left:none\;border-bottom:solid black 1.0pt\;border-right:solid black 1.0pt\;padding:0in 5.4pt 0in 5.4pt\;height:42px\;vertical-align:top\;"><strong><em>Lunch and Presentation: ACEC/MN Benefit Update &ndash\; National Benchmarking\, </em></strong><em>Doug Luick of Arthur J. Gallagher &amp\; Co. </em></td>\n		</tr>\n		<tr style="height:14px\;">\n			<td style="width:102px\;border:solid black 1.0pt\;border-top:none\;background:#D9D9D9\;padding:0in 5.4pt 0in 5.4pt\;height:14px\;vertical-align:top\;">12:30 &ndash\; 1:30</td>\n			<td colspan="2" style="width:684px\;border-top:none\;border-left:none\;border-bottom:solid black 1.0pt\;border-right:solid black 1.0pt\;background:#D9D9D9\;padding:0in 5.4pt 0in 5.4pt\;height:14px\;vertical-align:top\;"><strong><em>HR &amp\; Finance Facilitated Roundtables: Discuss best practices\, business management concerns and other industry issues. Many of our panelist will stay for these open forum sessions.</em></strong></td>\n		</tr>\n	</tbody>\n</table>\n\n<div>&nbsp\;</div>\n
LOCATION:Minneapolis Marriott West
UID:e.9128.1125
SEQUENCE:3
DTSTAMP:20260422T024731Z
URL:http://cecm.memberzone.com/events/details/business-practices-summit-1125
END:VEVENT

END:VCALENDAR
