BEGIN:VCALENDAR
VERSION:2.0
PRODID:-//ChamberMaster//Event Calendar 2.0//EN
METHOD:PUBLISH
X-PUBLISHED-TTL:P3D
REFRESH-INTERVAL:P3D
CALSCALE:GREGORIAN
BEGIN:VEVENT
DTSTART:20180221T133000Z
DTEND:20180221T180000Z
X-MICROSOFT-CDO-ALLDAYEVENT:FALSE
SUMMARY:Business Practices Summit Competitive Compensation
DESCRIPTION:ACEC/MN member firms face increasing competition in recruiting and retaining talented and qualified staff to power their workforce. One strategy for businesses to attract and retain top talent is to offer comprehensive compensation and benefits packages. What your organization provides depends on the budget available\, the size of your company\, and what your employees value most. Your firm is likely already looking to increase profitability in all of the obvious ways\, like selling more services\, targeting lucrative markets and investing in better\, more efficient equipment and staff training. But\, has your firm leadership considered that they can be more completive with smarter compensation planning? The ACEC/MN Business Practices Committee has put together a program on topics that can help you develop a better compensation plan for your firm. Attend this summit with an expert panel that will provide you with some of the tools to make your firm more competitive today and into the future.\n\n\n\nSESSION DESCRIPTIONS:\n\nSession 1: Compensation Trends Worth Watching    Jana Cinnamon\, Abdo Eick & Meyers\n\n"What keeps you up at night?" When this question is asked to business owners and leaders\, two of the most common responses are: (1) Retaining our top talent or (2) Attracting top talent. We all know that compensation plays a pivotal role in a person's decision to join\, stay or leave a company\, but developing a compensation strategy extends much further than determining an employee's annual salary. During this session\, we'll look at some of the emerging trends in compensation and how to deploy compensation strategies to attract and retain talent.\n\nSession 2: Incentive Compensation Practices across Various Entity Structures   Panel Discussion\n\nIn addition to normal annual bonus pool incentives\, many engineering firms desire to build in longer-term or multi-year incentive programs for their more experienced work force. These programs can be structured in many ways\, and are often different depending on whether the firm is organized as a C Corporation\, an S Corporation/LLC\, or an ESOP.  A panel has been selected to discuss this important topic\, as well as answer questions from participants. We plan to cover multi-year bonus plans\, deferred compensation arrangements\, phantom and management stock plans\, and various form of Employee Stock Ownership.\n\n\n\nModerator\, Tom Losey\, Partner with Boulay CPA's and Advisors\, is leading a panel of experts to discuss best practices relating to this topic\, as well as facilitate participant questions. Panelists\, Jim Horn\, Chief HR Officer of Ulteig Engineering (Ulteig is a 100% ESOP owned multi-state engineering firm). Kent Mainquist\, Chief Financial Officer of HGA (HGA is a large multi-state employee owned Design firm organized as a C Corporation). Scott Rollin\, President/Founder of Management Compensation Resources\, LLC. (Scott's firm consults on compensation challenges\, and designs incentive compensation programs for various  types of professional service firms in Minnesota)\n\n \n\nSession 3: 2018 Performance Management It's Time to Think Differently!  - CPI Twin Cities \n\nIt's clear that traditional approaches to performance management with annual reviews are not only ineffective (which has been true for a long time)\, but actually lead to demotivation and disengagement for younger generations of employees. CPI Twin Cities President and long-time HR executive Maureen O'Malley Rehfuss\, and Debby Magnuson\, VP of Talent Management\, will share their research and best practices for best-in-class performance management. Discussion topics for this session include:\n\n\n	New approaches to evaluating performance \n	How to reduce the complexity and numbers games of performance appraisals \n	How to hold people accountable if you are no longer doing formal performance reviews\n	What Millennials want from performance feedback and coaching\n	How good performance management practices can increase trust\, transparency\, and open communication in your culture\n	Why you should bring a career development perspective to your people management practices\n	Integrating "Everyday Performance Management" into your business practices\n\nPRESENTERS:\n\nJana Cinnamon\, M.A. is the Chief Operating Officer at Abdo\, Eick & Meyers. Jana develops and implements talent capital strategies to drive firm growth. She is a graduate of the University of Minnesota's Carlson School of Management with a Master's degree in Human Resources.\n\n \n\nTom Losey\, CPA and Partner in the Boulay Accounting Firm. Tom serves owner-managed companies in several industries\, including engineering and design. He is a graduate of the University of Minnesota's Carlson School of Management and has an Executive MBA Certification from the University of Chicago.\n\n\n\nDebby Magnuson is VP of Talent Management with CPI Twin Cities where she is an executive and outplacement coach\, leadership development facilitator\, and talent management consultant. One of Debby's research and presentation specialties is managing across generations. Her book\, Work With Me: A New Lens on Leading the Multigenerational Workforce\, was published in 2008. Debby has been a regular keynote speaker and group facilitator to audiences large and small for many years.
X-ALT-DESC;FMTTYPE=text/html:<p><span style="font-family:arial\,sans-serif\;"><span style="font-size:10.0pt\;">ACEC/MN member firms face increasing competition in recruiting and retaining talented and qualified staff to power their workforce. One strategy for businesses to attract and retain top talent is to offer comprehensive compensation and benefits packages. What your organization provides depends on the budget available\, the size of your company\, and what your employees value most. Your firm is likely already looking to increase profitability in all of the obvious ways\, like selling more services\, targeting lucrative markets and investing in better\, more efficient equipment and staff training. But\, has your firm leadership considered that they can be more completive with <a href="https://www.payscale.com/hr/resources/guide-to-compensation-planning?src=blog_body"><strong><span style="text-decoration-line:none\;"><span style="color:black\;">smarter compensation planning</span></span></strong></a>? The ACEC/MN Business Practices Committee has put together a program on topics that can help you develop a better compensation plan for your firm. Attend this summit with an expert panel that will provide you with some of the tools to make your firm more competitive today and into the future.</span></span><br />\n<br />\n<u><strong><span style="font-family:arial\,sans-serif\;"><span style="font-size:10.0pt\;">SESSION DESCRIPTIONS:</span></span></strong></u><br />\n<strong><em><span style="font-family:arial\,sans-serif\;">Session 1: Compensation Trends Worth Watching &nbsp\;&ndash\; Jana Cinnamon\, Abdo Eick &amp\; Meyers</span></em></strong><br />\n<span style="font-family:arial\,sans-serif\;"><span style="font-size:10.0pt\;">&ldquo\;What keeps you up at night?&rdquo\; When this question is asked to business owners and leaders\, two of the most common responses are: (1) Retaining our top talent or (2) Attracting top talent. We all know that compensation plays a pivotal role in a person&rsquo\;s decision to join\, stay or leave a company\, but developing a compensation strategy extends much further than determining an employee&rsquo\;s annual salary. During this session\, we&rsquo\;ll look at some of the emerging trends in compensation and how to deploy compensation strategies to attract and retain talent.</span></span></p>\n\n<p><span style="font-size:12px\;"><strong><em><span style="color:black\;">Session 2: Incentive Compensation Practices across Various Entity Structures &ndash\; Panel Discussion</span></em></strong></span><br />\n<span style="color:black\;"><span style="font-size:10pt\;">In addition to normal annual bonus pool incentives\, many engineering firms desire to build in longer-term or multi-year incentive programs for their more experienced work force. These programs can be structured in many ways\, and are often different depending on whether the firm is organized as a C Corporation\, an S Corporation/LLC\, or an ESOP. &nbsp\;A panel has been selected to discuss this important topic\, as well as answer questions from participants. We plan to cover multi-year bonus plans\, deferred compensation arrangements\, phantom and management stock plans\, and various form of Employee Stock Ownership.</span></span><br />\n<br />\n<strong><span style="color:black\;"><span style="font-family:arial\,sans-serif\;"><span style="font-size:10.0pt\;">Moderator\, Tom Losey</span></span></span></strong><span style="color:black\;"><span style="font-family:arial\,sans-serif\;"><span style="font-size:10.0pt\;">\, Partner with Boulay CPA&rsquo\;s and Advisors\, is leading a panel of experts to discuss best practices relating to this topic\, as well as facilitate participant questions.&nbsp\;</span></span></span><strong><span style="color:black\;"><span style="font-family:arial\,sans-serif\;"><span style="font-size:10.0pt\;">Panelists\, Jim Horn</span></span></span></strong><span style="color:black\;"><span style="font-family:arial\,sans-serif\;"><span style="font-size:10.0pt\;">\, Chief HR Officer of Ulteig Engineering (Ulteig is a 100% ESOP owned multi-state engineering firm). <strong>Kent Mainquist</strong>\, Chief Financial Officer of HGA (HGA is a large multi-state employee owned Design firm organized as a C Corporation). <strong>Scott Rollin</strong>\, President/Founder of Management Compensation Resources\, LLC. (Scott&rsquo\;s firm consults on compensation challenges\, and designs incentive compensation programs for various &nbsp\;types of professional service firms in Minnesota)</span></span></span><br />\n&nbsp\;<br />\n<strong><em><span style="font-family:arial\,sans-serif\;">Session 3: 2018 Performance Management&mdash\;It&rsquo\;s Time to Think Differently!&nbsp\; - </span></em></strong><strong><span style="font-family:arial\,sans-serif\;">CPI Twin Cities </span></strong><br />\n<span style="font-family:arial\,sans-serif\;"><span style="font-size:10.0pt\;">It&rsquo\;s clear that traditional approaches to performance management with annual reviews are not only ineffective (which has been true for a long time)\, but actually lead to demotivation and disengagement for younger generations of employees. CPI Twin Cities President and long-time HR executive Maureen O&rsquo\;Malley Rehfuss\, and Debby Magnuson\, VP of Talent Management\, will share their research and best practices for best-in-class performance management. Discussion topics for this session include:</span></span></p>\n\n<ul>\n	<li style="margin-bottom:8.0pt\;"><span style="font-family:arial\,sans-serif\;"><span style="font-size:10.0pt\;">New approaches to evaluating performance </span></span></li>\n	<li style="margin-bottom:8.0pt\;"><span style="font-family:arial\,sans-serif\;"><span style="font-size:10.0pt\;">How to reduce the complexity and numbers games of performance appraisals </span></span></li>\n	<li style="margin-bottom:8.0pt\;"><span style="font-family:arial\,sans-serif\;"><span style="font-size:10.0pt\;">How to hold people accountable if you are no longer doing formal performance reviews</span></span></li>\n	<li style="margin-bottom:8.0pt\;"><span style="font-family:arial\,sans-serif\;"><span style="font-size:10.0pt\;">What Millennials want from performance feedback and coaching</span></span></li>\n	<li style="margin-bottom:8.0pt\;"><span style="font-family:arial\,sans-serif\;"><span style="font-size:10.0pt\;">How good performance management practices can increase trust\, transparency\, and open communication in your culture</span></span></li>\n	<li style="margin-bottom:8.0pt\;"><span style="font-family:arial\,sans-serif\;"><span style="font-size:10.0pt\;">Why you should bring a career development perspective to your people management practices</span></span></li>\n	<li style="margin-bottom:8.0pt\;"><span style="font-family:arial\,sans-serif\;"><span style="font-size:10.0pt\;">Integrating &ldquo\;Everyday Performance Management&rdquo\; into your business practices</span></span></li>\n</ul>\n<u><strong><span style="font-family:arial\,sans-serif\;"><span style="font-size:10.0pt\;">PRESENTERS:</span></span></strong></u><br />\n<strong><span style="font-family:arial\,sans-serif\;"><span style="font-size:10.0pt\;">Jana Cinnamon\, M.A. </span></span></strong><span style="font-family:arial\,sans-serif\;"><span style="font-size:10.0pt\;">is the Chief Operating Officer at Abdo\, Eick &amp\; Meyers. Jana develops and implements talent capital strategies to drive firm growth. She is a graduate of the University of Minnesota&rsquo\;s Carlson School of Management with a Master&rsquo\;s degree in Human Resources.</span></span><br />\n&nbsp\;<br />\n<strong><span style="font-family:arial\,sans-serif\;"><span style="font-size:10.0pt\;">Tom Losey\, CPA</span></span></strong><span style="font-family:arial\,sans-serif\;"><span style="font-size:10.0pt\;"> and Partner in the Boulay Accounting Firm. Tom serves owner-managed companies in several industries\, including engineering and design. He is a graduate of the University of Minnesota&rsquo\;s Carlson School of Management and has an Executive MBA Certification from the University of Chicago.</span></span><br />\n<br />\n<strong><span style="color:black\;"><span style="font-family:arial\,sans-serif\;"><span style="font-size:10.0pt\;">Debby Magnuson</span></span></span></strong><span style="color:black\;"><span style="font-family:arial\,sans-serif\;"><span style="font-size:10.0pt\;"> is VP of Talent Management with CPI Twin Cities where she is an executive and outplacement coach\, leadership development facilitator\, and talent management consultant. One of Debby&rsquo\;s research and presentation specialties is managing across generations. Her book\, <strong><em><span style="border:none windowtext 1.0pt\;padding:0in\;"><a href="http://www.cpitwincities.com/work-with-me/" target="_blank"><span style="text-decoration-line:none\;"><span style="color:black\;">Work With Me: A New Lens on Leading the Multigenerational Workforce</span></span></a></span></em></strong>\, was published in 2008. Debby has been a regular keynote speaker and group facilitator to audiences large and small for many years.</span></span></span><br />\n&nbsp\;
LOCATION:Marriott Minneapolis West 9960 Wayzata Blvd\, Minnetonka\, MN (952/544-4400) (Located on the north frontage road of I-394 between Hwy 169 & Hopkins Crossroad directly across from the ACEC/MN office)
UID:e.9128.1263
SEQUENCE:3
DTSTAMP:20260421T003950Z
URL:http://cecm.memberzone.com/events/details/business-practices-summit-competitive-compensation-1263
END:VEVENT

END:VCALENDAR
