BEGIN:VCALENDAR
VERSION:2.0
PRODID:-//ChamberMaster//Event Calendar 2.0//EN
METHOD:PUBLISH
X-PUBLISHED-TTL:P3D
REFRESH-INTERVAL:P3D
CALSCALE:GREGORIAN
BEGIN:VEVENT
DTSTART:20170221T143000Z
DTEND:20170221T180000Z
X-MICROSOFT-CDO-ALLDAYEVENT:FALSE
SUMMARY:Capitol Consulting Day
DESCRIPTION:ACEC/MN members are invited to St. Paul on Tuesday\, February 21\, 2017 from 8:00 am to 12:00 pm to participate in the 19th annual Capitol Consulting Day. Mark your calendars and make plans today to join us for ACEC/MN's annual day at the hill. \n\n\n\nActions at the legislature a have significant effect on the consulting engineering community. We need to join together to educate our legislators on why these issues affecting our profession are important and matter not just to consulting engineers\, but to Minnesota.\n\n\n\nThe complete program and materials for making an appointment with your legislators is HERE\n\n\n\nDon't know who represents you? Find your legislator HERE.
X-ALT-DESC;FMTTYPE=text/html:<p><span style="font-family:arial\,sans-serif\;"><span style="font-size:10.0pt\;">ACEC/MN members are invited to St. Paul on Tuesday\, February 21\, 2017 from 8:00 am to 12:00 pm to participate in the 19<sup>th</sup> annual Capitol Consulting Day. Mark your calendars and make plans today to join us for ACEC/MN&rsquo\;s annual day at the hill.&nbsp\;<br />\n<br />\nActions at the legislature a have significant effect on the consulting engineering community. We need to join together to educate our legislators on why these issues affecting our profession are important and matter not just to consulting engineers\, but to Minnesota.<br />\n<br />\nThe complete program and materials for making an appointment with your legislators is <strong><a href="https://chambermaster.blob.core.windows.net/userfiles/UserFiles/chambers/9128/File/Capitil_Consulting_Day/Capitol_Consulting_Day_2017/CapConsDayplusMeetingRequest2017.pdf">HERE</a></strong><br />\n<br />\nDon&#39\;t know who represents you? Find your legislator <strong><a href="http://www.gis.leg.mn/OpenLayers/districts/">HERE</a></strong>.</span></span></p>\n\n<p><br />\n&nbsp\;</p>\n
LOCATION:Star of the North Room (basement level) State Capitol Building 75 Dr. Rev. Martin Luther King Jr. Blvd.
UID:e.9128.1126
SEQUENCE:3
DTSTAMP:20260422T025439Z
URL:http://cecm.memberzone.com/events/details/capitol-consulting-day-1126
END:VEVENT

END:VCALENDAR
