BEGIN:VCALENDAR
VERSION:2.0
PRODID:-//ChamberMaster//Event Calendar 2.0//EN
METHOD:PUBLISH
X-PUBLISHED-TTL:P3D
REFRESH-INTERVAL:P3D
CALSCALE:GREGORIAN
BEGIN:VEVENT
DTSTART:20180428T170000Z
DTEND:20180428T210000Z
X-MICROSOFT-CDO-ALLDAYEVENT:FALSE
SUMMARY:Civil Engineering Day at the Science Museum of MN
DESCRIPTION:The roads you drive on\, the bridges you cross\, the buildings in which you study or work\, the power behind your lights and anything you can plug in\, the water you drink they're all possible because of civil engineering! Its impact is everywhere. On Civil Engineering Day\, you'll meet with civil engineers and tinker with activities that address the challenges civil engineers face every day.\n\nRound out your visit with the must-see Dream Big: Engineering Our World Omnitheater film. You'll meet four civil engineers who make a living finding solutions to make life better for people around the world.\n\nCivil Engineering Day festivities are included with exhibit gallery admission. Buy tickets here. Admission to Dream Big requires an additional ticket.
X-ALT-DESC;FMTTYPE=text/html:<p style="margin: 1em 0px\; padding: 0px\; color: rgb(60\, 56\, 56)\; font-family: proxima-nova\, arial\, sans-serif\; font-size: 18px\;">The roads you drive on\, the bridges you cross\, the buildings in which you study or work\, the power behind your lights and anything you can plug in\, the water you drink&mdash\;they&rsquo\;re all possible because of civil engineering! Its impact is everywhere. On Civil Engineering Day\, you&rsquo\;ll meet with civil engineers and tinker with activities that address the challenges civil engineers face every day.</p>\n\n<p style="margin: 1em 0px\; padding: 0px\; color: rgb(60\, 56\, 56)\; font-family: proxima-nova\, arial\, sans-serif\; font-size: 18px\;">Round out your visit with the must-see&nbsp\;<a href="https://www.smm.org/dreambig" style="color: rgb(10\, 169\, 140)\;"><em>Dream Big: Engineering Our World</em></a>&nbsp\;Omnitheater film. You&rsquo\;ll meet four civil engineers who make a living finding solutions to make life better for people around the world.</p>\n\n<p style="margin: 1em 0px 0px\; padding: 0px\; color: rgb(60\, 56\, 56)\; font-family: proxima-nova\, arial\, sans-serif\; font-size: 18px\;">Civil Engineering Day festivities are included with exhibit gallery admission. <strong><a href="https://www.smm.org/civilengineering">Buy tickets here</a>.</strong> Admission to&nbsp\;<em>Dream Big</em>&nbsp\;requires an additional ticket.</p>\n
LOCATION:Science Museum of MN 120 West Kellogg Blvd St. Paul\, MN 55102
UID:e.9128.1278
SEQUENCE:3
DTSTAMP:20260420T213156Z
URL:http://cecm.memberzone.com/events/details/civil-engineering-day-at-the-science-museum-of-mn-1278
END:VEVENT

END:VCALENDAR
