BEGIN:VCALENDAR
VERSION:2.0
PRODID:-//ChamberMaster//Event Calendar 2.0//EN
METHOD:PUBLISH
X-PUBLISHED-TTL:P3D
REFRESH-INTERVAL:P3D
CALSCALE:GREGORIAN
BEGIN:VEVENT
DTSTART:20140115T133000Z
DTEND:20140115T183000Z
X-MICROSOFT-CDO-ALLDAYEVENT:FALSE
SUMMARY:Communicate Effectively - Half-Day Conference
DESCRIPTION:The definition of communication is the activity of conveying information through the exchange of thoughts\, messages\, or information\, through speech\, visuals\, signals\, writing\, or behavior. It is the meaningful exchange of information between two or more living creatures. Seems simple right?  Why then does communication scare so many of us\; public speaking\, putting together the client proposal\, and that next interview that can cause you to win or lose that prospect. Come to this morning seminar we'll help you develop the skills necessary to effectively communicate in a variety of mediums. Be it public speaking\, writing or going through the interview process\, this program addresses each of these important aspects of the communication process. \n\n \n\nThis presentation is good for leaders of all levels who desire ways to improve their communication skills\, obtain and retain new clients.\n\n \n\nSESSION DESCRIPTIONS:\n\n\n\n10 Tips for Public Speaking - Wally Ouse \n\nFeeling some nervousness before giving a speech is natural and even beneficial\, but too much nervousness can be detrimental. Come to this presentation to learn the ten proven tips on how to control your butterflies. Wally\, a current toastmaster will go through all ten tips He will give you the tools you need to gain more confidence with an audience and to give stronger presentations.\n\n \n\nWriting a Winning Proposal   Marlene Johnson\n\nHow you write matters.  A winning proposal must do more than simply present information about who you are and what you do.   It must convince your readers that you understand their needs as well as they do and you have the best solution.   If you struggle with writing proposals that are clear\, concise\, and memorable\, this session will give you strategies for getting the results you want.  \n\n \n\nYou will learn how to:\n\n\n	\n		Create proposals that focus on client needs\n	\n		Gather the right information\n	\n		Organize your content for greatest impact\n	\n		Use formatting strategies to highlight your ideas\n	\n		Choose the right tone and style \n	\n		Stand out from the competition \n\n \n\nWinning Presence for New Business Interviews: Win Over Decision-Makers - Dean Hyers \n\nFor most of us\, walking into a room full of decision-makers to make an argument about why we should be picked over our competition is a pressure we'd rather do without. We would all love to deliver the work\, but the challenge of winning the job in the first place can stop us in our tracks. We don't know what to say or how to say it\, and so often\, we get hit with simple performance anxiety.\n\nIn this powerful presentation\, Dean will share his formula for success\, focusing on:\n\n \n\n\n	\n		How to transform presentation nerves into confident presence\, in front of even the most challenging audiences\n	\n		How to design messages that speak to what decision-makers care about\, and that lead them where you need them to go\n	\n		How to deliver these messages with dynamism and authenticity\n\n \n\nThis formula will not only give you a new level of ability to perform inside the challenge of interviews\, but it might even create an experience you never thought possible: You might actually have fun.\n\n\n\nPRESENTERS:\n\nWally Ouse: Mechanical Engineer for 44 plus years\, principal of his own firm for 28 years\, currently working with Braun Intertec Geothermal\, Inc.  Wally is a charter member of Eloquent Engineers Toastmaster club involved with mentoring new Speech Craft participants. He is a Past Board Member\, Past President and Past National Director of ACEC/MN.  Wally has been involved in ACEC/MN legislative activities as well as given numerous presentations to public clients including school boards\, church boards and city councils.\n\n \n\nMarlene Johnson: With over 25 years' experience\, Marlene has been helping clients of Fortune 500 companies and in a wide variety of industries become more productive and achieve better results through their written and spoken communications.  Marlene holds degrees in English and American Studies from the University of Minnesota. She has studied acting at HB Studios in New York City and is a member of the National Storytelling Network.  \n\n \n\nDean Hyers: As an award-winning filmmaker and founder of SagePresence\, Dean Hyers has spent the last 12 years translating his experience of creating compelling stories and facilitating powerful performance to the professional world. In the process\, he has helped client companies win over $3 BILLION in new business.
X-ALT-DESC;FMTTYPE=text/html:<span style="font-size: 11pt\;"><span style="font-family: arial\,sans-serif\;">The definition of communication is</span></span><span style="font-size: 11pt\;"><span style="font-family: arial\,sans-serif\;"> the activity of conveying information through the exchange of thoughts\, messages\, or information\, through speech\, visuals\, signals\, writing\, or behavior. It is the meaningful exchange of information between two or more living creatures. Seems simple right?&nbsp\; Why then does communication scare so many of us\; public speaking\, putting together the client proposal\, and that next interview that can cause you to win or lose that prospect. Come to this morning seminar we&rsquo\;ll help you develop the skills necessary to </span></span><span style="font-size: 11pt\;"><span style="font-family: arial\,sans-serif\;">effectively</span></span><span style="font-size: 11pt\;"><span style="font-family: arial\,sans-serif\;"> communicate in a variety of mediums. Be it public speaking\, writing or going through the interview process\, this program addresses each of these important aspects of the communication process. </span></span><br />\n&nbsp\;<br />\n<span style="font-size: 11pt\;"><span style="font-family: arial\,sans-serif\;">This presentation is good for leaders of all levels who desire ways to improve their communication skills\, obtain and retain new clients.</span></span><br />\n&nbsp\;<br />\n<span style="font-size: 11pt\;"><strong>SESSION DESCRIPTIONS:</strong></span><br />\n<br />\n<strong><span style="font-size: 11pt\;"><span style="font-family: arial\,sans-serif\;"><em>10 Tips for Public Speaking</em></span></span></strong><em><span style="font-size: 11pt\;"><span style="font-family: arial\,sans-serif\;"> <strong>- Wally Ouse </strong></span></span></em><br />\n<span style="font-size: 11pt\;"><span style="font-family: arial\,sans-serif\;"><span style="color: black\;">Feeling some nervousness before giving a speech is natural and even beneficial\, but too much nervousness can be detrimental. Come to this presentation to learn the ten proven tips on how to control your butterflies. Wally\, a current toastmaster will go through all ten tips He will give you the tools you need to gain more confidence with an audience and to give stronger presentations.</span></span></span><br />\n&nbsp\;<br />\n<strong><span style="font-size: 11pt\;"><em>Writing a Winning Proposal &ndash\; Marlene Johnson</em></span></strong><br />\n<span style="font-size: 11pt\;"><span style="font-family: arial\,sans-serif\;">How you write matters.&nbsp\; A winning proposal must do more than simply present information about who you are and what you do.&nbsp\;&nbsp\; It must convince your readers that you understand their needs as well as they do and you have the best solution.&nbsp\;&nbsp\; If you struggle with writing proposals that are clear\, concise\, and memorable\, this session will give you strategies for getting the results you want.&nbsp\; </span></span><br />\n&nbsp\;<br />\n<span style="font-size: 11pt\;"><span style="font-family: arial\,sans-serif\;">You will learn how to:</span></span><br />\n<ul>\n	<li>\n		<span style="font-family: arial\,sans-serif\;"><span style="font-size: medium\;">Create proposals that focus on client needs</span></span></li>\n	<li>\n		<span style="font-family: arial\,sans-serif\;"><span style="font-size: medium\;">Gather the right information</span></span></li>\n	<li>\n		<span style="font-family: arial\,sans-serif\;"><span style="font-size: medium\;">Organize your content for greatest impact</span></span></li>\n	<li>\n		<span style="font-family: arial\,sans-serif\;"><span style="font-size: medium\;">Use formatting strategies to highlight your ideas</span></span></li>\n	<li>\n		<span style="font-family: arial\,sans-serif\;"><span style="font-size: medium\;">Choose the right tone and style </span></span></li>\n	<li>\n		<span style="font-family: arial\,sans-serif\;"><span style="font-size: medium\;">Stand out from the competition </span></span></li>\n</ul>\n&nbsp\;<br />\n<strong><em><span style="font-size: 11pt\;"><span style="font-family: arial\,sans-serif\;">Winning Presence for New Business Interviews: Win Over Decision-Makers - Dean Hyers </span></span></em></strong><br />\n<span style="font-size: 11pt\;"><span style="font-family: arial\,sans-serif\;">For most of us\, walking into a room full of decision-makers to make an argument about why we should be picked over our competition is a pressure we&rsquo\;d rather do without. We would all love to deliver the work\, but the challenge of winning the job in the first place can stop us in our tracks. We don&rsquo\;t know what to say or how to say it\, and so often\, we get hit with simple performance anxiety.</span></span><br />\n<span style="font-size: 11pt\;"><span style="font-family: arial\,sans-serif\;">In this powerful presentation\, Dean will share his formula for success\, focusing on:</span></span><br />\n&nbsp\;<br />\n<ul>\n	<li>\n		<span style="font-size: 11pt\;"><span style="font-family: arial\,sans-serif\;">How to transform presentation nerves into confident presence\, in front of even the most challenging audiences</span></span></li>\n	<li>\n		<span style="font-size: 11pt\;"><span style="font-family: arial\,sans-serif\;">How to design messages that speak to what decision-makers care about\, and that lead them where you need them to go</span></span></li>\n	<li>\n		<span style="font-size: 11pt\;"><span style="font-family: arial\,sans-serif\;">How to deliver these messages with dynamism and authenticity</span></span></li>\n</ul>\n&nbsp\;<br />\n<span style="font-size: 11pt\;"><span style="font-family: arial\,sans-serif\;">This formula will not only give you a new level of ability to perform inside the challenge of interviews\, but it might even create an experience you never thought possible: <em>You might actually have fun.<br />\n<br />\n<strong><span style="font-size: 11pt\;"><span style="font-family: arial\,sans-serif\;">PRESENTERS:</span></span></strong><br />\n<strong><em><span style="font-size: 11pt\;"><span style="font-family: arial\,sans-serif\;"><span style="color: black\;">Wally Ouse: </span></span></span></em></strong><span style="font-size: 11pt\;"><span style="font-family: arial\,sans-serif\;"><span style="color: black\;">Mechanical Engineer for 44 plus years\, principal of his own firm for 28 years\, currently working with Braun Intertec Geothermal\, Inc.&nbsp\; Wally is a charter member of Eloquent Engineers Toastmaster club involved with mentoring new Speech Craft participants. He is a Past Board Member\, Past President and Past National Director of ACEC/MN.&nbsp\; Wally has been involved in ACEC/MN legislative activities as well as given numerous presentations to public clients including school boards\, church boards and city councils.</span></span></span><br />\n&nbsp\;<br />\n<span style="font-size: medium\;"><strong><em><span style="font-size: 11pt\;"><span style="font-family: arial\,sans-serif\;">Marlene Johnson:</span></span></em></strong></span> <span style="font-size: 11pt\;"><span style="font-family: arial\,sans-serif\;">With over 25 years&rsquo\; experience\, Marlene has been helping clients of Fortune 500 companies and in a wide variety of industries become more productive and achieve better results through their written and spoken communications.&nbsp\; Marlene holds degrees in English and American Studies from the University of Minnesota. She has studied acting at HB Studios in New York City and is a member of the National Storytelling Network</span></span><span style="font-family: arial\,sans-serif\;">.&nbsp\; </span><br />\n&nbsp\;<br />\n<strong><em><span style="font-size: 11pt\;"><span style="font-family: arial\,sans-serif\;">Dean Hyers:</span></span></em></strong> <span style="font-size: 11pt\;"><span style="font-family: arial\,sans-serif\;">As an award-winning filmmaker and founder of SagePresence\, Dean Hyers has spent the last 12 years translating his experience of creating compelling stories and facilitating powerful performance to the professional world. In the process\, he has helped client companies win over </span></span><strong><span style="font-size: 11pt\;"><span style="font-family: arial\,sans-serif\;">$3 BILLION</span></span></strong><span style="font-size: 11pt\;"><span style="font-family: arial\,sans-serif\;"> in new business.&nbsp\;</span></span></em></span></span><br />\n<br />\n
LOCATION:Marriott Minneapolis West 9960 Wayzata Blvd\, Minnetonka\, MN (952/544-4400) (Located on the north frontage road of I-394 between Hwy 169 & Hopkins Crossroad directly across from the ACEC/MN office)
UID:e.9128.645
SEQUENCE:3
DTSTAMP:20260425T040910Z
URL:http://cecm.memberzone.com/events/details/communicate-effectively-half-day-conference-01-15-2014-645
END:VEVENT

END:VCALENDAR
