BEGIN:VCALENDAR
VERSION:2.0
PRODID:-//ChamberMaster//Event Calendar 2.0//EN
METHOD:PUBLISH
X-PUBLISHED-TTL:P3D
REFRESH-INTERVAL:P3D
CALSCALE:GREGORIAN
BEGIN:VEVENT
DTSTART:20151218T173000Z
DTEND:20151218T190000Z
X-MICROSOFT-CDO-ALLDAYEVENT:FALSE
SUMMARY:Contech Bridge Solutions: Topics and Case Studies
DESCRIPTION:Most design engineers have a pretty good grasp on when and where to use the everyday precast or cast in place box culvert.  The same could be said for a conventional clear span bridge.  However\, only a small percentage of the engineering community knows when and where a Structural Plate\, Steel Truss\, or Conspan Bridge System is a viable choice for a site.  Believe it or not\, many of the common concerns/misconceptions (durability\, scour\, agency acceptance\, etc.)\, related to these structures\, can be easily addressed. \n\n \n\nFew projects go through their design life without discussions related to cost or schedule. If you could save your client money\, time\, and secure your place as their options-centric designer\, would you do it?  Contech Engineered Solutions provides a comprehensive array of plate\, precast\, and truss structures\, with the best known brands available worldwide.  Contech bridges   vehicular and pedestrian   fit a wide variety of applications\, spanning distances from five to 300 feet and more.  These brands include Contech Structural Plate\, CON/SPAN\, BEBO\, Continental Bridge\, Steadfast EXPRESS and U.S. Bridge.  Experience\, innovative thinking and exceptional service have put more than 78\,000 Contech bridge installations\, on the map worldwide\, since 1931.\n\n \n\nThis seminar will cover the following topics:\n\n\n	Technical Information on Structural Plate\, Precast\, and Truss Bridges\n	Successful past projects and why a Contech Structure was chosen\n	Foundations and End Treatment Options\n	Relining aging bridges and box culverts with new structures\n	Environmental considerations and how they play into structure selection\n	Design tools & utilizing Contech resources\n\n \n\nSpeaker(s): Jake Vogel is the Regional Bridge Consultant in Minnesota and Iowa for CONTECH Engineered Solutions. Jake has been with CONTECH since 1999 and has spent the last sixteen years working in Colorado in various markets including DOT\, county\, federal\, municipal\, and private/land development.  Jake received his BS in Engineering from the School of Mines in Rapid City\, South Dakota.
X-ALT-DESC;FMTTYPE=text/html:<span style="color:black\;"><span style="font-family:arial\,sans-serif\;"><span style="font-size:10.0pt\;">Most design engineers have a pretty good grasp on when and where to use the everyday precast or cast in place box culvert.&nbsp\; The same could be said for a conventional clear span bridge.&nbsp\; However\, only a small percentage of the engineering community knows when and where a Structural Plate\, Steel Truss\, or Conspan Bridge System is a viable choice for a site.&nbsp\; Believe it or not\, many of the common concerns/misconceptions (durability\, scour\, agency acceptance\, etc.)\, related to these structures\, can be easily addressed. </span></span></span><br />\n&nbsp\;<br />\n<span style="color:black\;"><span style="font-family:arial\,sans-serif\;"><span style="font-size:10.0pt\;">Few projects go through their design life without discussions related to cost or schedule. If you could save your client money\, time\, and secure your place as their options-centric designer\, would you do it?&nbsp\; Contech Engineered Solutions provides a comprehensive array of plate\, precast\, and truss structures\, with the best known brands available worldwide.&nbsp\; Contech bridges &ndash\; vehicular and pedestrian &ndash\; fit a wide variety of applications\, spanning distances from five to 300 feet and more.&nbsp\; These brands include Contech Structural Plate\, CON/SPAN\, BEBO\, Continental Bridge\, Steadfast EXPRESS and U.S. Bridge.&nbsp\; Experience\, innovative thinking and exceptional service have put more than 78\,000 Contech bridge installations\, on the map worldwide\, since 1931.</span></span></span><br />\n&nbsp\;<br />\n<span style="font-family:arial\,sans-serif\;"><span style="font-size:10.0pt\;">This seminar will cover the following topics:</span></span>\n\n<ul>\n	<li><span style="font-family:arial\,sans-serif\;"><span style="font-size:10.0pt\;">Technical Information on Structural Plate\, Precast\, and Truss Bridges</span></span></li>\n	<li><span style="font-family:arial\,sans-serif\;"><span style="font-size:10.0pt\;">Successful past projects and why a Contech Structure was chosen</span></span></li>\n	<li><span style="font-family:arial\,sans-serif\;"><span style="font-size:10.0pt\;">Foundations and End Treatment Options</span></span></li>\n	<li><span style="font-family:arial\,sans-serif\;"><span style="font-size:10.0pt\;">Relining aging bridges and box culverts with new structures</span></span></li>\n	<li><span style="font-family:arial\,sans-serif\;"><span style="font-size:10.0pt\;">Environmental considerations and how they play into structure selection</span></span></li>\n	<li><span style="font-family:arial\,sans-serif\;"><span style="font-size:10.0pt\;">Design tools &amp\; utilizing Contech resources</span></span></li>\n</ul>\n&nbsp\;<br />\n<strong><span style="font-family:arial\,sans-serif\;"><span style="font-size:10.0pt\;">Speaker(s)</span></span></strong><span style="font-family:arial\,sans-serif\;"><span style="font-size:10.0pt\;">: Jake Vogel is the Regional Bridge Consultant in Minnesota and Iowa for CONTECH Engineered Solutions. Jake has been with CONTECH since 1999 and has spent the last sixteen years working in Colorado in various markets including DOT\, county\, federal\, municipal\, and private/land development.&nbsp\; Jake received his BS in Engineering from the School of Mines in Rapid City\, South Dakota.&nbsp\; </span></span><br />\n&nbsp\;
LOCATION:Marriott Minneapolis West 9960 Wayzata Blvd\, Minnetonka MN (952/544-4400) (Located on the north frontage road of I-394 between Hwy 169 & Hopkins Crossroad directly across from the ACEC/MN office)
UID:e.9128.955
SEQUENCE:3
DTSTAMP:20260423T090100Z
URL:http://cecm.memberzone.com/events/details/contech-bridge-solutions-topics-and-case-studies-12-18-2015-955
END:VEVENT

END:VCALENDAR
