BEGIN:VCALENDAR
VERSION:2.0
PRODID:-//ChamberMaster//Event Calendar 2.0//EN
METHOD:PUBLISH
X-PUBLISHED-TTL:P3D
REFRESH-INTERVAL:P3D
CALSCALE:GREGORIAN
BEGIN:VEVENT
DTSTART:20190118T140000Z
DTEND:20190118T153000Z
X-MICROSOFT-CDO-ALLDAYEVENT:FALSE
SUMMARY:Design Technology Forum Meeting - Virual Reality
DESCRIPTION:Regular meeting of the Committee\n\nAgenda:\n8:00 - 8:15: Committee Business: [Calendar Updates\, Call for Hosts and Presenters\, Vendor Participation] \n\n8:15 - 9:00: Presentation and Discussion: Virtual Reality  Presented By: Dan Stine from LHB    See below for more details about Dan and this topic.        \n\n9:00 - 9:30: **Table Topics: Break out discussion on areas of individual interest
X-ALT-DESC;FMTTYPE=text/html:<span style="font-size:12px\;"><span style="font-family:arial\;">Regular meeting of the Committee<br />\nAgenda:</span></span>\n<p><span style="font-size:12px\;"><span style="font-family:arial\;"><span style="color: rgb(97\, 92\, 83)\;">8:00 - 8:15: Committee Business: [Calendar Updates\,&nbsp\;Call for Hosts and Presenters\, Vendor Participation]&nbsp\;</span></span></span><span style="font-size:12.0pt\;\ncolor:black"><o:p></o:p></span></p>\n\n<p><span style="font-size:12px\;"><span style="font-family:arial\;"><span style="color: black\;">8:15 - 9:00:&nbsp\;Presentation and Discussion: </span><b><span style="color: rgb(0\, 111\, 201)\;">Virtual Reality&nbsp\;&nbsp\;</span></b><b><span style="color: black\;">Presented By: Dan Stine&nbsp\;from LHB&nbsp\;</span></b><span style="color: rgb(97\, 92\, 83)\;">&nbsp\; &nbsp\;See below for more details about Dan&nbsp\;and this topic.&nbsp\; &nbsp\; &nbsp\; &nbsp\;&nbsp\;</span></span></span><span style="font-size:12.0pt\;color:black"><o:p></o:p></span></p>\n\n<p><span style="font-size:12px\;"><span style="font-family:arial\;"><span style="color: rgb(97\, 92\, 83)\;">9:00 - 9:30: **Table Topics:&nbsp\;Break out discussion on areas of individual interest</span></span></span><span style="font-size:12.0pt\;color:black"><o:p></o:p></span></p>\n
LOCATION:AET | 550 Cleveland Avenue North | Saint Paul\, MN 55114 (Please park in the north lot\, closer to University)
UID:e.9128.1329
SEQUENCE:3
DTSTAMP:20260420T020739Z
URL:http://cecm.memberzone.com/events/details/design-technology-forum-meeting-virual-reality-1329
END:VEVENT

END:VCALENDAR
