BEGIN:VCALENDAR
VERSION:2.0
PRODID:-//ChamberMaster//Event Calendar 2.0//EN
METHOD:PUBLISH
X-PUBLISHED-TTL:P3D
REFRESH-INTERVAL:P3D
CALSCALE:GREGORIAN
BEGIN:VEVENT
DTSTART:20170216T220000Z
DTEND:20170217T003000Z
X-MICROSOFT-CDO-ALLDAYEVENT:FALSE
SUMMARY:Emerging Leaders Training (Register for Series 1 or 2)
DESCRIPTION:Series 1   Technical Development\n\nSeries 2   Business Development\n\n\n\nACEC/MN has designed two series for individuals committed to developing their leadership abilities.  These series impart specific skills and competencies identified by top principals and young leaders within ACEC/MN as critical for leadership success. The interactive sessions are divided into two series\; developing technical business skills and business management skills. Participants may sign up for one or both series. Programs are led by experts in the field who work with the ACEC/MN engineering community and are very familiar with the industry.\n\n \nWho Should Attend\n\nMost participants are employees of ACEC/MN member firms (mechanical/structural/electrical/civil engineers\, EITs\, drafters\, technicians\, etc.) with up to six years of experience. \n\n\nSeries 1   Technical Development\n\nProgram #1                The Big Picture & Working with Clients\n\nEngineering firm leaders bring work to their firms. Learn where to find work\, how to respond to requests\, and how to develop client relationships working as a team.\n\n \n\nWorkshop leaders:\n\nMark Leutgeb   Gausman & Moore Associates (marketing)\n\nSusanne Miller   Loucks Associates (marketing)\n\n \n\nProgram #2         Financial Operations and Practices     \n\nConsulting firms are in the business of providing professional services while generating income for their employees.  Learn the basics of company revenue\, expenses and profit.  Find out about the financial practices and management of a consulting business.\n\n\n\nWorkshop leader:\n\nRandy Geerdes   SRF Consulting (civil)\n\n\n\nProgram #3                Construction Administration & Legal Issues                    \n\nWhat are the common liability issues and situations which arise in the practice of engineering and how can you spot them\, prepare for them\, and handle them in a way that does not put your firm or license at risk.\n\n\n\nWorkshop leaders:\n\nEric Heiberg   Heley\, Duncan & Melander\, PLLP (lawyer) \n\nDave Rettner   AET (geotechnical)\n\n\n\nProgram #4                Delivery Methods/Risk Management         \n\nReview and discuss available methods of delivery\, roles and responsibilities of others\, project team - both public and private different methods and their risk\, professional risks and project types.\n\n \n\nWorkshop leader:  \n\n John Dillingham   Alliant Engineering (civil)\n\n \n\nExecutive Round Table Breakfast   Both Sessions (Feb. 27   Marriott Minneapolis West)\n\n\n\nSeries 2- Business Development\n\nProgram #1    Government Affairs\n\nLearn how government influences business\, how business influences government\, PAC's (perceptions\, roles & funding)\, value of process\, federal vs. state\, and Capitol Consulting Day.\n\n \n\nWorkshop Leader:\n\n Randy Morris & John Krapek   Randy Morris Government Relations\n\n \n\n \n\nProgram #2       Interpersonal Communication                \n\nConsider the importance of effective communication\, how to write a business letter and report\, how and when to communicate technical solutions to clients\, teamwork\, negotiation skills\, look and act the part\, commitment\, how to relate to clients emails\, and conflict resolution when you disagree with someone on a project\n\n \n\nWorkshop Leader: \n\nDoug Cooley   Michaud Cooley Erickson (mechanical)\n\n \n\nProgram #3:    Leadership Meets the Technical Professional \n\nSo you want to be a leader... Or maybe you are not quite sure.... In this session\, we will look at leadership from the world of the technical professional.  What does it mean to be a leader?  How do your choices change?  What do you need to develop?  How can you do this?  You will leave this session with greater clarity of your personal leadership choices and plan.\n\n \n\nWorkshop Leader: \n\nCheryl Leitschuch   The Leadership Energy\n\nMargaret Smith - UXL\n\n \n\nProgram #4         Career Track\n\nLearn how to create a career track that helps you maximize your professional potential and minimize the risks of career derailment along the way.   Understand how to align your strengths with your firm's goals\, and find opportunities to grow your career. \n\n \n\nWorkshop Leader:\n\nSteve Salmi   Corporate Psychologists\n\n\n\nSeries 1                                   Technical Development\n\nProgram #1                  Overview: The Big Picture & Clients                  Thurs. Feb. 2\n\nProgram #2                  Financial Operations and Practices                  Thurs. Feb. 9\n\nProgram #2                  Construction Administration & Legal Issues      Thurs. Feb. 16\n\nProgram #4                  Delivery Methods Risk Management                Thurs. Feb. 23\n\n \n\nExecutive Roundtable Breakfast   Both Sessions                              Mon. Feb. 27 (Marriott Minneapolis West)\n\n \n\nSeries 2                                   Businesses Development\n\nProgram #1                  Government Affairs                                          Thurs. Mar. 2\n\nProgram #2                  Interpersonal Communication                           Thurs. Mar. 9\n\nProgram #3                  Leadership                                                     Thurs. Mar. 16\n\nProgram #4                  Career Track                                                  Thurs. Mar. 23
X-ALT-DESC;FMTTYPE=text/html:<span style="font-family:arial\;"><span style="font-size:14.0pt\;">Series 1 &ndash\; Technical Development</span><br />\n<span style="font-size:14.0pt\;">Series 2 &ndash\; Business Development</span></span><br />\n<br />\n<span style="font-size:10.0pt\;">ACEC/MN has designed two series for individuals committed to developing their leadership abilities. &nbsp\;These series impart specific skills and competencies identified by top principals and young leaders within ACEC/MN as critical for leadership success. The interactive sessions are divided into two series\; developing technical business skills and business management skills. Participants may sign up for one or both series. Programs are led by experts in the field who work with the ACEC/MN engineering community and are very familiar with the industry.</span><br />\n&nbsp\;\n<h4><span style="font-size:10.0pt\;">Who Should Attend</span><br />\nMost participants are employees of ACEC<span style="font-family: arial\, sans-serif\;">/MN member firms (mechanical/structural/electrical/civil engineers\, </span>EITs<span style="font-family: arial\, sans-serif\;">\, drafters\, technicians\, etc.) with up to six years of experience.&nbsp\;</span></h4>\n<br />\n<span style="font-size:14.0pt\;">Series 1 &ndash\; Technical Development</span><br />\n<strong><span style="font-family:arial\,sans-serif\;"><span style="font-size:11.0pt\;">Program #1&nbsp\;&nbsp\;&nbsp\;&nbsp\;&nbsp\;&nbsp\;&nbsp\;&nbsp\;&nbsp\;&nbsp\;&nbsp\;&nbsp\;&nbsp\;&nbsp\;&nbsp\; <span style="color:black\;">The Big Picture &amp\; Working with Clients</span></span></span></strong><br />\n<span style="color:black\;"><span style="font-family:arial\,sans-serif\;">Engineering firm leaders bring work to their firms. Learn where to find work\, how to respond to requests\, and how to develop client relationships working as a team.</span></span><br />\n&nbsp\;<br />\n<span style="font-family:arial\,sans-serif\;"><span style="font-size:10.0pt\;">Workshop leaders:<br />\nMark Leutgeb &ndash\; Gausman &amp\; Moore Associates (marketing)</span></span><br />\n<span style="font-family:arial\,sans-serif\;">Susanne Miller &ndash\; Loucks Associates (marketing)</span><br />\n&nbsp\;<br />\n<strong><span style="font-family:arial\,sans-serif\;"><span style="font-size:11.0pt\;">Program #2 &nbsp\;&nbsp\; &nbsp\;&nbsp\;&nbsp\;&nbsp\; Financial Operations and Practices</span></span></strong>&nbsp\;&nbsp\;&nbsp\;&nbsp\;&nbsp\;<br />\n<span style="color:black\;"><span style="font-family:arial\,sans-serif\;">Consulting firms are in the business of providing professional services while generating income for their employees.&nbsp\; Learn the basics of company revenue\, expenses and profit.&nbsp\; Find out about the financial practices and management of a consulting business.</span></span><br />\n<br />\n<span style="font-family:arial\,sans-serif\;"><span style="font-size:10.0pt\;">Workshop leader:<br />\nRandy Geerdes &ndash\; SRF Consulting (civil)</span></span><br />\n<br />\n<strong><span style="font-family:arial\,sans-serif\;"><span style="font-size:11.0pt\;">Program #3 &nbsp\;&nbsp\;&nbsp\;&nbsp\;&nbsp\;&nbsp\;&nbsp\;&nbsp\;&nbsp\;&nbsp\;&nbsp\;&nbsp\;&nbsp\;&nbsp\; Construction Administration &amp\; Legal Issues&nbsp\;&nbsp\;&nbsp\;&nbsp\;&nbsp\;&nbsp\;&nbsp\;&nbsp\;&nbsp\;&nbsp\;&nbsp\;&nbsp\;&nbsp\;&nbsp\;&nbsp\;&nbsp\;&nbsp\;&nbsp\;&nbsp\; </span></span></strong><br />\n<span style="font-family:arial\,sans-serif\;"><span style="font-size:10.0pt\;">What are the common liability issues and situations which arise in the practice of engineering and how can you spot them\, prepare for them\, and handle them in a way that does not put your firm or license at risk.</span></span><br />\n<br />\n<span style="font-family:arial\,sans-serif\;"><span style="font-size:10.0pt\;">Workshop leaders:<br />\nEric Heiberg &ndash\; Heley\, Duncan &amp\; Melander\, PLLP (lawyer) </span></span><br />\n<span style="font-family:arial\,sans-serif\;"><span style="font-size:10.0pt\;">Dave Rettner &ndash\; AET (geotechnical)</span></span><br />\n<br />\n<strong><span style="font-family:arial\,sans-serif\;"><span style="font-size:11.0pt\;">Program #4&nbsp\;&nbsp\;&nbsp\;&nbsp\;&nbsp\;&nbsp\;&nbsp\;&nbsp\;&nbsp\;&nbsp\;&nbsp\;&nbsp\;&nbsp\;&nbsp\;&nbsp\; Delivery Methods/Risk Management</span></span></strong> &nbsp\;&nbsp\;&nbsp\;&nbsp\;&nbsp\;&nbsp\;&nbsp\;&nbsp\;<br />\n<span style="font-family:arial\,sans-serif\;"><span style="font-size:10.0pt\;">Review and discuss available methods of delivery\, roles and responsibilities of others\, project team - both public and private different methods and their risk\, professional risks and project types.</span></span><br />\n&nbsp\;<br />\n<span style="font-family:arial\,sans-serif\;"><span style="font-size:10.0pt\;">Workshop leader:&nbsp\;&nbsp\;<br />\n&nbsp\;John Dillingham &ndash\; Alliant Engineering (civil)</span></span><br />\n&nbsp\;<br />\n<strong><span style="font-family:arial\,sans-serif\;"><span style="font-size:14.0pt\;">Executive Round Table Breakfast &ndash\; Both Sessions (</span></span></strong><strong><span style="font-family:arial\,sans-serif\;"><span style="font-size:10.0pt\;">Feb. 27 &ndash\; Marriott Minneapolis West)</span></span></strong><br />\n<br />\n<span style="font-size:14.0pt\;">Series 2- Business Development</span><br />\n<strong><span style="font-family:arial\,sans-serif\;"><span style="font-size:11.0pt\;">Program #1&nbsp\;&nbsp\;&nbsp\; Government Affairs</span></span></strong><br />\n<span style="font-family:arial\,sans-serif\;"><span style="font-size:10.0pt\;">Learn how government influences business\, how business influences government\, PAC&rsquo\;s (perceptions\, roles &amp\; funding)\, value of process\, federal vs. state\, and Capitol Consulting Day.</span></span><br />\n&nbsp\;<br />\n<span style="font-family:arial\,sans-serif\;"><span style="font-size:10.0pt\;">Workshop Leader:<br />\n&nbsp\;Randy Morris &amp\; John Krapek &ndash\; Randy Morris Government Relations</span></span><br />\n&nbsp\;<br />\n&nbsp\;<br />\n<strong><span style="font-family:arial\,sans-serif\;"><span style="font-size:11.0pt\;">Program #2&nbsp\;&nbsp\;&nbsp\; &nbsp\;&nbsp\;&nbsp\;Interpersonal Communication</span></span></strong>&nbsp\;&nbsp\;&nbsp\;&nbsp\;&nbsp\;&nbsp\;&nbsp\;&nbsp\;&nbsp\;&nbsp\;&nbsp\;&nbsp\;&nbsp\;&nbsp\;&nbsp\;&nbsp\;<br />\n<span style="font-family:arial\,sans-serif\;"><span style="font-size:10.0pt\;">Consider the importance of effective communication\, how to write a business letter and report\, how and when to communicate technical solutions to clients\, teamwork\, negotiation skills\, look and act the part\, commitment\, how to relate to clients emails\, and conflict resolution when you disagree with someone on a project</span></span><br />\n&nbsp\;<br />\n<span style="font-family:arial\,sans-serif\;"><span style="font-size:10.0pt\;">Workshop Leader:&nbsp\;<br />\nDoug Cooley &ndash\; Michaud Cooley Erickson (mechanical)</span></span><br />\n&nbsp\;<br />\n<strong><span style="font-family:arial\,sans-serif\;"><span style="font-size:11.0pt\;">Program #3</span></span></strong>: &nbsp\;&nbsp\; <strong><span style="font-family:arial\,sans-serif\;"><span style="font-size:11.0pt\;">Leadership Meets the Technical Professional</span></span></strong>&nbsp\;<br />\n<span style="font-family:arial\,sans-serif\;">So you want to be a leader... Or maybe you are not quite sure.... In this session\, we will look at leadership from the world of the technical professional. &nbsp\;What does it mean to be a leader? &nbsp\;How do your choices change? &nbsp\;What do you need to develop? &nbsp\;How can you do this? &nbsp\;You will leave this session with greater clarity of your personal leadership choices and plan.</span><br />\n&nbsp\;<br />\n<span style="font-family:arial\,sans-serif\;"><span style="font-size:10.0pt\;">Workshop Leader:&nbsp\;<br />\nCheryl Leitschuch &ndash\; The Leadership Energy</span></span><br />\n<span style="font-family:arial\,sans-serif\;"><span style="font-size:10.0pt\;">Margaret Smith - UXL</span></span><br />\n&nbsp\;<br />\n<strong><span style="font-family:arial\,sans-serif\;"><span style="font-size:11.0pt\;">Program #4&nbsp\;&nbsp\;&nbsp\;&nbsp\;&nbsp\;&nbsp\;&nbsp\;&nbsp\; Career Track</span></span></strong><br />\n<span style="font-family:arial\,sans-serif\;"><span style="font-size:10.0pt\;">Learn how to create a career track that helps you maximize your professional potential and minimize the risks of career derailment along the way.&nbsp\;&nbsp\; Understand how to align your strengths with your firm&rsquo\;s goals\, and find opportunities to grow your career. </span></span><br />\n&nbsp\;<br />\n<span style="font-family:arial\,sans-serif\;"><span style="font-size:10.0pt\;">Workshop Leader:<br />\nSteve Salmi &ndash\; Corporate Psychologists</span></span><br />\n<br />\n<strong><span style="font-family:arial\,sans-serif\;">Series 1 &nbsp\;&nbsp\;&nbsp\;&nbsp\;&nbsp\;&nbsp\;&nbsp\;&nbsp\;&nbsp\;&nbsp\;&nbsp\;&nbsp\;&nbsp\;&nbsp\;&nbsp\;&nbsp\;&nbsp\;&nbsp\;&nbsp\;&nbsp\;&nbsp\;&nbsp\;&nbsp\;&nbsp\;&nbsp\;&nbsp\;&nbsp\;&nbsp\;&nbsp\;&nbsp\;&nbsp\;&nbsp\;&nbsp\; Technical Development</span></strong><br />\n<span style="font-family:arial\,sans-serif\;">Program #1&nbsp\;&nbsp\;&nbsp\;&nbsp\;&nbsp\;&nbsp\;&nbsp\;&nbsp\;&nbsp\;&nbsp\;&nbsp\;&nbsp\;&nbsp\;&nbsp\;&nbsp\;&nbsp\;&nbsp\; Overview: The Big Picture &amp\; Clients&nbsp\;&nbsp\;&nbsp\;&nbsp\;&nbsp\;&nbsp\;&nbsp\;&nbsp\;&nbsp\;&nbsp\;&nbsp\;&nbsp\;&nbsp\;&nbsp\;&nbsp\;&nbsp\;&nbsp\; Thurs. Feb. 2</span><br />\n<span style="font-family:arial\,sans-serif\;">Program #2&nbsp\;&nbsp\;&nbsp\;&nbsp\;&nbsp\;&nbsp\;&nbsp\;&nbsp\;&nbsp\;&nbsp\;&nbsp\;&nbsp\;&nbsp\;&nbsp\;&nbsp\;&nbsp\;&nbsp\; Financial Operations and Practices</span>&nbsp\;&nbsp\;&nbsp\;&nbsp\;&nbsp\;&nbsp\;&nbsp\;&nbsp\;&nbsp\;&nbsp\;&nbsp\;&nbsp\;&nbsp\;&nbsp\;&nbsp\;&nbsp\;&nbsp\; <span style="font-family:arial\,sans-serif\;">Thurs. Feb. 9<br />\nProgram #2&nbsp\;&nbsp\;&nbsp\;&nbsp\;&nbsp\;&nbsp\;&nbsp\;&nbsp\;&nbsp\;&nbsp\;&nbsp\;&nbsp\;&nbsp\;&nbsp\;&nbsp\;&nbsp\;&nbsp\; Construction Administration &amp\; Legal Issues&nbsp\;&nbsp\;&nbsp\;&nbsp\;&nbsp\; Thurs. Feb. 16</span><br />\nP<span style="font-family:arial\,sans-serif\;">rogram #4&nbsp\;&nbsp\;&nbsp\;&nbsp\;&nbsp\;&nbsp\;&nbsp\;&nbsp\;&nbsp\;&nbsp\;&nbsp\;&nbsp\;&nbsp\;&nbsp\;&nbsp\;&nbsp\;&nbsp\; Delivery Methods Risk Management&nbsp\;&nbsp\;&nbsp\;&nbsp\;&nbsp\;&nbsp\; &nbsp\;&nbsp\;&nbsp\;&nbsp\;&nbsp\;&nbsp\;&nbsp\;&nbsp\; Thurs. Feb. 23</span><br />\n&nbsp\;<br />\n<strong><span style="font-family:arial\,sans-serif\;">Executive Roundtable Breakfast &ndash\; Both Sessions &nbsp\;&nbsp\;&nbsp\;&nbsp\;&nbsp\;&nbsp\;&nbsp\;&nbsp\;&nbsp\;&nbsp\;&nbsp\;&nbsp\;&nbsp\;&nbsp\;&nbsp\;&nbsp\;&nbsp\;&nbsp\;&nbsp\;&nbsp\;&nbsp\;&nbsp\;&nbsp\;&nbsp\;&nbsp\;&nbsp\;&nbsp\;&nbsp\; Mon. Feb. 27 (Marriott Minneapolis West)</span></strong><br />\n&nbsp\;<br />\n<strong><span style="font-family:arial\,sans-serif\;">Series 2&nbsp\;&nbsp\;&nbsp\;&nbsp\;&nbsp\;&nbsp\;&nbsp\;&nbsp\;&nbsp\;&nbsp\;&nbsp\;&nbsp\;&nbsp\;&nbsp\;&nbsp\;&nbsp\;&nbsp\;&nbsp\;&nbsp\;&nbsp\;&nbsp\;&nbsp\;&nbsp\;&nbsp\;&nbsp\;&nbsp\;&nbsp\;&nbsp\;&nbsp\;&nbsp\;&nbsp\;&nbsp\;&nbsp\;&nbsp\; Businesses Development</span></strong><br />\n<span style="font-family:arial\,sans-serif\;">Program #1&nbsp\;&nbsp\;&nbsp\;&nbsp\;&nbsp\;&nbsp\;&nbsp\;&nbsp\;&nbsp\;&nbsp\;&nbsp\;&nbsp\;&nbsp\;&nbsp\;&nbsp\;&nbsp\;&nbsp\; Government Affairs&nbsp\;&nbsp\;&nbsp\;&nbsp\;&nbsp\;&nbsp\;&nbsp\;&nbsp\;&nbsp\;&nbsp\;&nbsp\;&nbsp\;&nbsp\;&nbsp\;&nbsp\;&nbsp\;&nbsp\;&nbsp\;&nbsp\;&nbsp\;&nbsp\;&nbsp\;&nbsp\;&nbsp\;&nbsp\;&nbsp\;&nbsp\;&nbsp\;&nbsp\;&nbsp\; &nbsp\;&nbsp\;&nbsp\;&nbsp\;&nbsp\;&nbsp\;&nbsp\;&nbsp\;&nbsp\;&nbsp\; Thurs. Mar. 2</span><br />\n<span style="font-family:arial\,sans-serif\;">Program #2&nbsp\;&nbsp\;&nbsp\;&nbsp\;&nbsp\;&nbsp\;&nbsp\;&nbsp\;&nbsp\;&nbsp\;&nbsp\;&nbsp\;&nbsp\;&nbsp\;&nbsp\;&nbsp\;&nbsp\; Interpersonal Communication&nbsp\;&nbsp\;&nbsp\;&nbsp\;&nbsp\;&nbsp\;&nbsp\;&nbsp\;&nbsp\;&nbsp\;&nbsp\;&nbsp\;&nbsp\;&nbsp\;&nbsp\;&nbsp\;&nbsp\;&nbsp\;&nbsp\;&nbsp\;&nbsp\;&nbsp\;&nbsp\;&nbsp\;&nbsp\;&nbsp\; Thurs. Mar. 9</span><br />\n<span style="font-family:arial\,sans-serif\;">Program #3&nbsp\;&nbsp\;&nbsp\;&nbsp\;&nbsp\;&nbsp\;&nbsp\;&nbsp\;&nbsp\;&nbsp\;&nbsp\;&nbsp\;&nbsp\;&nbsp\;&nbsp\;&nbsp\;&nbsp\; Leadership&nbsp\;&nbsp\;&nbsp\;&nbsp\;&nbsp\;&nbsp\;&nbsp\;&nbsp\;&nbsp\;&nbsp\;&nbsp\;&nbsp\;&nbsp\;&nbsp\;&nbsp\;&nbsp\;&nbsp\;&nbsp\;&nbsp\; &nbsp\;&nbsp\;&nbsp\;&nbsp\;&nbsp\;&nbsp\;&nbsp\;&nbsp\;&nbsp\;&nbsp\;&nbsp\;&nbsp\;&nbsp\;&nbsp\;&nbsp\;&nbsp\;&nbsp\;&nbsp\;&nbsp\;&nbsp\;&nbsp\;&nbsp\;&nbsp\;&nbsp\;&nbsp\;&nbsp\;&nbsp\;&nbsp\;&nbsp\;&nbsp\;&nbsp\;&nbsp\; Thurs. Mar. 16</span><br />\n<span style="font-family:arial\,sans-serif\;">Program #4&nbsp\;&nbsp\;&nbsp\;&nbsp\;&nbsp\;&nbsp\;&nbsp\;&nbsp\;&nbsp\;&nbsp\;&nbsp\;&nbsp\;&nbsp\;&nbsp\;&nbsp\;&nbsp\;&nbsp\; Career Track&nbsp\;&nbsp\;&nbsp\;&nbsp\;&nbsp\;&nbsp\;&nbsp\;&nbsp\;&nbsp\;&nbsp\;&nbsp\;&nbsp\;&nbsp\;&nbsp\;&nbsp\;&nbsp\;&nbsp\;&nbsp\;&nbsp\;&nbsp\;&nbsp\;&nbsp\;&nbsp\;&nbsp\;&nbsp\;&nbsp\;&nbsp\;&nbsp\;&nbsp\;&nbsp\;&nbsp\;&nbsp\;&nbsp\;&nbsp\;&nbsp\;&nbsp\;&nbsp\;&nbsp\;&nbsp\;&nbsp\; &nbsp\;&nbsp\;&nbsp\;&nbsp\;&nbsp\;&nbsp\;&nbsp\;&nbsp\; Thurs. Mar. 23</span>
LOCATION:Workshops: ABDO\, EICK & MEYERS\, LLP 5201 Eden Avenue\, Suite 250 Edina\, MN 55436 (952.835.9090) Executive Roundtable Breakfast: 8-9:30 a.m. Marriott Minneapolis West (Registration: 7:30 am) **Additional details will be given to attendees
UID:e.9128.1112
SEQUENCE:3
DTSTAMP:20260422T005818Z
URL:http://cecm.memberzone.com/events/details/emerging-leaders-training-register-for-series-1-or-2-02-16-2017-1112
END:VEVENT

END:VCALENDAR
