BEGIN:VCALENDAR
VERSION:2.0
PRODID:-//ChamberMaster//Event Calendar 2.0//EN
METHOD:PUBLISH
X-PUBLISHED-TTL:P3D
REFRESH-INTERVAL:P3D
CALSCALE:GREGORIAN
BEGIN:VEVENT
DTSTART:20151118T133000Z
DTEND:20151118T160000Z
X-MICROSOFT-CDO-ALLDAYEVENT:FALSE
SUMMARY:Engineering Ethics
DESCRIPTION:Engineering is an important and learned profession.  As members of this profession\, engineers are expected to exhibit the highest standards of honesty and integrity.  Engineering has a direct and vital impact on the quality of life for all people.  Accordingly\, the services provided by engineers require honesty\, impartiality\, fairness\, and equity\, and must be dedicated to the protection of the public health\, safety and welfare.  Engineers are faced with different situations on a daily basis while practicing engineering.  This presentation will provide moral and ethical guidance to engineers in their decision making process.  Most importantly\, it will provide engineers with insight on how to respect and protect their profession with utmost professionalism.\n\n \n\nSpeaker: Attorney Jeffrey W. Coleman\, P.E.\, FACI\, focuses his practice on construction law\, professional liability defense\, concrete construction\, and general business law\, including insurance and coverage.  A licensed structural engineer with more than 25 years of experience as a practicing attorney\, Coleman provides clients with a single go-to resource for both legal and risk management issues.  He has represented design professionals in all matters of their business\, including defense of multi-million dollar design defect and negligent construction administration claims.  Nationally known for his knowledge and experience in the area of concrete construction\, Coleman is the author of "Legal Issues in Concrete Construction\," and is the only attorney ever to be named a Fellow of the American Concrete Institute (FACI).\n\n \n\nColeman received a bachelor's degree in civil engineering and a master's degree in structural engineering from Iowa State University and is a cum laude graduate of the William Mitchell College of Law.\n\n \n\nHe currently serves on the Board of Directors of the American Concrete Institute\, is a former member of The American Council of Engineering Companies of Minnesota\, and was the 2013 President of the Minnesota Concrete Council.
X-ALT-DESC;FMTTYPE=text/html:<span style="font-family:arial\,sans-serif\;"><span style="font-size:11.0pt\;">Engineering is an important and learned profession.&nbsp\; As members of this profession\, engineers are expected to exhibit the highest standards of honesty and integrity.&nbsp\; Engineering has a direct and vital impact on the quality of life for all people.&nbsp\; Accordingly\, the services provided by engineers require honesty\, impartiality\, fairness\, and equity\, and must be dedicated to the protection of the public health\, safety and welfare.&nbsp\; Engineers are faced with different situations on a daily basis while practicing engineering.&nbsp\; This presentation will provide moral and ethical guidance to engineers in their decision making process.&nbsp\; Most importantly\, it will provide engineers with insight on how to respect and protect their profession with utmost professionalism.</span></span><br />\n&nbsp\;<br />\n<strong><span style="font-family:arial\,sans-serif\;"><span style="font-size:11.0pt\;">Speaker:</span></span></strong><span style="font-family:arial\,sans-serif\;"><span style="font-size:11.0pt\;"> Attorney Jeffrey W. Coleman\, P.E.\, FACI\, focuses his practice on construction law\, professional liability defense\, concrete construction\, and general business law\, including insurance and coverage.&nbsp\; A licensed structural engineer with more than 25 years of experience as a practicing attorney\, Coleman provides clients with a single go-to resource for both legal and risk management issues.&nbsp\; He has represented design professionals in all matters of their business\, including defense of multi-million dollar design defect and negligent construction administration claims.&nbsp\; Nationally known for his knowledge and experience in the area of concrete construction\, Coleman is the author of &ldquo\;Legal Issues in Concrete Construction\,&rdquo\; and is the only attorney ever to be named a Fellow of the American Concrete Institute (FACI).</span></span><br />\n&nbsp\;<br />\n<span style="font-family:arial\,sans-serif\;"><span style="font-size:11.0pt\;">Coleman received a bachelor&rsquo\;s degree in civil engineering and a master&rsquo\;s degree in structural engineering from Iowa State University and is a cum laude graduate of the William Mitchell College of Law.</span></span><br />\n&nbsp\;<br />\n<span style="font-family:arial\,sans-serif\;"><span style="font-size:11.0pt\;">He currently serves on the Board of Directors of the American Concrete Institute\, is a former member of The American Council of Engineering Companies of Minnesota\, and was the 2013 President of the Minnesota Concrete Council.</span></span><br />\n&nbsp\;
LOCATION:Marriott Minneapolis West 9960 Wayzata Blvd\, Minnetonka\, MN (952/544-4000) (Located on north frontage road of I-394 between Hwy 169 & Hopkins Crossroad)
UID:e.9128.952
SEQUENCE:3
DTSTAMP:20260423T124322Z
URL:http://cecm.memberzone.com/events/details/engineering-ethics-11-18-2015-952
END:VEVENT

END:VCALENDAR
