BEGIN:VCALENDAR
VERSION:2.0
PRODID:-//ChamberMaster//Event Calendar 2.0//EN
METHOD:PUBLISH
X-PUBLISHED-TTL:P3D
REFRESH-INTERVAL:P3D
CALSCALE:GREGORIAN
BEGIN:VEVENT
DTSTART:20190418T123000Z
DTEND:20190418T150000Z
X-MICROSOFT-CDO-ALLDAYEVENT:FALSE
SUMMARY:Engineering Ethics: Let's Talk About It
DESCRIPTION:Learner Outcomes:  \n\n	Refresh your understanding of the Minnesota rules of professionalism and ethics \n	Learn how ethical practice protects the public health\, safety\, and welfare\n	Learn about the Licensure Board's Complaint Process \n	Through discussion of cases: \n	\n		Learn how to identify ethical dilemmas in practice both in the office and in the field \n		Learn how to do the right thing when faced with ethical issues\n\n		 \n	\n	\n\nPresenter: Attorney Kristine A. Kubes is principal of Kubes Law Office\, PLLC\, serving design and construction professionals through all stages of a project   from contracts to payment issues\, liens\, and defense of professional liability claims. She is a litigator admitted to argue cases before the U.S. Supreme Court. She is a mediator\, and educator on construction\, design\, and ethics issues. Kristine is the incoming National Chair of the American Bar Association Forum on Construction Law. She is a former Board Member of ACEC/MN\, and served as a public member on the MN Board of AELSLAGID from 2006-2013\, during which she served two terms as Board Chair from 2009-2011.
X-ALT-DESC;FMTTYPE=text/html:<br />\n<strong><span style="font-family:arial\,sans-serif\;"><span style="font-size:10.5pt\;">Learner Outcomes:&nbsp\; </span></span></strong>\n<ul>\n	<li><span style="font-family:arial\,sans-serif\;"><span style="font-size:10.5pt\;">Refresh your understanding of the Minnesota rules of professionalism and ethics </span></span></li>\n	<li><span style="font-family:arial\,sans-serif\;"><span style="font-size:10.5pt\;">Learn how ethical practice protects the public health\, safety\, and welfare</span></span></li>\n	<li><span style="font-family:arial\,sans-serif\;"><span style="font-size:10.5pt\;">Learn about the Licensure Board&rsquo\;s Complaint Process </span></span></li>\n	<li><span style="font-family:arial\,sans-serif\;"><span style="font-size:10.5pt\;">Through discussion of cases: </span></span>\n	<ul>\n		<li><span style="font-family:arial\,sans-serif\;"><span style="font-size:10.5pt\;">Learn how to identify ethical dilemmas in practice both in the office and in the field </span></span></li>\n		<li><span style="font-family:arial\,sans-serif\;"><span style="font-size:10.5pt\;">Learn how to do the right thing when faced with ethical issues</span></span><br />\n		&nbsp\;</li>\n	</ul>\n	</li>\n</ul>\n<span style="font-family:arial\,sans-serif\;"><span style="font-size:11.0pt\;"><strong>Presenter:</strong> Attorney Kristine A. Kubes is principal of Kubes Law Office\, PLLC\, serving design and construction professionals through all stages of a project &ndash\; from contracts to payment issues\, liens\, and defense of professional liability claims. She is a litigator admitted to argue cases before the U.S. Supreme Court. She is a mediator\, and educator on construction\, design\, and ethics issues. Kristine is the incoming National Chair of the American Bar Association Forum on Construction Law. She is a former Board Member of ACEC/MN\, and served as a public member on the MN Board of AELSLAGID from 2006-2013\, during which she served two terms as Board Chair from 2009-2011. </span></span><br />\n&nbsp\;
LOCATION:Sheraton Minneapolis West 12201 Ridgedale Drive\, Minnetonka\, MN 55305 (952.593.0000) Located east of Ridgedale Mall near the interchange of I-394 and Ridgedale Drive
UID:e.9128.1337
SEQUENCE:3
DTSTAMP:20260419T203844Z
URL:http://cecm.memberzone.com/events/details/engineering-ethics-let-s-talk-about-it-1337
END:VEVENT

END:VCALENDAR
