BEGIN:VCALENDAR
VERSION:2.0
PRODID:-//ChamberMaster//Event Calendar 2.0//EN
METHOD:PUBLISH
X-PUBLISHED-TTL:P3D
REFRESH-INTERVAL:P3D
CALSCALE:GREGORIAN
BEGIN:VEVENT
DTSTART:20160130T000000Z
DTEND:20160130T040000Z
X-MICROSOFT-CDO-ALLDAYEVENT:FALSE
SUMMARY:Engineering Excellence Awards
DESCRIPTION:Save the date for our 49th annual Engineering Excellence Awards Banquet! There were 31 projects entered this year - attend and find out how your fellow ACEC/MN members faired in the competition.\n\n\n\nJohn Lee of Barr Engineering Company is the 2016 Master of Ceremonies. The reception and banquet will be held at the Radisson Blu Mall of America in Bloomington beginning at 6:00 pm.\n\n\n\nTo register for the banquet\, please complete the RSVP form or contact the office at 952/593-5533. You can view the invitation here.\n\n\n\nSee you at the 2016 Engineering Excellence Awards Banquet!
X-ALT-DESC;FMTTYPE=text/html:<br />\nSave the date for our 49th annual Engineering Excellence Awards Banquet! There were 31 projects entered this year - attend and find out how your fellow ACEC/MN members faired in the competition.<br />\n<br />\nJohn Lee of Barr Engineering Company is the 2016&nbsp\;Master of Ceremonies. The reception and banquet will be held at the Radisson Blu Mall of America in Bloomington beginning at 6:00 pm.<br />\n<br />\nTo register for the banquet\, please complete the <strong><a href="http://96bda424cfcc34d9dd1a-0a7f10f87519dba22d2dbc6233a731e5.r41.cf2.rackcdn.com/acecmn/pdf-s/Reservation_Form_2016.pdf">RSVP form</a></strong> or contact the office at 952/593-5533. You can view the<strong> <a href="http://96bda424cfcc34d9dd1a-0a7f10f87519dba22d2dbc6233a731e5.r41.cf2.rackcdn.com/acecmn/pdf-s/2016_ACEC_MN_Awards_Invitation.pdf">invitation</a> </strong>here.<br />\n<br />\nSee you at the 2016 Engineering Excellence Awards Banquet!
LOCATION:Radisson Blu Mall of America 2100 Killebrew Dr\, Bloomington\, MN 55425
UID:e.9128.957
SEQUENCE:3
DTSTAMP:20260423T090057Z
URL:http://cecm.memberzone.com/events/details/engineering-excellence-awards-01-29-2016-957
END:VEVENT

END:VCALENDAR
