BEGIN:VCALENDAR
VERSION:2.0
PRODID:-//ChamberMaster//Event Calendar 2.0//EN
METHOD:PUBLISH
X-PUBLISHED-TTL:P3D
REFRESH-INTERVAL:P3D
CALSCALE:GREGORIAN
BEGIN:VEVENT
DTSTART:20150422T123000Z
DTEND:20150422T150000Z
X-MICROSOFT-CDO-ALLDAYEVENT:FALSE
SUMMARY:Ethics: An Engineer's Tool for Risk Management
DESCRIPTION:Risk management is much more than insurance   it's a way of operating your business. One of the necessary tools for risk management is an awareness of the engineer's ethical obligations\, which then informs how the engineer communicates about issues and addresses them. Today's engineer must meet the demands of the market while protecting one's practice\, one's business\, and one's integrity.  In this course\, we will examine the applicable Rules of Professional Conduct as well as case studies of ethical violations and\, from them\, learn how adhering to the ethical code and communicating effectively can strengthen your practice\, help avoid ethical dilemmas\, and manage risk.\n\n \n\nLearning Objectives:\n\n\n	Review of MN Rules of Professionalism and Ethics for Professional Engineers\n	Identify\, Handle\, and Avoid Ethical Dilemmas in Practice   both in the office and in the field\n	Identify How Ethical Practice Reduces Risk\n	Identify and Avoid Potential Professional Liability Issues Related to Ethical Issues \n\n \n\nPresenter:  Attorney Kristine A. Kubes is principal of Kubes Law Office\, PLLC\, serving design and construction professionals.  Kristine helps clients strengthen their businesses. She concentrates her work on design defense/ litigation and proactive counseling during the project. Services include defending clients against professional liability and general liability claims\, addressing and cooperatively resolving project-management\, risk-management\, and payment issues\, prosecuting mechanic's liens\, and entity set-up. Integrated with her construction practice\, Kristine is a qualified neutral who mediates construction and design disputes during and after the project. Kristine serves on the Governing Committee of the American Bar Association Forum on the Construction Industry\, is past-chair of the Forum's Design Division\, and served as a public member on the MN Board of AELSLAGID from 2006-2013\, during which she served two terms as Board Chair.
X-ALT-DESC;FMTTYPE=text/html:<span style="font-family:arial\,sans-serif\;"><span style="font-size:10.5pt\;">Risk management is much more than insurance &ndash\; it&rsquo\;s a way of operating your business. One of the necessary tools for risk management is an awareness of the engineer&rsquo\;s ethical obligations\, which then informs how the engineer communicates about issues and addresses them. Today&rsquo\;s engineer must meet the demands of the market while protecting one&rsquo\;s practice\, one&rsquo\;s business\, and one&rsquo\;s integrity.&nbsp\; In this course\, we will examine the applicable Rules of Professional Conduct as well as case studies of ethical violations and\, from them\, learn how adhering to the ethical code and communicating effectively can strengthen your practice\, help avoid ethical dilemmas\, and manage risk.</span></span><br />\n&nbsp\;<br />\n<span style="font-family:arial\,sans-serif\;"><span style="font-size:10.5pt\;">Learning Objectives:</span></span>\n\n<ul>\n	<li style="margin-bottom:0in\;margin-bottom:.0001pt\;"><span style="color:black\;"><span style="font-family:arial\,sans-serif\;"><span style="font-size:10.5pt\;">Review of MN Rules of Professionalism and Ethics for Professional Engineers</span></span></span></li>\n	<li style="color:black\;"><span style="font-family:arial\,sans-serif\;"><span style="font-size:11.0pt\;">Identify\, Handle\, and Avoid Ethical Dilemmas in Practice &ndash\; both in the office and in the field</span></span></li>\n	<li style="margin-bottom:0in\;margin-bottom:.0001pt\;"><span style="color:black\;"><span style="font-family:arial\,sans-serif\;"><span style="font-size:10.5pt\;">Identify How Ethical Practice Reduces Risk</span></span></span></li>\n	<li><span style="font-family:arial\,sans-serif\;"><span style="font-size:10.5pt\;">Identify and Avoid Potential Professional Liability Issues Related to Ethical Issues </span></span></li>\n</ul>\n&nbsp\;<br />\n<strong><span style="font-family:arial\,sans-serif\;"><span style="font-size:10.5pt\;">Presenter: &nbsp\;</span></span></strong><span style="font-family:arial\,sans-serif\;"><span style="font-size:10.5pt\;">Attorney Kristine A. Kubes is principal of Kubes Law Office\, PLLC\, serving design and construction professionals.&nbsp\; Kristine helps clients strengthen their businesses. She concentrates her work on design defense/ litigation and proactive counseling during the project. Services include defending clients against professional liability and general liability claims\, addressing and cooperatively resolving project-management\, risk-management\, and payment issues\, prosecuting mechanic&rsquo\;s liens\, and entity set-up. Integrated with her construction practice\, Kristine is a qualified neutral who mediates construction and design disputes during and after the project. Kristine serves on the Governing Committee of the American Bar Association Forum on the Construction Industry\, is past-chair of the Forum&rsquo\;s Design Division\, and served as a public member on the MN Board of AELSLAGID from 2006-2013\, during which she served two terms as Board Chair.</span></span><br />\n<br />\n&nbsp\;
LOCATION:Marriott Minneapolis West 9960 Wayzata Blvd\, MN Minnetonka (952/544-4400) (Located on the north frontage road of I-394 between Hwy 169 & Hopkins Crossroad directly across from the ACEC/MN office)
UID:e.9128.927
SEQUENCE:3
DTSTAMP:20260423T235520Z
URL:http://cecm.memberzone.com/events/details/ethics-an-engineer-s-tool-for-risk-management-04-22-2015-927
END:VEVENT

END:VCALENDAR
