BEGIN:VCALENDAR
VERSION:2.0
PRODID:-//ChamberMaster//Event Calendar 2.0//EN
METHOD:PUBLISH
X-PUBLISHED-TTL:P3D
REFRESH-INTERVAL:P3D
CALSCALE:GREGORIAN
BEGIN:VEVENT
DTSTART:20170426T123000Z
DTEND:20170426T150000Z
X-MICROSOFT-CDO-ALLDAYEVENT:FALSE
SUMMARY:Ethics in Professional Practice: Let’s talk about it
DESCRIPTION:Learner Outcomes:  Two-hour ethics PDH for professional engineers\n\n	Refresh your understanding of the Minnesota rules of professionalism and ethics \n	Learn how ethical practice protects the public health\, safety\, and welfare\n	Learn about the Licensure Board's Complaint Process \n	Through discussion of cases: \n	\n		Learn how to identify ethical dilemmas in practice both in the office and in the field \n		Learn how to do the right thing when faced with ethical issues\n	\n	\n\n \n\nPresenter:  Attorney Kristine A. Kubes is principal of Kubes Law Office\, PLLC\, serving design and construction professionals.  Kristine helps clients strengthen their businesses.  She concentrates her work on design defense/ litigation and proactive counseling during the project.  Services include defending clients against professional liability and general liability claims\, contracts\, addressing project-management\, risk-management\, and payment issues\, prosecuting mechanic's liens\, and entity set-up. Integrated with her construction practice\, Kristine is a qualified neutral who mediates construction and design disputes during and after the project. She is a frequent lecturer on construction\, design\, and ethics issues.  Kristine serves as a Board Member of ACEC-MN. She serves in leadership of the American Bar Association Forum on Construction Law and served as a public member on the MN Board of AELSLAGID from 2006-2013\, during which she served two terms as Board Chair from 2009-2011.
X-ALT-DESC;FMTTYPE=text/html:<strong><span style="font-family:arial\,sans-serif\;"><span style="font-size:10.5pt\;">Learner Outcomes:&nbsp\; </span></span></strong><span style="font-family:arial\,sans-serif\;"><span style="font-size:10.5pt\;">Two-hour ethics PDH for professional engineers</span></span>\n<ul>\n	<li><span style="font-family:arial\,sans-serif\;"><span style="font-size:10.5pt\;">Refresh your understanding of the Minnesota rules of professionalism and ethics </span></span></li>\n	<li><span style="font-family:arial\,sans-serif\;"><span style="font-size:10.5pt\;">Learn how ethical practice protects the public health\, safety\, and welfare</span></span></li>\n	<li><span style="font-family:arial\,sans-serif\;"><span style="font-size:10.5pt\;">Learn about the Licensure Board&rsquo\;s Complaint Process </span></span></li>\n	<li><span style="font-family:arial\,sans-serif\;"><span style="font-size:10.5pt\;">Through discussion of cases: </span></span>\n	<ul>\n		<li><span style="font-family:arial\,sans-serif\;"><span style="font-size:10.5pt\;">Learn how to identify ethical dilemmas in practice both in the office and in the field </span></span></li>\n		<li><span style="font-family:arial\,sans-serif\;"><span style="font-size:10.5pt\;">Learn how to do the right thing when faced with ethical issues</span></span></li>\n	</ul>\n	</li>\n</ul>\n&nbsp\;<br />\n<strong><span style="font-family:arial\,sans-serif\;"><span style="font-size:10.5pt\;">Presenter:&nbsp\; </span></span></strong><span style="font-family:arial\,sans-serif\;"><span style="font-size:10.5pt\;">Attorney <strong>Kristine A. Kubes </strong>is principal of Kubes Law Office\, PLLC\, serving design and construction professionals.&nbsp\; Kristine helps clients strengthen their businesses.&nbsp\; She concentrates her work on design defense/ litigation and proactive counseling during the project.&nbsp\; Services include defending clients against professional liability and general liability claims\, contracts\, addressing project-management\, risk-management\, and payment issues\, prosecuting mechanic&rsquo\;s liens\, and entity set-up.&nbsp\;Integrated with her construction practice\, Kristine is a qualified neutral who mediates construction and design disputes during and after the project. She is a frequent lecturer on construction\, design\, and ethics issues.&nbsp\; Kristine serves as a Board Member of ACEC-MN. She serves in leadership of the American Bar Association Forum on Construction Law and served as a public member on the MN Board of AELSLAGID from 2006-2013\, during which she served two terms as Board Chair from 2009-2011.</span></span><br />\n&nbsp\;
LOCATION:Marriott Minneapolis West 9960 Wayzata Blvd\, MN Minnetonka (952/544-4400) (Located on the north frontage road of I-394 between Hwy 169 & Hopkins Crossroad directly across from the ACEC/MN office)
UID:e.9128.1143
SEQUENCE:3
DTSTAMP:20260421T210854Z
URL:http://cecm.memberzone.com/events/details/ethics-in-professional-practice-let-s-talk-about-it-1143
END:VEVENT

END:VCALENDAR
