BEGIN:VCALENDAR
VERSION:2.0
PRODID:-//ChamberMaster//Event Calendar 2.0//EN
METHOD:PUBLISH
X-PUBLISHED-TTL:P3D
REFRESH-INTERVAL:P3D
CALSCALE:GREGORIAN
BEGIN:VEVENT
DTSTART:20160204T130000Z
DTEND:20160204T150000Z
X-MICROSOFT-CDO-ALLDAYEVENT:FALSE
SUMMARY:Executive Leaders Breakfast
DESCRIPTION:This meeting will cover a lot of ground.\n\n\n\nWe'll start with ACEC/MN President Pat McGraw giving a brief update on the activities of the organization and the implementation of the ACEC/MN 2015-2018 strategic Plan.\n\n\n\nWe'll then have a presentation on workforce issues by Jacqueline Buck\,  Director of Employer Services\, and Thomas Norman\, Director of Workforce Development for the Department of Employment and Economic Development. They will provide information on the current employment environment\, future workforce expectations and how firms can address the issue both internally and externally. They also will talk about programs and resources the state has available to help firms address this issue.\n\n\n\nFinally\, affiliate member Nick Ruehl will facilitate a workshop/discussion to identify and prioritize issues facing the profession. This will be your opportunity to compare notes with other members on the concerns you and your firm may have. The results of the discussion will be brought forward to the Board of Directors for consideration of how potential issues may be addressed by the organization in the coming year.
X-ALT-DESC;FMTTYPE=text/html:<span style="font-family:arial\,sans-serif\;"><span style="font-size:10.5pt\;">This meeting will cover a lot of ground.<br />\n<br />\nWe&#39\;ll start with ACEC</span>/MN President Pat McGraw giving a brief update on the activities of the organization and the implementation of the ACEC/MN 2015-2018 strategic Plan.<br />\n<br />\nWe&#39\;ll then have a presentation on workforce issues by Jacqueline Buck\,&nbsp\; Director of Employer Services\, and Thomas Norman\, Director of Workforce Development for the Department of Employment and Economic Development. They will provide information on the current employment environment\, future workforce expectations and how firms can address the issue both internally and externally. They also will talk about programs and resources the state has available to help firms address this issue.<br />\n<br />\nFinally\, affiliate member Nick Ruehl</span> will facilitate a workshop/discussion to identify and prioritize issues facing the profession. This will be your opportunity to compare notes with other members on the concerns you and your firm may have. The results of the discussion will be brought forward to the Board of Directors for consideration of how potential issues may be addressed by the organization in the coming year.<br />\n&nbsp\;
LOCATION:Golden Valley Country Club 7001 Golden Valley Rd\, Golden Valley\, MN 55427
UID:e.9128.1070
SEQUENCE:3
DTSTAMP:20260423T073949Z
URL:http://cecm.memberzone.com/events/details/executive-leaders-breakfast-02-04-2016-1070
END:VEVENT

END:VCALENDAR
