BEGIN:VCALENDAR
VERSION:2.0
PRODID:-//ChamberMaster//Event Calendar 2.0//EN
METHOD:PUBLISH
X-PUBLISHED-TTL:P3D
REFRESH-INTERVAL:P3D
CALSCALE:GREGORIAN
BEGIN:VEVENT
DTSTART:20181010T160000Z
DTEND:20181010T190000Z
X-MICROSOFT-CDO-ALLDAYEVENT:FALSE
SUMMARY:Fall Welcome Reception & Expo
DESCRIPTION:The Fall Welcome and Kick-Off is ACEC/MN's first big event of the 2018-19 year. We have invited candidates for governor\, Jeff Johnson and Tim Walz\, to present at this meeting. This fun event is your opportunity to:\n\n	Learn about ACEC/MN committees and affiliate member services (expo before & after presentation) \n	Socialize with your colleagues \n	Meet the ACEC/MN Board of Directors and staff\n	Win fabulous door prizes
X-ALT-DESC;FMTTYPE=text/html:<span style="font-size:14px\;"><font face="arial\, sans-serif">The Fall Welcome and Kick-Off is ACEC/MN&#39\;s first big event of the 2018-19 year. We have invited candidates for governor\, Jeff Johnson and Tim Walz\, to present at this meeting. This fun event is your opportunity to:</font></span>\n<ul>\n	<li><span style="font-size:14px\;"><font face="arial\, sans-serif"><span style="font-family:arial\,sans-serif\;"><span style="font-family:arial\,sans-serif\;">Learn about ACEC/MN committees and&nbsp\;affiliate member services (expo before &amp\; after presentation) </span></span></font></span></li>\n	<li><span style="font-size:14px\;"><font face="arial\, sans-serif"><span style="font-family:arial\,sans-serif\;"><span style="font-family:arial\,sans-serif\;"><span style="font-family:arial\,sans-serif\;"><span style="font-family:arial\,sans-serif\;"><span style="font-family:arial\,sans-serif\;">Socialize with your colleagues </span></span></span></span></span></font></span></li>\n	<li><span style="font-size:14px\;"><font face="arial\, sans-serif"><span style="font-family:arial\,sans-serif\;"><span style="font-family:arial\,sans-serif\;"><span style="font-family:arial\,sans-serif\;"><span style="font-family:arial\,sans-serif\;"><span style="font-family:arial\,sans-serif\;"><span style="font-family:arial\,sans-serif\;">Meet the&nbsp\;</span><span data-scayt-lang="en_US" data-scayt-word="ACEC" style="background-image:url("><span style="font-family:arial\,sans-serif\;"><span style="background-color:#ffffff\;">ACEC</span></span></span><span style="font-family:arial\,sans-serif\;">/MN Board of Directors and&nbsp\;staff</span></span></span></span></span></span></font></span></li>\n	<li><span style="font-size:14px\;"><font face="arial\, sans-serif">Win fabulous door prizes</font></span></li>\n</ul>\n\n<p>&nbsp\;</p>\n\n<p>&nbsp\;</p>\n
LOCATION:Marriott Minneapolis West 9960 Wayzata Blvd\, Minnetonka\, MN (952/544-4000) (Located on the north frontage road of I-394 between Hwy 169 & Hopkins Crossroad directly across from the ACEC/MN office)
UID:e.9128.1292
SEQUENCE:3
DTSTAMP:20260420T073359Z
URL:http://cecm.memberzone.com/events/details/fall-welcome-reception-expo-1292
END:VEVENT

END:VCALENDAR
