BEGIN:VCALENDAR
VERSION:2.0
PRODID:-//ChamberMaster//Event Calendar 2.0//EN
METHOD:PUBLISH
X-PUBLISHED-TTL:P3D
REFRESH-INTERVAL:P3D
CALSCALE:GREGORIAN
BEGIN:VEVENT
DTSTART:20171002T160000Z
DTEND:20171002T190000Z
X-MICROSOFT-CDO-ALLDAYEVENT:FALSE
SUMMARY:Fall Welcome Reception & Expo (featuring Lester Bagley of the Vikings)
DESCRIPTION:ACEC/MN is excited and honored to report that Lester Bagley\, Executive Vice President of Public Affairs for the Minnesota Vikings\, will be the featured speaker at this year's Fall Welcome! \n\n \n\nLester will discuss the following topics:\n\n	Superbowl update\, including events in town\, the overall ticket plan\, security\, etc. \n	Update on Vikings new Headquarters and Practice Facility in Eagan\n	Plan for additional development of Eagan site (retail\, housing\, office space\, hotel and green space)\n\nIn 2014\, Mr. Bagley led the Vikings involvement to secure Super Bowl LII to be played February 4\, 2018 at U.S. Bank Stadium. He worked with Vikings ownership and management\, and Minnesota corporate and civic leaders to create the Super Bowl bid and secure the support of the NFL for the pinnacle event to be held in Minnesota. Mr. Bagley currently serves on the Minnesota Super Bowl Host Committee's Executive Board.\n\n\n\nIn 2016\, the Eagan City Council approved the Vikings plan to move the team headquarters and training facility to the old Delta Airlines corporate headquarters. The Eagan city council designated the land as mixed use so the team can create a development on nearly 200 acres of land that includes housing\, retail\, office space\, a hotel and public. The project remains on time for a March 2018 opening. \n\n\n\nIn addition to hearing from Lester\, you'll also have the opportunity to:\n\n	Win fabulous door prizes \n	Learn about ACEC/MN committees & affiliate member services (expo before & after presentation) \n	Socialize with your colleagues \n	Meet the ACEC/MN Board of Directors & Staff
X-ALT-DESC;FMTTYPE=text/html:<span style="font-family:arial\,sans-serif\;"><span style="font-size:10.0pt\;">ACEC/MN is excited and honored to report that Lester Bagley\, Executive Vice President of Public Affairs</span></span> <span style="font-family:arial\,sans-serif\;"><span style="font-size:10.0pt\;">for the Minnesota Vikings\, will be the featured speaker at this year&#39\;s Fall Welcome! </span></span><br />\n&nbsp\;<br />\nLester will discuss the following topics:\n<ul>\n	<li style="margin-top:0in\;margin-right:-5.25pt\;margin-bottom:0in\;margin-bottom:.0001pt\;">Superbowl update\, including events in town\, the overall ticket plan\, security\, etc.&nbsp\;</li>\n	<li style="margin-top:0in\;margin-right:-5.25pt\;margin-bottom:0in\;margin-bottom:.0001pt\;">Update on Vikings new Headquarters and Practice Facility in Eagan</li>\n	<li><span style="color:windowtext\;"><span style="font-family:arial\,sans-serif\;"><span style="font-size:10.0pt\;">Plan for additional development of Eagan site (retail\, housing\, office space\, hotel and green space)</span></span></span></li>\n</ul>\n<span style="font-family:arial\,sans-serif\;"><span style="font-size:10.0pt\;">In 2014\, Mr. Bagley led the Vikings involvement to secure Super Bowl LII to be played February 4\, 2018 at U.S. Bank Stadium. He worked with Vikings ownership and management\, and Minnesota corporate and civic leaders to create the Super Bowl bid and secure the support of the NFL for the pinnacle event to be held in Minnesota. Mr. Bagley currently serves on the Minnesota Super Bowl Host Committee&rsquo\;s Executive Board.</span></span><br />\n<br />\n<span style="font-family:arial\,sans-serif\;"><span style="font-size:10.0pt\;">In 2016\, the Eagan City Council approved the Vikings plan to move the team headquarters and training facility to the old Delta Airlines corporate headquarters. The Eagan city council designated the land as mixed use so the team can create a development on nearly 200 acres of land that includes housing\, retail\, office space\, a hotel and public. <span style="color:#333333\;">The project remains on time for a March 2018 opening.</span> </span></span><br />\n<br />\nIn addition to hearing from Lester\, you&rsquo\;ll also have the opportunity to:\n<ul>\n	<li><span style="font-family:arial\,sans-serif\;"><span style="font-size:10pt\;">Win fabulous door prizes </span></span></li>\n	<li><span style="font-family:arial\,sans-serif\;"><span style="font-size:10pt\;"><span style="font-family:arial\,sans-serif\;"><span style="font-size:10pt\;">Learn about ACEC/MN committees &amp\; affiliate member services (expo before &amp\; after presentation) </span></span></span></span></li>\n	<li><span style="font-family:arial\,sans-serif\;"><span style="font-size:10pt\;"><span style="font-family:arial\,sans-serif\;"><span style="font-size:10pt\;"><span style="font-family:arial\,sans-serif\;"><span style="font-size:10pt\;">Socialize with your colleagues </span></span></span></span></span></span></li>\n	<li><span style="font-size:13.3333px\;"><span style="font-family:arial\,sans-serif\;">Meet the&nbsp\;</span></span><span data-scayt-lang="en_US" data-scayt-word="ACEC" style="background-image:url("><span style="font-size:13.3333px\;"><span style="font-family:arial\,sans-serif\;"><span style="background-color:#ffffff\;">ACEC</span></span></span></span><span style="font-size:13.3333px\;"><span style="font-family:arial\,sans-serif\;">/MN Board of Directors &amp\; Staff</span></span></li>\n</ul>\n\n<p>&nbsp\;</p>\n\n<p>&nbsp\;</p>\n
LOCATION:Marriott Minneapolis West 9960 Wayzata Blvd\, Minnetonka\, MN (952/544-4000) (Located on the north frontage road of I-394 between Hwy 169 & Hopkins Crossroad directly across from the ACEC/MN office)
UID:e.9128.1171
SEQUENCE:3
DTSTAMP:20260421T123611Z
URL:http://cecm.memberzone.com/events/details/fall-welcome-reception-expo-featuring-lester-bagley-of-the-vikings-1171
END:VEVENT

END:VCALENDAR
