BEGIN:VCALENDAR
VERSION:2.0
PRODID:-//ChamberMaster//Event Calendar 2.0//EN
METHOD:PUBLISH
X-PUBLISHED-TTL:P3D
REFRESH-INTERVAL:P3D
CALSCALE:GREGORIAN
BEGIN:VEVENT
DTSTART:20131030T130000Z
DTEND:20131030T143000Z
X-MICROSOFT-CDO-ALLDAYEVENT:FALSE
SUMMARY:Financial Reporting:The Power of Better Data
DESCRIPTION:
X-ALT-DESC;FMTTYPE=text/html:
LOCATION:Marriott Minneapolis West Minnetonka\, MN
UID:e.9128.515
SEQUENCE:3
DTSTAMP:20260425T110705Z
URL:http://cecm.memberzone.com/events/details/financial-reporting-the-power-of-better-data-10-30-2013-515
END:VEVENT

END:VCALENDAR
