BEGIN:VCALENDAR
VERSION:2.0
PRODID:-//ChamberMaster//Event Calendar 2.0//EN
METHOD:PUBLISH
X-PUBLISHED-TTL:P3D
REFRESH-INTERVAL:P3D
CALSCALE:GREGORIAN
BEGIN:VEVENT
DTSTART:20140203T173000Z
DTEND:20140203T193000Z
X-MICROSOFT-CDO-ALLDAYEVENT:FALSE
SUMMARY:Going Paperless and Document Retention
DESCRIPTION:As more firms "take the plunge" to go paperless\, they need to understand both the practical and legal consequences of a truly paperless office.  With the recent successful passage of the ACEC statute of repose bill\, the time periods for retaining documents on most Minnesota projects have become clearer.  However\, licensing and client considerations make a detailed document retention policy as important as ever.  This discussion will focus on the legal considerations and give tips for developing an effective document retention policy which meets the expectations of the courts\, public clients\, and the regulators.  \n\nPresenter: Eric Heiberg is a partner at the law firm of Heley\, Duncan & Melander\, PLLP.  He has advised design professionals for over 15 years on general liability and business issues as well as represented them in significant claims litigation.  Eric routinely advises his clients during complicated projects regarding proper project documentation and process\, and has helped dozens of firms create and implement document retention policies and procedures which meet both their legal responsibilities and their business goals.
X-ALT-DESC;FMTTYPE=text/html:<span style="font-family:arial\,sans-serif\;"><span style="font-size:12.0pt\;">As more firms &ldquo\;take the plunge&rdquo\; to go paperless\, they need to understand both the practical and legal consequences of a truly paperless office.&nbsp\; With the recent successful passage of the ACEC statute of repose bill\, the time periods for retaining documents on most Minnesota projects have become clearer.&nbsp\; However\, licensing and client considerations make a detailed document retention policy as important as ever.&nbsp\; This discussion will focus on the legal considerations and give tips for developing an effective document retention policy which meets the expectations of the courts\, public clients\, and the regulators.&nbsp\; </span></span><br />\n<strong><span style="color:black\;"><span style="font-family:arial\,sans-serif\;"><span style="font-size:12.0pt\;">Presenter: </span></span></span></strong><span style="font-family:arial\,sans-serif\;"><span style="font-size:12.0pt\;">Eric Heiberg is a partner at the law firm of Heley\, Duncan &amp\; Melander\, PLLP.&nbsp\; He has advised design professionals for over 15 years on general liability and business issues as well as represented them in significant claims litigation.&nbsp\; Eric routinely advises his clients during complicated projects regarding proper project documentation and process\, and has helped dozens of firms create and implement document retention policies and procedures which meet both their legal responsibilities and their business goals.</span></span>
LOCATION:Marriott Minneapolis West 9960 Wayzata Blvd\, Minnetonka\, MN (952/544-4400) (Located on the north frontage road of I-394 between Hwy 169 & Hopkins Crossroad directly across from the ACEC/MN office)
UID:e.9128.849
SEQUENCE:3
DTSTAMP:20260425T004214Z
URL:http://cecm.memberzone.com/events/details/going-paperless-and-document-retention-02-03-2014-849
END:VEVENT

END:VCALENDAR
