BEGIN:VCALENDAR
VERSION:2.0
PRODID:-//ChamberMaster//Event Calendar 2.0//EN
METHOD:PUBLISH
X-PUBLISHED-TTL:P3D
REFRESH-INTERVAL:P3D
CALSCALE:GREGORIAN
BEGIN:VEVENT
DTSTART:20140214T173000Z
DTEND:20140214T190000Z
X-MICROSOFT-CDO-ALLDAYEVENT:FALSE
SUMMARY:Ground Modification: Methods / Applications / Design-Installation
DESCRIPTION:This seminar will present Hayward Baker's latest geotechnical construction and ground modification techniques.  Hayward Baker provides a wide variety of geotechnical engineering (design-build) and construction services to improve soils in-place and to both construct new and to rehabilitate existing foundations and earth retaining structures.  Among our range of services\, a Ground Modification solution is generally available for the toughest subsurface conditions.\n\n \n\nThe techniques discussed will include:  \n\n\n	\n		Wick Drains\n	\n		Deep Dynamic Compaction\; Aggregate Piers and Vibro Compaction and Replacement\n	\n		Rigid Inclusions and Soil Mixing\n	\n		Cement Grouting\, Chemical Grouting\, Compaction Grouting\, and Jet Grouting\n\nSpeaker(s):  Spring Borchardt\, P.E. and Mike Minton\, P.E. are both Project Managers in Hayward Baker's Central region working with ground improvement technologies throughout the upper Midwest.  Each has 10 years or more experience in geotechnical engineering and construction. Ray Franz\, P.E.\, D.GE is Division Manager for Grouting and Ground Improvement for Hayward Baker's Midwest Region.  He has 25 years of experience in geotechnical consulting and construction practice.\n\n \n\n	  This program is free to ACEC/MN members \n\n	Lunch is being provided by Hayward Baker Inc.
X-ALT-DESC;FMTTYPE=text/html:<span style="font-family:arial\,sans-serif\;"><span style="font-size:10.0pt\;">This seminar will present Hayward Baker&rsquo\;s latest geotechnical construction and ground modification techniques.&nbsp\; Hayward Baker provides a wide variety of geotechnical engineering (design-build) and construction services to improve soils in-place and to both construct new and to rehabilitate existing foundations and earth retaining structures.&nbsp\; Among our range of services\, a Ground Modification solution is generally available for the toughest subsurface conditions.</span></span><br />\n&nbsp\;<br />\n<span style="font-family:arial\,sans-serif\;"><span style="font-size:10.0pt\;">The techniques discussed will include:&nbsp\; </span></span><br />\n<ul>\n	<li>\n		<span style="font-family:arial\,sans-serif\;"><span style="font-size:10.0pt\;">Wick Drains</span></span></li>\n	<li>\n		<span style="font-family:arial\,sans-serif\;"><span style="font-size:10.0pt\;">Deep Dynamic Compaction\; Aggregate Piers and Vibro Compaction and Replacement</span></span></li>\n	<li>\n		<span style="font-family:arial\,sans-serif\;"><span style="font-size:10.0pt\;">Rigid Inclusions and Soil Mixing</span></span></li>\n	<li>\n		<span style="font-family:arial\,sans-serif\;"><span style="font-size:10.0pt\;">Cement Grouting\, Chemical Grouting\, Compaction Grouting\, and Jet Grouting</span></span></li>\n</ul>\n<strong><span style="font-family:arial\,sans-serif\;"><span style="font-size:10.0pt\;">Speaker(s):</span></span></strong><span style="font-family:arial\,sans-serif\;"><span style="font-size:10.0pt\;">&nbsp\; Spring Borchardt\, P.E. and Mike Minton\, P.E. are both Project Managers in Hayward Baker&rsquo\;s Central region working with ground improvement technologies throughout the upper Midwest.&nbsp\; Each has 10 years or more experience in geotechnical engineering and construction.&nbsp\;Ray Franz\, P.E.\, D.GE is Division Manager for Grouting and Ground Improvement for Hayward Baker&rsquo\;s Midwest Region.&nbsp\; He has 25 years of experience in geotechnical consulting and construction practice.</span></span><br />\n&nbsp\;\n<div style="text-align: center\;">\n	<strong><span style="font-family:arial\,sans-serif\;">&ndash\; This program is free to ACEC/MN members&ndash\;</span></strong></div>\n<h6 align="center" style="text-align:center\;">\n	<span style="font-size:12px\;"><span style="font-style: normal\;">Lunch is being provided by Hayward Baker Inc.</span></span></h6>\n
LOCATION:Marriott Minneapolis West 9960 Wayzata Blvd\, MN Minnetonka (952/544-4400) (Located on the north frontage road of I-394 between Hwy 169 & Hopkins Crossroad directly across from the ACEC/MN office)
UID:e.9128.851
SEQUENCE:3
DTSTAMP:20260425T004201Z
URL:http://cecm.memberzone.com/events/details/ground-modification-methods-applications-design-installation-02-14-2014-851
END:VEVENT

END:VCALENDAR
