BEGIN:VCALENDAR
VERSION:2.0
PRODID:-//ChamberMaster//Event Calendar 2.0//EN
METHOD:PUBLISH
X-PUBLISHED-TTL:P3D
REFRESH-INTERVAL:P3D
CALSCALE:GREGORIAN
BEGIN:VEVENT
DTSTART:20180119T180000Z
DTEND:20180119T180000Z
X-MICROSOFT-CDO-ALLDAYEVENT:FALSE
SUMMARY:Higher Ground St. Paul: Case Study of a Total Precast Building
DESCRIPTION:Wells Concrete will discuss how they utilized an insulated wall panel system that spans horizontally to support a precast floor system.  After this program\, participants will be more familiar with what a total precast concrete structure is\, how a total precast structure can benefit a project\, and what components are used to construct a total precast structure. Participants will also learn how to manage a successful project.\n\n\n\nPresenters:\n\nRyan Garden has worked for Wells Concrete for a total of 20 years he has held the title of Chief Engineer since 2010. As the Chief Engineer he oversees the drafting and engineering departments at all of our sites. In addition\, he spent seven years in the consulting engineering field\, which exposed him to a wide variety of building materials and systems. His vast work experiences make him uniquely qualified to evaluate the various projects we encounter and propose the solution best fitting our customers' needs.  Ryan graduated from the University of North Dakota with a Bachelor of Science degree in Civil Engineering. \n\n\n\nGary  Pooley is the Regional Sales Manager for Wells Concrete at our Maple Grove location. With over 25 years of experience in the precast concrete industry\, Gary has been involved in the contract development award process on thousands of projects. He is currently active as a board member at the national level of the Precast/Prestressed Concrete Institute (PCI) where he represents precast providers in the Midwest region. This\, combined with being a past board member of the Precast Concrete Institute Midwest\, part of the Construction Advisory Group for Dunwoody Institute\, and a past board member of the MN Builders Exchange\, gives Gary a valuable perspective in our industry.
X-ALT-DESC;FMTTYPE=text/html:<span style="background-image:initial\;background-position:initial\;background-size:initial\;background-repeat:initial\;background-attachment:initial\;background-origin:initial\;background-clip:initial\;"><span style="font-family:arial\,sans-serif\;"><span style="font-size:10.5pt\;">Wells Concrete will discuss how they utilized an insulated wall panel system that spans horizontally to support a precast floor system.&nbsp\; After this program\, participants will be more familiar with what a total precast concrete structure is\, how a total precast structure can benefit a project\, and what components are used to construct a total precast structure. Participants will also learn how to manage a successful project.</span></span></span><br />\n<br />\n<strong><span style="color:#0A0A0A\;"><span style="font-family:arial\,sans-serif\;"><span style="font-size:10.5pt\;">Presenters</span></span></span></strong><span style="color:#0A0A0A\;"><span style="font-family:arial\,sans-serif\;"><span style="font-size:10.5pt\;">:<br />\n<strong>Ryan Garden</strong> has worked for Wells Concrete for a total of 20 years he has held the title of Chief Engineer since 2010. As the Chief Engineer he oversees the drafting and engineering departments at all of our sites. In addition\, he spent seven years in the consulting engineering field\, which exposed him to a wide variety of building materials and systems. His vast work experiences make him uniquely qualified to evaluate the various projects we encounter and propose the solution best fitting our customers&rsquo\; needs. &nbsp\;Ryan graduated from the University of North Dakota with a Bachelor of Science degree in Civil Engineering. </span></span></span><br />\n<br />\n<strong><span style="font-family:arial\,sans-serif\;"><span style="font-size:10.5pt\;">Gary&nbsp\; Pooley</span></span></strong><span style="font-family:arial\,sans-serif\;"><span style="font-size:10.5pt\;"> is the Regional Sales Manager for Wells Concrete at our Maple Grove location. With over 25 years of experience in the precast concrete industry\, Gary has been involved in the contract development award process on thousands of projects. He is currently active as a board member at the national level of the Precast/Prestressed Concrete Institute (PCI) where he represents precast providers in the Midwest region. This\, combined with being a past board member of the Precast Concrete Institute Midwest\, part of the Construction Advisory Group for Dunwoody Institute\, and a past board member of the MN Builders Exchange\, gives Gary a valuable perspective in our industry.</span></span><br />\n&nbsp\;
LOCATION:Marriott Minneapolis West 9960 Wayzata Blvd\, MN Minnetonka (952/544-4400) (Located on the north frontage road of I-394 between Hwy 169 & Hopkins Crossroad directly across from the ACEC/MN office)
UID:e.9128.1256
SEQUENCE:3
DTSTAMP:20260421T022857Z
URL:http://cecm.memberzone.com/events/details/higher-ground-st-paul-case-study-of-a-total-precast-building-1256
END:VEVENT

END:VCALENDAR
