BEGIN:VCALENDAR
VERSION:2.0
PRODID:-//ChamberMaster//Event Calendar 2.0//EN
METHOD:PUBLISH
X-PUBLISHED-TTL:P3D
REFRESH-INTERVAL:P3D
CALSCALE:GREGORIAN
BEGIN:VEVENT
DTSTART:20140331T163000Z
DTEND:20140331T190000Z
X-MICROSOFT-CDO-ALLDAYEVENT:FALSE
SUMMARY:Interchange Tour\, Fulton Brewery & Natedogs
DESCRIPTION:Come hang out with ACEC on Monday\, March 31\, 2014 as the first signs of spring are starting to show.  The Twins home opener will only be a week away\, the weather is warming up and the Target Field (Metro Transit Station) will be opening soon.  We'll get a behind the scenes look at sections of this project from the promenade\, Hennepin Energy Recovery Center (HERC) Administrative Building and/or the parking ramp.\n\n			First\, we'll meet at Fulton Brewery a small batch brewery and tap room located near Target Field in the North Loop neighborhood. Fulton staff will be available to answer questions about the brewery and give a behind the scenes "peek" at what they do.  Beverages provided by Fulton Brewery (soda or beer.)\n\n			Lunch will be parked right out front!  Natedogs recently ranked one of the Top 21 Best Food Trucks in America will be providing you with lunch!\n\n			You don't want to miss the last monthly meeting of the 2013-14 year!  What a way to ring in spring!\n\n			Presenters:  Ed Hunter\, Project Manager\, George Fantauzza\, AIA and Shelley Miller\, AICP\, from the Interchange Project Office will be guiding the tours. \n\n			Tour: The tours start immediately at 12:00pm.  Please register at Fulton Brewery. We will break into smaller groups.  You must provide your own hard hats\, safety glasses\, and reflective safety vests for the tour. Long pants and closed toe\, hard soled shoes are required.
X-ALT-DESC;FMTTYPE=text/html:<table align="left" cellpadding="0" cellspacing="0" hspace="0" vspace="0">\n	<tbody>\n		<tr>\n			<td align="left" style="padding-top:0in\;padding-right:9.0pt\;padding-bottom:0in\;padding-left:9.0pt\;vertical-align:top\;"><span style="font-family:arial\,sans-serif\;"><span style="font-size:10.0pt\;">Come hang out with ACEC on Monday\, March 31\, 2014 as the first signs of spring are starting to show.&nbsp\; The Twins home opener will only be a week away\, the weather is warming up and the Target Field (Metro <span style="color:black\;">Transit Station) will be opening soon.&nbsp\; We&rsquo\;ll get a behind the scenes look at sections of this project from the promenade\, Hennepin Energy Recovery Center (HERC) Administrative Building and/or the parking ramp.</span></span></span><br />\n			<span style="font-family:arial\,sans-serif\;"><span style="font-size:10.0pt\;">First\, we&rsquo\;ll meet at <a href="http://fultonbeer.com/home">Fulton Brewery</a> a </span></span><span style="font-family:tahoma\,sans-serif\;"><span style="font-size:10.0pt\;">small&ndash\;batch brewery and tap room located near Target Field in the North Loop neighborhood. Fulton staff will be available to answer questions about the brewery and give a behind the scenes &ldquo\;peek&rdquo\; at what they do. &nbsp\;Beverages provided by Fulton Brewery (soda or beer.)</span></span><br />\n			<span style="font-family:tahoma\,sans-serif\;"><span style="font-size:10.0pt\;">Lunch will be parked right out front!&nbsp\; <a href="http://natedogs.com/">Natedogs</a> recently ranked one of the <a href="http://blogs.citypages.com/food/2014/02/thrillist_names_natedogs_one_of_the_twenty_one_best_food_trucks_in_america.php">Top 21 Best Food Trucks in America</a> will be providing you with lunch!</span></span><br />\n			<span style="font-family:tahoma\,sans-serif\;"><span style="font-size:10.0pt\;">You </span></span><span style="color:black\;"><span style="font-family:arial\,sans-serif\;"><span style="font-size:10.0pt\;">don&rsquo\;t want to miss the last monthly meeting of the 2013-14 year!&nbsp\; What a way to ring in spring!</span></span></span><br />\n			<strong><span style="color:black\;"><span style="font-family:arial\,sans-serif\;"><span style="font-size:10.0pt\;">Presenters: </span></span></span></strong><span style="color:black\;"><span style="font-family:arial\,sans-serif\;"><span style="font-size:10.0pt\;">&nbsp\;Ed Hunter\, Project Manager\, George Fantauzza\, AIA and Shelley Miller\, AICP\, from the Interchange Project Office will be guiding the tours. </span></span></span><br />\n			<strong><span style="font-family:arial\,sans-serif\;"><span style="font-size:10.0pt\;">Tour: </span></span></strong><span style="font-family:arial\,sans-serif\;"><span style="font-size:10.0pt\;">The tours start immediately at 12:00pm.&nbsp\; Please register at Fulton Brewery. We will break into smaller groups.&nbsp\; <strong>You must provide your own hard hats\, safety glasses\, and reflective safety vests for the tour. Long pants and closed toe\, hard soled shoes are required.</strong></span></span></td>\n		</tr>\n	</tbody>\n</table>\n\n<div style="clear:both\;">&nbsp\;</div>\n
LOCATION:PLACE: Fulton Brewery\, 414 6th Ave N Minneapolis MN 55401 (612.333.3208) PARKING: Directions to Fulton Brewery
UID:e.9128.861
SEQUENCE:3
DTSTAMP:20260424T231254Z
URL:http://cecm.memberzone.com/events/details/interchange-tour-fulton-brewery-natedogs-03-31-2014-861
END:VEVENT

END:VCALENDAR
