BEGIN:VCALENDAR
VERSION:2.0
PRODID:-//ChamberMaster//Event Calendar 2.0//EN
METHOD:PUBLISH
X-PUBLISHED-TTL:P3D
REFRESH-INTERVAL:P3D
CALSCALE:GREGORIAN
BEGIN:VEVENT
DTSTART:20190412T163000Z
DTEND:20190412T180000Z
X-MICROSOFT-CDO-ALLDAYEVENT:FALSE
SUMMARY:Large Diameter CMP Storm Pipe Rehabilitation Case Study: Hurricane Harvey Damage and Repair
DESCRIPTION:Three adjacent large diameter\, 84 and 96 inch corrugated metal pipes (CMP)\, were severely compromised due to the devastating effects of hurricane Harvey. The damage to the pipes was so great in some areas that the owner\, Harris County Flood Control District (HCFCD)\, was fearful the road could collapse. The road impacted\, Clay Road\, is a major artery in a very heavily traffic section of Houston\, Texas. The rehabilitation process employed a multi-prong approach to address the gaps\, voids and missing sections prior to the structural geopolymer liner being applied. Multiple repair techniques and products were used to structurally rehabilitate the entire pipe runs.\n\n \n\n \n\nSpeakers: Steve Henning has over 30 years of technical experience in the environmental and infrastructure rehabilitation industries. He currently serves on the executive board of ASTM's F -36 Committee\, technology and underground utilities. Steve is an active NASSCO trainer with over ten years of experience conducting PACP\, LACP and MACP certification training. His technical experience includes authoring multiple ASTM standard practices\, most notably\, ASTM F-2551 Standard Practice for Installing a Protective Cementitious Liner System in Sanitary Manholes\, and two related chemical grouting specifications. He is heavily involved in field inspection operations\, personally inspecting major project sites. His educational background in Industrial Hygiene and Safety is invaluable when conducting safe and uniform pipe and manhole inspections.
X-ALT-DESC;FMTTYPE=text/html:<span style="font-size:14px\;"><span style="border:none windowtext 1.0pt\;padding:0in\;"><span style="color:black\;"><span style="font-family:arial\,sans-serif\;">Three adjacent large diameter\, 84 and 96 inch corrugated metal pipes (CMP)\, were severely compromised due to the devastating effects of hurricane Harvey. The damage to the pipes was so great in some areas that the owner\, Harris County Flood Control District (HCFCD)\, was fearful the road could collapse. The road impacted\, Clay Road\, is a major artery in a very heavily traffic section of Houston\, Texas. The rehabilitation process employed a multi-prong approach to address the gaps\, voids and missing sections prior to the structural geopolymer liner being applied. Multiple repair techniques and products were used to structurally rehabilitate the entire pipe runs.</span></span></span><br />\n&nbsp\;<br />\n&nbsp\;<br />\n<strong><span style="font-family:arial\,sans-serif\;">Speakers</span></strong><span style="font-family:arial\,sans-serif\;">:&nbsp\;<span style="color:black\;">Steve Henning has over 30 years of technical experience in the environmental and infrastructure rehabilitation industries. He currently serves on the executive board of ASTM&rsquo\;s F -36 Committee\, technology and underground utilities. Steve is an active NASSCO trainer with over ten years of experience conducting PACP\, LACP and MACP certification training. His technical experience includes authoring multiple ASTM standard practices\, most notably\, ASTM F-2551 Standard Practice for Installing a Protective Cementitious Liner System in Sanitary Manholes\, and two related chemical grouting specifications. He is heavily involved in field inspection operations\, personally inspecting major project sites. His educational background in Industrial Hygiene and Safety is invaluable when conducting safe and uniform pipe and manhole inspections.</span></span></span>
LOCATION:Marriott Minneapolis West 9960 Wayzata Blvd\, MN Minnetonka (952/544-4400) (Located on the north frontage road of I-394 between Hwy 169 & Hopkins Crossroad directly across from the ACEC/MN office)
UID:e.9128.1339
SEQUENCE:3
DTSTAMP:20260419T220403Z
URL:http://cecm.memberzone.com/events/details/large-diameter-cmp-storm-pipe-rehabilitation-case-study-hurricane-harvey-damage-and-repair-1339
END:VEVENT

END:VCALENDAR
