BEGIN:VCALENDAR
VERSION:2.0
PRODID:-//ChamberMaster//Event Calendar 2.0//EN
METHOD:PUBLISH
X-PUBLISHED-TTL:P3D
REFRESH-INTERVAL:P3D
CALSCALE:GREGORIAN
BEGIN:VEVENT
DTSTART:20190416T123000Z
DTEND:20190416T143000Z
X-MICROSOFT-CDO-ALLDAYEVENT:FALSE
SUMMARY:Leadership Breakfast: President and CEO of Zweig Group
DESCRIPTION:In today's increasingly competitive AEC industry\, data is a powerful story teller. This session will focus on the strategic goal 2 of ACEC/MN's strategic plan focusing on Value. Through a presentation of statistics and stories\, attendees will learn what award winning engineering firms are doing today to communicate\, educate\, and demonstrate value to clients\, employees\, and the industry. \n\n \n\n\n\nChad Clinehens\, President and CEO of Zweig \n\nChad Clinehens is the president and CEO of Zweig Group\, the leading research\, publishing\, and consulting firm for the AEC industry. With a mission to elevate the industry\, he has helped many AEC firms change and improve operations through strategic business planning\, organizational restructuring\, mergers and acquisitions\, marketing and sales\, partner separations\, growth campaigns\, and more. Chad holds a Master's Degree in Business Administration as well as a Bachelor of Science in Civil Engineering from the University of Arkansas. He is a registered professional engineer.
X-ALT-DESC;FMTTYPE=text/html:<br />\n<span style="font-family:arial\,sans-serif\;"><span style="font-size:11.0pt\;">In today&rsquo\;s increasingly competitive AEC industry\, data is a powerful story teller. This session will focus on the strategic goal 2 of ACEC/MN&rsquo\;s strategic plan focusing on Value. Through a presentation of statistics and stories\, attendees will learn what award winning engineering firms are doing today to communicate\, educate\, and demonstrate value to clients\, employees\, and the industry. </span></span><br />\n&nbsp\;<br />\n<br />\n<strong><em><span style="color:black\;"><span style="font-family:arial\,sans-serif\;"><span style="font-size:11.0pt\;">Chad Clinehens\, </span></span></span></em></strong><strong><em><span style="color:black\;"><span style="font-family:arial\,sans-serif\;"><span style="font-size:11.0pt\;">President and CEO of Zweig </span></span></span></em></strong><br />\n<span style="font-family:arial\,sans-serif\;"><span style="font-size:11.0pt\;">Chad Clinehens is the president and CEO of Zweig Group\, the leading research\, publishing\, and consulting firm for the AEC industry. With a mission to elevate the industry\, he has helped many AEC firms change and improve operations through strategic business planning\, organizational restructuring\, mergers and acquisitions\, marketing and sales\, partner separations\, growth campaigns\, and more. Chad holds a Master&rsquo\;s Degree in Business Administration as well as a Bachelor of Science in Civil Engineering from the University of Arkansas. He is a registered professional engineer. </span></span>
LOCATION:Golden Valley Country Club 7001 Golden Valley Rd\, Minneapolis\, MN 55427
UID:e.9128.1335
SEQUENCE:3
DTSTAMP:20260419T220456Z
URL:http://cecm.memberzone.com/events/details/leadership-breakfast-president-and-ceo-of-zweig-group-1335
END:VEVENT

END:VCALENDAR
