BEGIN:VCALENDAR
VERSION:2.0
PRODID:-//ChamberMaster//Event Calendar 2.0//EN
METHOD:PUBLISH
X-PUBLISHED-TTL:P3D
REFRESH-INTERVAL:P3D
CALSCALE:GREGORIAN
BEGIN:VEVENT
DTSTART:20180411T170000Z
DTEND:20180411T183000Z
X-MICROSOFT-CDO-ALLDAYEVENT:FALSE
SUMMARY:Legislative Committee Meeting
DESCRIPTION:Regularly scheduled meeting of the ACEC/MN Legislative Committee. Please note location!
X-ALT-DESC;FMTTYPE=text/html:Regularly scheduled meeting of the ACEC/MN Legislative Committee. Please note location!
LOCATION:American Engineering Testing 550 Cleveland Ave. N St. Paul\, MN 55114
UID:e.9128.1212
SEQUENCE:3
DTSTAMP:20260420T211102Z
URL:http://cecm.memberzone.com/events/details/legislative-committee-meeting-04-04-2018-1212
END:VEVENT

END:VCALENDAR
