BEGIN:VCALENDAR
VERSION:2.0
PRODID:-//ChamberMaster//Event Calendar 2.0//EN
METHOD:PUBLISH
X-PUBLISHED-TTL:P3D
REFRESH-INTERVAL:P3D
CALSCALE:GREGORIAN
BEGIN:VEVENT
DTSTART:20190612T170000Z
DTEND:20190612T183000Z
X-MICROSOFT-CDO-ALLDAYEVENT:FALSE
SUMMARY:Legislative Committee Meeting
DESCRIPTION:Regularly scheduled meeting of the ACEC/MN Legislative Committee. Please note location!\n\nThis will be a wrap-up of the recently completed legislative session for 2019.
X-ALT-DESC;FMTTYPE=text/html:Regularly scheduled meeting of the ACEC/MN Legislative Committee. Please note location!<br />\nThis will be a wrap-up of the recently completed legislative session for 2019.&nbsp\;
LOCATION:Messerli and Kramer 555 Park Street\, Suite 130 St. Paul\, MN 55103
UID:e.9128.1226
SEQUENCE:3
DTSTAMP:20260419T135112Z
URL:http://cecm.memberzone.com/events/details/legislative-committee-meeting-06-05-2019-1226
END:VEVENT

END:VCALENDAR
