BEGIN:VCALENDAR
VERSION:2.0
PRODID:-//ChamberMaster//Event Calendar 2.0//EN
METHOD:PUBLISH
X-PUBLISHED-TTL:P3D
REFRESH-INTERVAL:P3D
CALSCALE:GREGORIAN
BEGIN:VEVENT
DTSTART:20171206T180000Z
DTEND:20171206T193000Z
X-MICROSOFT-CDO-ALLDAYEVENT:FALSE
SUMMARY:Legislative Committee Meeting - 12/7/17
DESCRIPTION:Regularly scheduled meeting of the ACEC/MN Legislative Committee
X-ALT-DESC;FMTTYPE=text/html:Regularly scheduled meeting of the ACEC/MN Legislative Committee
LOCATION:ACEC/MN Conference Room 10201 Wayzata Blvd.\, Suite 240 Minnetonka\, MN 55305
UID:e.9128.1176
SEQUENCE:3
DTSTAMP:20260421T035432Z
URL:http://cecm.memberzone.com/events/details/legislative-committee-meeting-12-7-17-1176
END:VEVENT

END:VCALENDAR
