BEGIN:VCALENDAR
VERSION:2.0
PRODID:-//ChamberMaster//Event Calendar 2.0//EN
METHOD:PUBLISH
X-PUBLISHED-TTL:P3D
REFRESH-INTERVAL:P3D
CALSCALE:GREGORIAN
BEGIN:VEVENT
DTSTART;VALUE=DATE:20130514
DTEND;VALUE=DATE:20130515
TRANSP:TRANSPARENT
X-MICROSOFT-CDO-ALLDAYEVENT:TRUE
SUMMARY:Methods to Evaluate and Strengthen Existing Structures
DESCRIPTION:Various
X-ALT-DESC;FMTTYPE=text/html:Various
LOCATION:Marriott Minneapolis West Minnetonka\, MN
UID:e.9128.285
SEQUENCE:3
DTSTAMP:20260425T215119Z
URL:http://cecm.memberzone.com/events/details/methods-to-evaluate-and-strengthen-existing-structures-05-14-2013-285
END:VEVENT

END:VCALENDAR
