BEGIN:VCALENDAR
VERSION:2.0
PRODID:-//ChamberMaster//Event Calendar 2.0//EN
METHOD:PUBLISH
X-PUBLISHED-TTL:P3D
REFRESH-INTERVAL:P3D
CALSCALE:GREGORIAN
BEGIN:VEVENT
DTSTART;VALUE=DATE:20190506
DTEND;VALUE=DATE:20190507
TRANSP:TRANSPARENT
X-MICROSOFT-CDO-ALLDAYEVENT:TRUE
SUMMARY:Minnesota Group Dinner
DESCRIPTION:Roberts Restaurant\n\nWashington DC
X-ALT-DESC;FMTTYPE=text/html:Roberts Restaurant<br />\nWashington DC
LOCATION:
UID:e.9128.1349
SEQUENCE:3
DTSTAMP:20260419T183845Z
URL:http://cecm.memberzone.com/events/details/minnesota-group-dinner-1349
END:VEVENT

END:VCALENDAR
