BEGIN:VCALENDAR
VERSION:2.0
PRODID:-//ChamberMaster//Event Calendar 2.0//EN
METHOD:PUBLISH
X-PUBLISHED-TTL:P3D
REFRESH-INTERVAL:P3D
CALSCALE:GREGORIAN
BEGIN:VEVENT
DTSTART:20180305T173000Z
DTEND:20180305T200000Z
X-MICROSOFT-CDO-ALLDAYEVENT:FALSE
SUMMARY:Minnesota's Energy Market: Client Panel Discussion
DESCRIPTION:The ACEC/MN Energy and Natural Resources Committee has brought together a group of panelists who will present their outlook on the future of energy in Minnesota\, focusing on generation\, distribution\, and resiliency\, and how energy delivery is likely to affect engineering and consulting supporting the power industry. The panelists are: \n\n\n	Maggie Thickens\, General Counsel for Allete Clean Energy\, Inc.\n	Rolf Nordstrom\, President & CEO\, Great Plains Institute\n	Greg Chamberlain\, Regional Vice President\, Xcel Energy\n	Ken Smith\, President/CEO\, Ever-Green Energy and District Energy St. Paul\n\nModerated by\; Bill Forsmark\, Vice President and Chief Marketing Officer of Barr Engineering Co.
X-ALT-DESC;FMTTYPE=text/html:<span style="font-size:14px\;"><span style="font-family:arial\,sans-serif\;"><strong>The ACEC/MN Energy and Natural Resources Committee has brought together a group of panelists who will present their outlook on the future of energy in Minnesota\, focusing on generation\, distribution\, and resiliency\, and how energy delivery is likely to affect engineering and consulting supporting the power industry. The panelists are: </strong></span></span>\n\n<ul>\n	<li><span style="font-size:14px\;"><span style="font-family:arial\,sans-serif\;">Maggie Thickens\, General Counsel for <strong>Allete Clean Energy\, Inc.</strong></span></span></li>\n	<li><span style="font-size:14px\;"><span style="font-family:arial\,sans-serif\;">Rolf Nordstrom\, President &amp\; CEO\, <strong>Great Plains Institute</strong></span></span></li>\n	<li><span style="font-size:14px\;"><span style="font-family:arial\,sans-serif\;">Greg Chamberlain\, Regional Vice President\, <strong>Xcel Energy</strong></span></span></li>\n	<li><span style="font-size:14px\;"><span style="color:black\;"><span style="font-family:arial\,sans-serif\;">Ken Smith\, President/CEO\, <strong>Ever-Green Energy and District Energy St. Paul</strong></span></span></span></li>\n</ul>\n<span style="font-size:14px\;"><strong><span style="font-family:arial\,sans-serif\;">Moderated by\; </span></strong><span style="font-family:arial\,sans-serif\;">Bill Forsmark\, Vice President and Chief Marketing Officer of <a href="http://www.barr.com/">Barr Engineering Co.</a></span></span>
LOCATION:Marriott Minneapolis West 9960 Wayzata Blvd.\, Minnetonka\, MN (952/544-4400) (Located on the north frontage road of I-394 between Hwy 169 & Hopkins Crossroad directly across from the ACEC/MN office)
UID:e.9128.1265
SEQUENCE:3
DTSTAMP:20260421T005000Z
URL:http://cecm.memberzone.com/events/details/minnesota-s-energy-market-client-panel-discussion-1265
END:VEVENT

END:VCALENDAR
