BEGIN:VCALENDAR
VERSION:2.0
PRODID:-//ChamberMaster//Event Calendar 2.0//EN
METHOD:PUBLISH
X-PUBLISHED-TTL:P3D
REFRESH-INTERVAL:P3D
CALSCALE:GREGORIAN
BEGIN:VEVENT
DTSTART;VALUE=DATE:20140304
DTEND;VALUE=DATE:20140307
TRANSP:TRANSPARENT
X-MICROSOFT-CDO-ALLDAYEVENT:TRUE
SUMMARY:Minnesota's Transportation Conference
DESCRIPTION:Learn about the latest innovations in transportation from around Minnesota at this new three-day conference. Come network with stakeholders from all sectors of transportation and hear about new implementation and research efforts in a variety of modes at one of the state's largest transportation events.\n\n\n\nFor complete information and register for this event go to:\n\nhttp://mntransportationconference.org/
X-ALT-DESC;FMTTYPE=text/html:Learn about the latest innovations in transportation from around Minnesota at this new three-day conference. Come network with stakeholders from all sectors of transportation and hear about new implementation and research efforts in a variety of modes at one of the state&#39\;s largest transportation events.<br />\n<br />\nFor complete information and register for this event go to:<br />\n<a href="mntransportationconference.org/">http://mntransportationconference.org/</a><br />\n
LOCATION:The conference will be held at the DoubleTree by Hilton Hotel\, 7800 Normandale Boulevard\, Bloomington\, Minnesota. A map and driving directions are available on the hotel website. The hotel provides complimentary parking for conference attendees. For transit information\, please visit the Metro Transit website or call 612-373-3333. Accommodations Rooms are available at the DoubleTree by Hilton Hotel at the special rate of $121 plus tax per night for conference attendees. To make a reservation\, please call the hotel directly at 952-835-7800 and identify yourself as an attendee of Minnesota's Transportation Conference. Reservations must be made by February 10\, 2014\, to ensure the special rate. Reservations made after this date will be accepted on a space and rate availability basis.
UID:e.9128.852
SEQUENCE:3
DTSTAMP:20260424T230850Z
URL:http://cecm.memberzone.com/events/details/minnesota-s-transportation-conference-03-04-2014-852
END:VEVENT

END:VCALENDAR
