BEGIN:VCALENDAR
VERSION:2.0
PRODID:-//ChamberMaster//Event Calendar 2.0//EN
METHOD:PUBLISH
X-PUBLISHED-TTL:P3D
REFRESH-INTERVAL:P3D
CALSCALE:GREGORIAN
BEGIN:VEVENT
DTSTART;VALUE=DATE:20170301
DTEND;VALUE=DATE:20170303
TRANSP:TRANSPARENT
X-MICROSOFT-CDO-ALLDAYEVENT:TRUE
SUMMARY:Minnesota's Transportation Conference
DESCRIPTION:Mark your calendars for the next Minnesota's Transportation Conference being hold on March 1-2\, 2017 at the St. Paul RiverCentre. You can datails at the event's official website at http://mntransportationconference.org/
X-ALT-DESC;FMTTYPE=text/html:Mark your calendars for the next Minnesota&#39\;s Transportation Conference being hold on March 1-2\, 2017 at the St. Paul RiverCentre. You can datails at the event&#39\;s official website at <a href="http://mntransportationconference.org/">http://mntransportationconference.org/</a>
LOCATION:
UID:e.9128.1128
SEQUENCE:3
DTSTAMP:20260422T005612Z
URL:http://cecm.memberzone.com/events/details/minnesota-s-transportation-conference-1128
END:VEVENT

END:VCALENDAR
