BEGIN:VCALENDAR
VERSION:2.0
PRODID:-//ChamberMaster//Event Calendar 2.0//EN
METHOD:PUBLISH
X-PUBLISHED-TTL:P3D
REFRESH-INTERVAL:P3D
CALSCALE:GREGORIAN
BEGIN:VEVENT
DTSTART;VALUE=DATE:20190313
DTEND;VALUE=DATE:20190315
TRANSP:TRANSPARENT
X-MICROSOFT-CDO-ALLDAYEVENT:TRUE
SUMMARY:Minnesota's Transportation Conference
DESCRIPTION:Registration for the 2019 Minnesota's Transportation Conference is now open. \n\nClick here to register\n\n \n\n\n	Dates: March 13 14\, 2019\n	Location: Saint Paul RiverCentre\n	Registration: Open\n	Credits: Up to 10 professional development hours and 14.75 American Institute of Certified Planners continuing maintenance credits
X-ALT-DESC;FMTTYPE=text/html:<p><span style="font-size:14px\;">Registration for the&nbsp\;2019 Minnesota&#39\;s Transportation Conference is now open.&nbsp\;</span></p>\n\n<p><a href="https://ccaps.umn.edu/mn-transportation-conference"><span style="font-size: 14px\;">Click here to register</span></a><br />\n&nbsp\;</p>\n\n<ul font-size:="" helvetica="" style="box-sizing: border-box\; letter-spacing: 0.45px\; margin-top: 0px\; margin-bottom: 11.5px\; padding: 0.5em 0.75em\; background-color: rgb(255\, 215\, 95)\; border-radius: 3px\; list-style-type: none\; width: 768px\; color: rgb(64\, 77\, 91)\; font-family: Raleway\, Helvetica\, ">\n	<li style="box-sizing: border-box\; letter-spacing: 0.025em\; display: block\; margin: 1em\;"><strong style="box-sizing: border-box\; letter-spacing: 0.025em\;">Dates:&nbsp\;</strong>March 13&ndash\;14\, 2019</li>\n	<li style="box-sizing: border-box\; letter-spacing: 0.025em\; display: block\; margin: 1em\;"><strong style="box-sizing: border-box\; letter-spacing: 0.025em\;">Location</strong>:&nbsp\;<a href="http://www.rivercentre.org/" style="box-sizing: border-box\; letter-spacing: 0.025em\; background-color: transparent\; color: rgb(122\, 0\, 25)\; text-decoration-line: none\; border-bottom: 1px solid rgba(52\, 73\, 94\, 0.4)\; outline: none medium\; font-weight: 600\; transition: all 0.5s ease 0s\;" target="_blank">Saint Paul RiverCentre</a></li>\n	<li style="box-sizing: border-box\; letter-spacing: 0.025em\; display: block\; margin: 1em\;"><strong style="box-sizing: border-box\; letter-spacing: 0.025em\;">Registration:</strong>&nbsp\;Open</li>\n	<li style="box-sizing: border-box\; letter-spacing: 0.025em\; display: block\; margin: 1em\;"><strong style="box-sizing: border-box\; letter-spacing: 0.025em\;">Credits</strong>: Up to 10 professional development hours and 14.75 American Institute of Certified Planners continuing maintenance credits</li>\n</ul>\n<br />\n<br />\n&nbsp\;
LOCATION:RiverCentre in St. Paul
UID:e.9128.1293
SEQUENCE:3
DTSTAMP:20260419T235249Z
URL:http://cecm.memberzone.com/events/details/minnesota-s-transportation-conference-1293
END:VEVENT

END:VCALENDAR
