BEGIN:VCALENDAR
VERSION:2.0
PRODID:-//ChamberMaster//Event Calendar 2.0//EN
METHOD:PUBLISH
X-PUBLISHED-TTL:P3D
REFRESH-INTERVAL:P3D
CALSCALE:GREGORIAN
BEGIN:VEVENT
DTSTART:20150611T121500Z
DTEND:20150611T140000Z
X-MICROSOFT-CDO-ALLDAYEVENT:FALSE
SUMMARY:MnDOT - ACEC/MN Breakfast Meeting
DESCRIPTION:Quarterly Meeting between representatives of ACEC/MN and MnDOT personnel.\n\nPlease mark your calendars and look for a complete agenda in th near future.
X-ALT-DESC;FMTTYPE=text/html:<span style="font-size:12px\;">Quarterly Meeting between representatives of ACEC/MN and MnDOT personnel.<br />\nPlease mark your calendars and look for a complete agenda in th near future.</span><br />\n<br />\n&nbsp\;
LOCATION:Kelly Inn\, St. Paul
UID:e.9128.930
SEQUENCE:3
DTSTAMP:20260423T210741Z
URL:http://cecm.memberzone.com/events/details/mndot-acec-mn-breakfast-meeting-06-11-2015-930
END:VEVENT

END:VCALENDAR
