BEGIN:VCALENDAR
VERSION:2.0
PRODID:-//ChamberMaster//Event Calendar 2.0//EN
METHOD:PUBLISH
X-PUBLISHED-TTL:P3D
REFRESH-INTERVAL:P3D
CALSCALE:GREGORIAN
BEGIN:VEVENT
DTSTART:20180103T133000Z
DTEND:20180103T150000Z
X-MICROSOFT-CDO-ALLDAYEVENT:FALSE
SUMMARY:MnDOT - ACEC/MN Breakfast Meeting
DESCRIPTION:Quarterly Meeting between representatives of ACEC/MN and MnDOT personnel.\n\nPlease note the location!
X-ALT-DESC;FMTTYPE=text/html:<span style="font-size:12px\;">Quarterly Meeting between representatives of ACEC/MN and MnDOT personnel.<br />\nPlease note the location!</span>
LOCATION:MnDOT Training and Conference Center 1900 County Road I West Shoreview\, MN 55126 Directions: 35W to County Road I. Head east. Building is approximately mile east of 35W on the south side of County Road I. Map: http://www.dot.state.mn.us/hr/trngctr/pdfs/shoreview-training-center-map.pdf
UID:e.9128.1236
SEQUENCE:3
DTSTAMP:20260421T060423Z
URL:http://cecm.memberzone.com/events/details/mndot-acec-mn-breakfast-meeting-1236
END:VEVENT

END:VCALENDAR
