BEGIN:VCALENDAR
VERSION:2.0
PRODID:-//ChamberMaster//Event Calendar 2.0//EN
METHOD:PUBLISH
X-PUBLISHED-TTL:P3D
REFRESH-INTERVAL:P3D
CALSCALE:GREGORIAN
BEGIN:VEVENT
DTSTART;VALUE=DATE:20130522
DTEND;VALUE=DATE:20130523
TRANSP:TRANSPARENT
X-MICROSOFT-CDO-ALLDAYEVENT:TRUE
SUMMARY:MnDOT Breakfast Meeting (Transportation Committee)
DESCRIPTION:
X-ALT-DESC;FMTTYPE=text/html:
LOCATION:Kelly Inn St. Paul
UID:e.9128.293
SEQUENCE:3
DTSTAMP:20260425T214754Z
URL:http://cecm.memberzone.com/events/details/mndot-breakfast-meeting-transportation-committee-05-22-2013-293
END:VEVENT

END:VCALENDAR
