BEGIN:VCALENDAR
VERSION:2.0
PRODID:-//ChamberMaster//Event Calendar 2.0//EN
METHOD:PUBLISH
X-PUBLISHED-TTL:P3D
REFRESH-INTERVAL:P3D
CALSCALE:GREGORIAN
BEGIN:VEVENT
DTSTART:20171212T130000Z
DTEND:20171212T151500Z
X-MICROSOFT-CDO-ALLDAYEVENT:FALSE
SUMMARY:MNSEA Meeting
DESCRIPTION:Regularly scheduled monthly meeting of the Minnesota Structural Engineers Association. Please mark your calendars.\n\n\n\nSeminar Topic: OSHA Walking Working Surfaces\n\nPresented by: Janet L. Keyes\, CIH - CHESS\, Inc.
X-ALT-DESC;FMTTYPE=text/html:Regularly scheduled monthly meeting of the Minnesota Structural Engineers Association. Please mark your calendars.<br />\n<br />\n<span style="font-size:12px\;">Seminar Topic:&nbsp\;<span style="text-transform:uppercase\;">OSHA Walking Working Surfaces</span></span>\n<pre>\n<span style="font-size:12px\;"><span style="color:windowtext\;"><span style="font-family:calibri\,sans-serif\;">Presented by:&nbsp\;</span></span><span style="font-family:calibri\,sans-serif\;">Janet L. Keyes\, CIH - CHESS\, Inc.</span></span></pre>\n<br />\n&nbsp\;
LOCATION:Marriott Minneapolis West 9960 Wayzata Blvd.\, St. Louis Park\, MN 55426 952-544-4400
UID:e.9128.1243
SEQUENCE:3
DTSTAMP:20260421T035413Z
URL:http://cecm.memberzone.com/events/details/mnsea-meeting-1243
END:VEVENT

END:VCALENDAR
