BEGIN:VCALENDAR
VERSION:2.0
PRODID:-//ChamberMaster//Event Calendar 2.0//EN
METHOD:PUBLISH
X-PUBLISHED-TTL:P3D
REFRESH-INTERVAL:P3D
CALSCALE:GREGORIAN
BEGIN:VEVENT
DTSTART:20160510T120000Z
DTEND:20160510T180000Z
X-MICROSOFT-CDO-ALLDAYEVENT:FALSE
SUMMARY:MNSEA Seminar and Trade Show
DESCRIPTION:Constructability of Precast Buildings\n\n\n\nSession 1\n\nThe Good and Bad of Precast Podium Construction\n\nBy Paul Kourajian\, PE\n\nApartment buildings have been and continue to be a hot segment of the construction industry. Wood framed construction over a fire separation and transfer level of precast is a common way of constructing these structures. This presentation will use project examples to illustrate best practices and will discuss the gravity\, lateral and connection systems required for a successful project.\n\nSession 2\n\nDetailing\, Innovation\, and Quality Control for Precast Concrete Structures\n\nBy Ned Cleland\, PHD\, PE                                                                                                                                           \n\nWhat's new in the precast industry? Is the precast being delivered to my site manufactured to the standards I specified? How much detail should I provide on my drawings if each precaster has their own preferred connections?  What are the differences in detailing for precast in seismic design categories A to F? All these questions and more will be answered as Dr. Ned Cleland discusses precast concrete structures.\n\nSession 3\n\nPrecast Cladding for Today and Tomorrow\n\nBy Tom Kelley\, PE\n\nHow precast cladding is designed and detailed can have a significant impact on the overall cost of the structure.  How the cladding attaches to the structure can be different than what the engineer of record assumed.  This session will look at cladding for office and ramp structures.  Best practices will be discussed for panel sizing\, cost efficient load paths\, and connections.  Ramp cladding design and detailing for vehicle barrier loads will also be discussed.  We will close out this session with a look at new precast cladding innovations.\n\n\n\nThe seminar will provide 3.0 PDH credits. Certificates will be distributed at the end of the seminar.\n\n\n\nTRADE SHOW\n\nSuppliers from many areas of the construction industry ranging from fabricators to providers of design tools will be available to update us on products and services. Suppliers will be happy to answer your questions and provide solutions for your every-day challenges.\n\n \n\nAGENDA: MNSEA MAY SEMINAR TRADE SHOW\n7:00 am - Registration\, Start of Trade Show\, Breakfast\n\n7:45 am - MnSEA General Meeeting\n\n8:15 am - Trade Show Introductions\n\n8:30 am - Session 1\n\n9:30 am - Trade Show Break\n\n10:00 am - Session 2\n\n11:00 - Trade Show Wrap-up\, Snacks\n\n11:45 am - 12:45 pm - Session 3\n\n\n\nVendors:\n\nAmerican Engineering\, Testing\, inc.\n\nAtlas Foundation Company\n\nCortec Corporation\n\nCTC (CAD Technology Center)\n\nEnterprise Fleet Management\n\nEuclid Chemical Company\n\nFABREEKA\n\nFIBRWRAP\n\nGage Brothers Concrete Products\n\nGround Improvement Engineering\n\nHelix Steel\n\nHilti Corporation\n\nInnovative Foundation Supportworks\n\nLeJeune Bolt Company\n\nMolin Concrete Products Co.\n\nPentair Engineered Electrical & Fastening Solutions\n\nPowers Fasteners\n\nRoseburg Forest Products Co.\n\nSimpson Strong-Tie\, Inc.\n\nUSP Structural Connectors\n\nVeit Companies\n\nVulcraft-NE\n\nWells Concrete\n\nWoodWorks\n\nPCI\n\nMN Builders Exchange
X-ALT-DESC;FMTTYPE=text/html:<p><br />\n<span style="font-family:times new roman\,serif\;"><span style="font-size:14.0pt\;"><span style="font-family:arial\;">&#8203\;Constructability of Precast Buildings</span></span></span><br />\n<br />\n<strong><span style="font-size:14px\;">Session 1<br />\nThe Good and Bad of Precast Podium Construction<br />\nBy Paul Kourajian\, PE</span></strong><br />\n<span style="font-family: arial\; font-size: 10pt\; line-height: 1.6\;">Apartment buildings have been and continue to be a hot segment of the construction industry.&nbsp\;Wood framed construction over a fire separation and transfer level of precast is a common way of constructing these structures.&nbsp\;This presentation will use project examples to illustrate best practices and will discuss the gravity\, lateral and connection systems required for a successful project.</span></p>\n\n<p><strong><span style="font-size:14px\;">Session 2<br />\nDetailing\, Innovation\, and Quality Control for Precast Concrete Structures<br />\nBy Ned Cleland\, PHD\, PE&nbsp\; </span></strong>&nbsp\; &nbsp\; &nbsp\; &nbsp\; &nbsp\; &nbsp\; &nbsp\; &nbsp\; &nbsp\; &nbsp\; &nbsp\; &nbsp\; &nbsp\; &nbsp\; &nbsp\; &nbsp\; &nbsp\; &nbsp\; &nbsp\; &nbsp\; &nbsp\; &nbsp\; &nbsp\; &nbsp\; &nbsp\; &nbsp\; &nbsp\; &nbsp\; &nbsp\; &nbsp\; &nbsp\; &nbsp\; &nbsp\; &nbsp\; &nbsp\; &nbsp\; &nbsp\; &nbsp\; &nbsp\; &nbsp\; &nbsp\; &nbsp\; &nbsp\; &nbsp\; &nbsp\; &nbsp\; &nbsp\; &nbsp\; &nbsp\; &nbsp\; &nbsp\; &nbsp\; &nbsp\; &nbsp\; &nbsp\; &nbsp\; &nbsp\; &nbsp\; &nbsp\; &nbsp\; &nbsp\; &nbsp\; &nbsp\; &nbsp\; &nbsp\; &nbsp\; &nbsp\; &nbsp\; &nbsp\;<br />\n<span style="line-height: 1.6\;">What&rsquo\;s new in the precast industry? Is the precast being delivered to my site manufactured to the standards I specified? How much detail should I provide on my drawings if each </span>precaster<span style="line-height: 1.6\;"> has their own preferred connections?&nbsp\; What are the differences in detailing for precast in seismic design categories A to F? All these questions and more will be answered as Dr. Ned </span>Cleland<span style="line-height: 1.6\;"> discusses precast concrete structures.</span></p>\n\n<p style="margin-right: 30.4pt\; line-height: 14.3pt\;"><strong><span style="font-size:14px\;">Session 3</span></strong><br />\n<strong style="font-size: 13px\; line-height: 1.6\;"><span style="font-size:14px\;">Precast Cladding for Today and Tomorrow</span></strong><br />\n<strong style="font-size: 13px\; line-height: 1.6\;"><span style="font-size:14px\;">By Tom Kelley\, PE</span></strong><br />\nHow precast cladding is designed and detailed can have a significant impact on the overall cost of the structure.&nbsp\; How the cladding attaches to the structure can be different than what the engineer of record assumed.&nbsp\; This session will look at cladding for office and ramp structures.&nbsp\; Best practices will be discussed for panel sizing\, cost efficient load paths\, and connections.&nbsp\; Ramp cladding design and detailing for vehicle barrier loads will also be discussed.&nbsp\; We will close out this session with a look at new precast cladding innovations.<br />\n<br />\n<strong style="line-height: 1.2\;"><span style="font-size:12px\;">The seminar will provide 3.0 PDH credits. Certificates will be distributed at the end of the seminar.</span></strong><br />\n<br />\n<span style="font-family:arial\;"><strong><span style="font-size:12.5pt\;">T</span></strong><strong><span style="font-size:10.0pt\;">RADE </span></strong><strong><span style="font-size:12.5pt\;">S</span></strong><strong><span style="font-size:10.0pt\;">HOW</span></strong></span><br />\nSuppliers from many areas of the construction industry ranging from fabricators to providers of design tools will be available to update us on products and services. Suppliers will be happy to answer your questions and provide solutions for your every-day challenges.<br />\n&nbsp\;<br />\n<span style="font-family:arial\;"><strong><span style="font-size:12.5pt\;">A</span></strong><strong><span style="font-size:10.0pt\;">GENDA</span></strong><strong><span style="font-size:12.5pt\;">: MNSEA M</span></strong><strong><span style="font-size:10.0pt\;">AY </span></strong><strong><span style="font-size:12.5pt\;">S</span></strong><strong><span style="font-size:10.0pt\;">EMINAR </span></strong><strong><span style="font-size:12.5pt\;">T</span></strong><strong><span style="font-size:10.0pt\;">RADE </span></strong><strong><span style="font-size:12.5pt\;">S</span></strong><strong><span style="font-size:10.0pt\;">HOW</span></strong></span></p>\n<span style="font-family: arial\; font-size: 12px\; line-height: 19.2px\;">7:00 am - Registration\, Start of Trade Show\, Breakfast</span><br style="font-family: arial\; font-size: 12px\; line-height: 19.2px\;" />\n<span style="font-family: arial\; font-size: 12px\; line-height: 19.2px\;">7:45 am -&nbsp\;</span>MnSEA<span style="font-family: arial\; font-size: 12px\; line-height: 19.2px\;">&nbsp\;General&nbsp\;</span>Meeeting<br style="font-family: arial\; font-size: 12px\; line-height: 19.2px\;" />\n<span style="font-family: arial\; font-size: 12px\; line-height: 19.2px\;">8:15 am - Trade Show Introductions</span><br style="font-family: arial\; font-size: 12px\; line-height: 19.2px\;" />\n<span style="font-family: arial\; font-size: 12px\; line-height: 19.2px\;">8:30 am - Session 1</span><br style="font-family: arial\; font-size: 12px\; line-height: 19.2px\;" />\n<span style="font-family: arial\; font-size: 12px\; line-height: 19.2px\;">9:30 am - Trade Show Break</span><br style="font-family: arial\; font-size: 12px\; line-height: 19.2px\;" />\n<span style="font-family: arial\; font-size: 12px\; line-height: 19.2px\;">10:00 am - Session 2</span><br style="font-family: arial\; font-size: 12px\; line-height: 19.2px\;" />\n<span style="font-family: arial\; font-size: 12px\; line-height: 19.2px\;">11:00 - Trade Show Wrap-up\, Snacks</span><br style="font-family: arial\; font-size: 12px\; line-height: 19.2px\;" />\n<span style="font-family: arial\; font-size: 12px\; line-height: 19.2px\;">11:45 am - 12:45 pm - Session 3<br />\n<br />\n<span style="font-size:14px\;"><strong>Vendors:</strong></span><br />\nAmerican Engineering\, Testing\, inc.<br />\nAtlas Foundation Company<br />\nCortec Corporation<br />\nCTC (CAD Technology Center)<br />\nEnterprise Fleet Management<br />\nEuclid Chemical Company<br />\nFABREEKA<br />\nFIBRWRAP<br />\nGage Brothers Concrete Products<br />\nGround Improvement Engineering<br />\nHelix Steel<br />\nHilti Corporation<br />\nInnovative Foundation Supportworks<br />\nLeJeune Bolt Company<br />\nMolin Concrete Products Co.<br />\nPentair Engineered Electrical &amp\; Fastening Solutions<br />\nPowers Fasteners<br />\nRoseburg Forest Products Co.<br />\nSimpson Strong-Tie\, Inc.<br />\nUSP Structural Connectors<br />\nVeit Companies<br />\nVulcraft-NE<br />\nWells Concrete<br />\nWoodWorks<br />\nPCI<br />\nMN Builders Exchange</span><br />\n&nbsp\;\n<table border="0" cellpadding="0" cellspacing="0" style="margin-left:5.25pt\;border-collapse:collapse\;">\n	<tbody>\n	</tbody>\n</table>\n
LOCATION:LOCATION: Marriott Minneapolis West 9960 Wayzata Blvd\, MN Minnetonka (952/544-4400) (Located on the north frontage road of I-394 between Hwy 169 & Hopkins Crossroad directly across from the ACEC/MN office)
UID:e.9128.1077
SEQUENCE:3
DTSTAMP:20260423T000851Z
URL:http://cecm.memberzone.com/events/details/mnsea-seminar-and-trade-show-05-10-2016-1077
END:VEVENT

END:VCALENDAR
