BEGIN:VCALENDAR
VERSION:2.0
PRODID:-//ChamberMaster//Event Calendar 2.0//EN
METHOD:PUBLISH
X-PUBLISHED-TTL:P3D
REFRESH-INTERVAL:P3D
CALSCALE:GREGORIAN
BEGIN:VEVENT
DTSTART:20180508T120000Z
DTEND:20180508T180000Z
X-MICROSOFT-CDO-ALLDAYEVENT:FALSE
SUMMARY:MNSEA Tradeshow and Seminar
DESCRIPTION:Special Structures Series\n\n\n\nClick here for presentation materials.\n\n\n\nSession 1 - BEYOND TENTS\n\nFabric Structures for Buildings\n\n \n\nLack of access to knowledge has been a significant barrier for consultants and building owners who might wish to use fabric technology. David Bowick has spent much of the last decade trying to break down this barrier. This session will introduce the basics of working with fabric\, from structural forms to software\; from codes to detailing and contracts. The attendee should leave feeling inspired and empowered. Picture: Recreation Outdoor Center in St. Louis Park\, MN.\n\n\n\nSession 2 - GRID SHELL STRUCTURES    \n\non Freeform Surfaces\n\n\n\nArchitectural design continues to push the limits of the structural glazing industry. For engineers\, the support of complex glazing is a unique challenge which demands detailed design of geometric forms\, strict control of fabrication and erection tolerances\, and innovative solutions for structural analysis and connection design of structures that often are not addressed directly by building or design codes. This presentation focuses on the engineering design process of Freeform "grid shell" structures and the technologies that have been developed to solve the issues related to the support of glazing systems on complex structural forms.\n\n\n\nSession 3 - WIND TURBINE FOUNDATIONS\n\nStructural Design Principles and Practices\n\n\n\nWind turbine generators (WTG's) produced about 6% of United States electricity in 2017 and continue to be one of the leading sources of new electric generation built each year. Consequently\, more and more structural engineers will become involved with the design and evaluation of the support structures including towers and foundations. This session will discuss structural design principles and practices for the tower support foundation\, including the unique loads produced by the wind turbine\, design standards\, steps in the design process\, and construction sequence. Real project examples\, illustrations\, and photos will be used to help present the topic.\nTrade Show:\nSuppliers from many areas of the construction industry ranging from fabricators to providers of design tools will be available to update us on products and services. Suppliers will be happy to answer your questions and provide solutions for your every-day challenges.\n\nAgenda: MNSEA May Seminar Tradeshow\n\n\n	\n		\n			7:00 a.m.\n			Registration\, Start of Trade Show\, Breakfast\n			 \n			     10:00 a.m.       Session 2\n		\n		\n			7:40 a.m.\n			MNSEA General Meeting\n			 \n			     11:00 a.m.       Trade Show Wrap-up\, Snacks\n		\n		\n			8:10 a.m.\n			Trade Show Introductions\n			 \n			     11:45 a.m.       Session 3\n		\n		\n			8:30 a.m.\n			Session 1\n			 \n			     12:45 p.m.       Raffle and Prizes\n		\n		\n			9:30 a.m.\n			Trade Show Break\n			 \n			 \n		\n	\n\n\n\nClick here for the full event flyer.
X-ALT-DESC;FMTTYPE=text/html:<strong>Special Structures Series<br />\n<br />\n<a href="http://www.acecmn.org/pages/mnsea-seminar-and-tradeshow-presentation-materials"><span style="color:#0000FF\;"><u>Click here for presentation materials.</u></span></a></strong><br />\n<br />\n<strong>Session 1 - BEYOND TENTS</strong><br />\nFabric Structures for Buildings<br />\n&#8203\;<br />\nLack of access to knowledge has been a significant barrier for consultants and building owners who might wish to use fabric technology. David Bowick has spent much of the last decade trying to break down this barrier. This session will introduce the basics of working with fabric\, from structural forms to software\; from codes to detailing and contracts. The attendee should leave feeling inspired and empowered. Picture: Recreation Outdoor Center in St. Louis Park\, MN.<br />\n<br />\n<strong>Session 2</strong> <strong>- GRID SHELL STRUCTURES</strong>&nbsp\;&nbsp\;&nbsp\;&nbsp\;<br />\non Freeform Surfaces<br />\n<br />\nArchitectural design continues to push the limits of the structural glazing industry. For engineers\, the support of complex glazing is a unique challenge which demands detailed design of geometric forms\, strict control of fabrication and erection tolerances\, and innovative solutions for structural analysis and connection design of structures that often are not addressed directly by building or design codes. This presentation focuses on the engineering design process of Freeform &ldquo\;grid shell&rdquo\; structures and the technologies that have been developed to solve the issues related to the support of glazing systems on complex structural forms.<br />\n<br />\n<strong>Session 3 - WIND TURBINE FOUNDATIONS</strong><br />\nStructural Design Principles and Practices<br />\n<br />\nWind turbine generators (WTG&rsquo\;s) produced about 6% of United States electricity in 2017 and continue to be one of the leading sources of new electric generation built each year. Consequently\, more and more structural engineers will become involved with the design and evaluation of the support structures including towers and foundations. This session will discuss structural design principles and practices for the tower support foundation\, including the unique loads produced by the wind turbine\, design standards\, steps in the design process\, and construction sequence. Real project examples\, illustrations\, and photos will be used to help present the topic.\n<h2 style="margin-top:12.0pt\;margin-right:0in\;margin-bottom:0in\;margin-left:9.35pt\;margin-bottom:.0001pt\;text-indent:-9.35pt\;line-height:normal\;"><span style="font-size: 16.6667px\;">Trade Show</span>:</h2>\nSuppliers from many areas of the construction industry ranging from fabricators to providers of design tools will be available to update us on products and services. Suppliers will be happy to answer your questions and provide solutions for your every-day challenges.\n\n<h2 style="margin-top:12.0pt\;margin-right:0in\;margin-bottom:0in\;margin-left:0in\;margin-bottom:.0001pt\;text-indent:0in\;line-height:normal\;"><span style="font-size: 16.6667px\;">Agenda: MNSEA&nbsp\;May Seminar Tradeshow</span></h2>\n\n<table border="0" cellpadding="0" cellspacing="0" style="width:619px\;margin-left:6.95pt\;border-collapse:collapse\;" width="619">\n	<tbody>\n		<tr style="height:14px\;">\n			<td style="width:60px\;padding:0in 0in 0in 0in\;height:14px\;vertical-align:top\;">7:00 a.m.</td>\n			<td style="width:277px\;padding:0in 0in 0in 0in\;height:14px\;vertical-align:top\;">Registration\, Start of Trade Show\, Breakfast</td>\n			<td style="width:1px\;padding:0in 0in 0in 0in\;height:14px\;vertical-align:top\;">&nbsp\;</td>\n			<td style="width:281px\;padding:0in 0in 0in 0in\;height:14px\;vertical-align:top\;">&nbsp\;&nbsp\;&nbsp\;&nbsp\; 10:00 a.m.&nbsp\;&nbsp\;&nbsp\;&nbsp\;&nbsp\;&nbsp\; Session 2</td>\n		</tr>\n		<tr style="height:14px\;">\n			<td style="width:60px\;padding:0in 0in 0in 0in\;height:14px\;vertical-align:top\;">7:40 a.m.</td>\n			<td style="width:277px\;padding:0in 0in 0in 0in\;height:14px\;vertical-align:top\;">MNSEA General Meeting</td>\n			<td style="width:1px\;padding:0in 0in 0in 0in\;height:14px\;vertical-align:top\;">&nbsp\;</td>\n			<td style="width:281px\;padding:0in 0in 0in 0in\;height:14px\;vertical-align:top\;">&nbsp\;&nbsp\;&nbsp\;&nbsp\; 11:00 a.m.&nbsp\;&nbsp\;&nbsp\;&nbsp\;&nbsp\;&nbsp\; Trade Show Wrap-up\, Snacks</td>\n		</tr>\n		<tr style="height:15px\;">\n			<td style="width:60px\;padding:0in 0in 0in 0in\;height:15px\;vertical-align:top\;">8:10 a.m.</td>\n			<td style="width:277px\;padding:0in 0in 0in 0in\;height:15px\;vertical-align:top\;">Trade Show Introductions</td>\n			<td style="width:1px\;padding:0in 0in 0in 0in\;height:15px\;vertical-align:top\;">&nbsp\;</td>\n			<td style="width:281px\;padding:0in 0in 0in 0in\;height:15px\;vertical-align:top\;">&nbsp\;&nbsp\;&nbsp\;&nbsp\; 11:45 a.m.&nbsp\;&nbsp\;&nbsp\;&nbsp\;&nbsp\;&nbsp\; Session 3</td>\n		</tr>\n		<tr style="height:15px\;">\n			<td style="width:60px\;padding:0in 0in 0in 0in\;height:15px\;vertical-align:top\;">8:30 a.m.</td>\n			<td style="width:277px\;padding:0in 0in 0in 0in\;height:15px\;vertical-align:top\;">Session 1</td>\n			<td style="width:1px\;padding:0in 0in 0in 0in\;height:15px\;vertical-align:top\;">&nbsp\;</td>\n			<td style="width:281px\;padding:0in 0in 0in 0in\;height:15px\;vertical-align:top\;">&nbsp\;&nbsp\;&nbsp\;&nbsp\; 12:45 p.m.&nbsp\;&nbsp\;&nbsp\;&nbsp\;&nbsp\;&nbsp\; Raffle and Prizes</td>\n		</tr>\n		<tr style="height:18px\;">\n			<td style="width:60px\;padding:0in 0in 0in 0in\;height:18px\;vertical-align:top\;">9:30 a.m.</td>\n			<td style="width:277px\;padding:0in 0in 0in 0in\;height:18px\;vertical-align:top\;">Trade Show Break</td>\n			<td style="width:1px\;padding:0in 0in 0in 0in\;height:18px\;vertical-align:top\;">&nbsp\;</td>\n			<td style="width:281px\;padding:0in 0in 0in 0in\;height:18px\;vertical-align:top\;">&nbsp\;</td>\n		</tr>\n	</tbody>\n</table>\n<br />\n<a href="https://3989ac5bcbe1edfc864a-0a7f10f87519dba22d2dbc6233a731e5.ssl.cf2.rackcdn.com/acecmn/2018_MNSEA_May_Seminar_Flyer_-_Special_Structures_Series.pdf">Click here for the full event flyer.</a><br />\n<br />\n&nbsp\;
LOCATION:Marriott Minneapolis West / 9960 Wayzata Blvd\, MN Minnetonka / 952.544.4400 (Located on the north frontage road of I-394 between Hwy 169 & Hopkins Crossroad directly across from the ACEC/MN office)
UID:e.9128.1269
SEQUENCE:3
DTSTAMP:20260420T193520Z
URL:http://cecm.memberzone.com/events/details/mnsea-tradeshow-and-seminar-1269
END:VEVENT

END:VCALENDAR
